Workbook

Sheet Origine
B2: GG1 | C2: 45693
B3: Comune | C3: Civitavecchia
B4: Sezione | C4: Calata Principe Tommaso
B5: Dir. AB | C5: Nord | H5: =SUM(H9:H464)/SUM($G$9:$G$464) -> 0.89415544 | I5: =SUM(I9:I440)/SUM($G$9:$G$464) -> 0.10584456
B6: Dir. BA | C6: Sud | H6: =SUM(H441:H896)/SUM($G$465:$G$896) -> 0.9267066 | I6: =SUM(I441:I776)/SUM($G$465:$G$896) -> 0.055141512
B8: Data | C8: Sezione | D8: Direzione | E8: Ora_Da | F8: Ora_A | G8: Vol_Totale | H8: L1 | I8: L2
A9: =WEEKDAY(B9) -> 4 | B9: 45693 | C9: 'Calata Principe Tommaso | D9: Nord | E9: 0 | F9: 0.041666667 | G9: 0 | H9: 0 | I9: 0
A10: =WEEKDAY(B10) -> 4 | B10: 45693 | C10: 'Calata Principe Tommaso | D10: Nord | E10: 0.041666667 | F10: 0.083333333 | G10: 0 | H10: 0 | I10: 0
A11: =WEEKDAY(B11) -> 4 | B11: 45693 | C11: 'Calata Principe Tommaso | D11: Nord | E11: 0.083333333 | F11: 0.125 | G11: 0 | H11: 0 | I11: 0
A12: =WEEKDAY(B12) -> 4 | B12: 45693 | C12: 'Calata Principe Tommaso | D12: Nord | E12: 0.125 | F12: 0.16666667 | G12: 0 | H12: 0 | I12: 0
A13: =WEEKDAY(B13) -> 4 | B13: 45693 | C13: 'Calata Principe Tommaso | D13: Nord | E13: 0.16666667 | F13: 0.20833333 | G13: 0 | H13: 0 | I13: 0
A14: =WEEKDAY(B14) -> 4 | B14: 45693 | C14: 'Calata Principe Tommaso | D14: Nord | E14: 0.20833333 | F14: 0.25 | G14: 0 | H14: 0 | I14: 0
A15: =WEEKDAY(B15) -> 4 | B15: 45693 | C15: 'Calata Principe Tommaso | D15: Nord | E15: 0.25 | F15: 0.29166667 | G15: 0 | H15: 0 | I15: 0
A16: =WEEKDAY(B16) -> 4 | B16: 45693 | C16: 'Calata Principe Tommaso | D16: Nord | E16: 0.29166667 | F16: 0.33333333 | G16: 0 | H16: 0 | I16: 0
A17: =WEEKDAY(B17) -> 4 | B17: 45693 | C17: 'Calata Principe Tommaso | D17: Nord | E17: 0.33333333 | F17: 0.375 | G17: 0 | H17: 0 | I17: 0
A18: =WEEKDAY(B18) -> 4 | B18: 45693 | C18: 'Calata Principe Tommaso | D18: Nord | E18: 0.375 | F18: 0.41666667 | G18: =H18+I18 -> 37 | H18: 33 | I18: 4
A19: =WEEKDAY(B19) -> 4 | B19: 45693 | C19: 'Calata Principe Tommaso | D19: Nord | E19: 0.41666667 | F19: 0.45833333 | G19: =H19+I19 -> 55 | H19: 52 | I19: 3
A20: =WEEKDAY(B20) -> 4 | B20: 45693 | C20: 'Calata Principe Tommaso | D20: Nord | E20: 0.45833333 | F20: 0.5 | G20: =H20+I20 -> 62 | H20: 52 | I20: 10
A21: =WEEKDAY(B21) -> 4 | B21: 45693 | C21: 'Calata Principe Tommaso | D21: Nord | E21: 0.5 | F21: 0.54166667 | G21: =H21+I21 -> 81 | H21: 75 | I21: 6
A22: =WEEKDAY(B22) -> 4 | B22: 45693 | C22: 'Calata Principe Tommaso | D22: Nord | E22: 0.54166667 | F22: 0.58333333 | G22: =H22+I22 -> 65 | H22: 57 | I22: 8
A23: =WEEKDAY(B23) -> 4 | B23: 45693 | C23: 'Calata Principe Tommaso | D23: Nord | E23: 0.58333333 | F23: 0.625 | G23: =H23+I23 -> 58 | H23: 52 | I23: 6
A24: =WEEKDAY(B24) -> 4 | B24: 45693 | C24: 'Calata Principe Tommaso | D24: Nord | E24: 0.625 | F24: 0.66666667 | G24: =H24+I24 -> 62 | H24: 56 | I24: 6
A25: =WEEKDAY(B25) -> 4 | B25: 45693 | C25: 'Calata Principe Tommaso | D25: Nord | E25: 0.66666667 | F25: 0.70833333 | G25: =H25+I25 -> 69 | H25: 64 | I25: 5
A26: =WEEKDAY(B26) -> 4 | B26: 45693 | C26: 'Calata Principe Tommaso | D26: Nord | E26: 0.70833333 | F26: 0.75 | G26: =H26+I26 -> 51 | H26: 47 | I26: 4
A27: =WEEKDAY(B27) -> 4 | B27: 45693 | C27: 'Calata Principe Tommaso | D27: Nord | E27: 0.75 | F27: 0.79166667 | G27: =H27+I27 -> 39 | H27: 35 | I27: 4
A28: =WEEKDAY(B28) -> 4 | B28: 45693 | C28: 'Calata Principe Tommaso | D28: Nord | E28: 0.79166667 | F28: 0.83333333 | G28: =H28+I28 -> 26 | H28: 22 | I28: 4
A29: =WEEKDAY(B29) -> 4 | B29: 45693 | C29: 'Calata Principe Tommaso | D29: Nord | E29: 0.83333333 | F29: 0.875 | G29: =H29+I29 -> 12 | H29: 10 | I29: 2
... A416: =WEEKDAY(B416) -> 6 | B416: 45709 | C416: 'Calata Principe Tommaso | D416: Nord | E416: 0.95833333 | F416: 0 | G416: =H416+I416 -> 0 | H416: 0 | I416: 0
A417: =WEEKDAY(B417) -> 7 | B417: 45710 | C417: 'Calata Principe Tommaso
A418: =WEEKDAY(B418) -> 7 | B418: 45710 | C418: 'Calata Principe Tommaso
A419: =WEEKDAY(B419) -> 7 | B419: 45710 | C419: 'Calata Principe Tommaso
A420: =WEEKDAY(B420) -> 7 | B420: 45710 | C420: 'Calata Principe Tommaso
A421: =WEEKDAY(B421) -> 7 | B421: 45710 | C421: 'Calata Principe Tommaso
A422: =WEEKDAY(B422) -> 7 | B422: 45710 | C422: 'Calata Principe Tommaso
A423: =WEEKDAY(B423) -> 7 | B423: 45710 | C423: 'Calata Principe Tommaso
A424: =WEEKDAY(B424) -> 7 | B424: 45710 | C424: 'Calata Principe Tommaso
A425: =WEEKDAY(B425) -> 7 | B425: 45710 | C425: 'Calata Principe Tommaso
A426: =WEEKDAY(B426) -> 7 | B426: 45710 | C426: 'Calata Principe Tommaso
A427: =WEEKDAY(B427) -> 7 | B427: 45710 | C427: 'Calata Principe Tommaso
A428: =WEEKDAY(B428) -> 7 | B428: 45710 | C428: 'Calata Principe Tommaso
... A440: =WEEKDAY(B440) -> 7 | B440: 45710 | C440: 'Calata Principe Tommaso
A465: =WEEKDAY(B465) -> 4 | B465: 45693 | C465: 'Calata Principe Tommaso | D465: Sud | E465: 0 | F465: 0.041666667
A466: =WEEKDAY(B466) -> 4 | B466: 45693 | C466: 'Calata Principe Tommaso | D466: Sud | E466: 0.041666667 | F466: 0.083333333
A467: =WEEKDAY(B467) -> 4 | B467: 45693 | C467: 'Calata Principe Tommaso | D467: Sud | E467: 0.083333333 | F467: 0.125
A468: =WEEKDAY(B468) -> 4 | B468: 45693 | C468: 'Calata Principe Tommaso | D468: Sud | E468: 0.125 | F468: 0.16666667
A469: =WEEKDAY(B469) -> 4 | B469: 45693 | C469: 'Calata Principe Tommaso | D469: Sud | E469: 0.16666667 | F469: 0.20833333
A470: =WEEKDAY(B470) -> 4 | B470: 45693 | C470: 'Calata Principe Tommaso | D470: Sud | E470: 0.20833333 | F470: 0.25
A471: =WEEKDAY(B471) -> 4 | B471: 45693 | C471: 'Calata Principe Tommaso | D471: Sud | E471: 0.25 | F471: 0.29166667
A472: =WEEKDAY(B472) -> 4 | B472: 45693 | C472: 'Calata Principe Tommaso | D472: Sud | E472: 0.29166667 | F472: 0.33333333
A473: =WEEKDAY(B473) -> 4 | B473: 45693 | C473: 'Calata Principe Tommaso | D473: Sud | E473: 0.33333333 | F473: 0.375
A474: =WEEKDAY(B474) -> 4 | B474: 45693 | C474: 'Calata Principe Tommaso | D474: Sud | E474: 0.375 | F474: 0.41666667 | G474: =H474+I474 -> 31 | H474: 29 | I474: 2
A475: =WEEKDAY(B475) -> 4 | B475: 45693 | C475: 'Calata Principe Tommaso | D475: Sud | E475: 0.41666667 | F475: 0.45833333 | G475: =H475+I475 -> 18 | H475: 15 | I475: 3
A476: =WEEKDAY(B476) -> 4 | B476: 45693 | C476: 'Calata Principe Tommaso | D476: Sud | E476: 0.45833333 | F476: 0.5 | G476: =H476+I476 -> 49 | H476: 44 | I476: 5
A477: =WEEKDAY(B477) -> 4 | B477: 45693 | C477: 'Calata Principe Tommaso | D477: Sud | E477: 0.5 | F477: 0.54166667 | G477: =H477+I477 -> 212 | H477: 204 | I477: 8
A478: =WEEKDAY(B478) -> 4 | B478: 45693 | C478: 'Calata Principe Tommaso | D478: Sud | E478: 0.54166667 | F478: 0.58333333 | G478: =H478+I478 -> 137 | H478: 131 | I478: 6
A479: =WEEKDAY(B479) -> 4 | B479: 45693 | C479: 'Calata Principe Tommaso | D479: Sud | E479: 0.58333333 | F479: 0.625 | G479: =H479+I479 -> 34 | H479: 29 | I479: 5
A480: =WEEKDAY(B480) -> 4 | B480: 45693 | C480: 'Calata Principe Tommaso | D480: Sud | E480: 0.625 | F480: 0.66666667 | G480: =H480+I480 -> 75 | H480: 73 | I480: 2
A481: =WEEKDAY(B481) -> 4 | B481: 45693 | C481: 'Calata Principe Tommaso | D481: Sud | E481: 0.66666667 | F481: 0.70833333 | G481: =H481+I481 -> 61 | H481: 58 | I481: 3
A482: =WEEKDAY(B482) -> 4 | B482: 45693 | C482: 'Calata Principe Tommaso | D482: Sud | E482: 0.70833333 | F482: 0.75 | G482: =H482+I482 -> 106 | H482: 102 | I482: 4
A483: =WEEKDAY(B483) -> 4 | B483: 45693 | C483: 'Calata Principe Tommaso | D483: Sud | E483: 0.75 | F483: 0.79166667 | G483: =H483+I483 -> 81 | H483: 73 | I483: 8
A484: =WEEKDAY(B484) -> 4 | B484: 45693 | C484: 'Calata Principe Tommaso | D484: Sud | E484: 0.79166667 | F484: 0.83333333 | G484: =H484+I484 -> 33 | H484: 29 | I484: 4
A485: =WEEKDAY(B485) -> 4 | B485: 45693 | C485: 'Calata Principe Tommaso | D485: Sud | E485: 0.83333333 | F485: 0.875 | G485: =H485+I485 -> 4 | H485: 0 | I485: 4
... A896: =WEEKDAY(B896) -> 7 | B896: 45710 | C896: 'Calata Principe Tommaso | D896: Sud | E896: 0.95833333 | F896: 0 | G896: =H896+I896 -> 0 | H896: 0 | I896: 0

Sheet Confronto
C2: =+Origine!C5 -> Nord | G2: =+Origine!C6 -> Sud
C3: L1 | D3: L2 | E3: Tot | G3: L1 | H3: L2 | I3: Tot
A4: 1 | B4: =+'GG1'!$L$4 -> 45693 | C4: =+'GG1'!$E$35 -> 575 | D4: =+'GG1'!$F$35 -> 65 | E4: =+SUM(C4:D4) -> 640 | G4: =+'GG1'!$M$35 -> 861 | H4: =+'GG1'!$N$35 -> 60 | I4: =+SUM(G4:H4) -> 921
A5: =+A4+1 -> 2 | B5: =+'GG2'!$L$4 -> 45694 | C5: =+'GG2'!$E$35 -> 936 | D5: =+'GG2'!$F$35 -> 71 | E5: =+SUM(C5:D5) -> 1007 | G5: =+'GG2'!$M$35 -> 1227 | H5: =+'GG2'!$N$35 -> 90 | I5: =+SUM(G5:H5) -> 1317
A6: =+A5+1 -> 3 | B6: =+'GG3'!$L$4 -> 45695 | C6: =+'GG3'!$E$35 -> 1348 | D6: =+'GG3'!$F$35 -> 201 | E6: =+SUM(C6:D6) -> 1549 | G6: =+'GG3'!$M$35 -> 1647 | H6: =+'GG3'!$N$35 -> 141 | I6: =+SUM(G6:H6) -> 1788
A7: =+A6+1 -> 4 | B7: =+'GG4'!$L$4 -> 45696 | C7: =+'GG4'!$E$35 -> 545 | D7: =+'GG4'!$F$35 -> 50 | E7: =+SUM(C7:D7) -> 595 | G7: =+'GG4'!$M$35 -> 717 | H7: =+'GG4'!$N$35 -> 38 | I7: =+SUM(G7:H7) -> 755
A8: =+A7+1 -> 5 | B8: =+'GG5'!$L$4 -> 45697 | C8: =+'GG5'!$E$35 -> 407 | D8: =+'GG5'!$F$35 -> 37 | E8: =+SUM(C8:D8) -> 444 | G8: =+'GG5'!$M$35 -> 528 | H8: =+'GG5'!$N$35 -> 24 | I8: =+SUM(G8:H8) -> 552
A9: =+A8+1 -> 6 | B9: =+'GG6'!$L$4 -> 45698 | C9: =+'GG6'!$E$35 -> 1459 | D9: =+'GG6'!$F$35 -> 226 | E9: =+SUM(C9:D9) -> 1685 | G9: =+'GG6'!$M$35 -> 1938 | H9: =+'GG6'!$N$35 -> 138 | I9: =+SUM(G9:H9) -> 2076
A10: =+A9+1 -> 7 | B10: =+'GG7'!$L$4 -> 45699 | C10: =+'GG7'!$E$35 -> 1121 | D10: =+'GG7'!$F$35 -> 151 | E10: =+SUM(C10:D10) -> 1272 | G10: =+'GG7'!$M$35 -> 1517 | H10: =+'GG7'!$N$35 -> 115 | I10: =+SUM(G10:H10) -> 1632
A11: =+A10+1 -> 8 | B11: =+'GG8'!$L$4 -> 45700 | C11: =+'GG8'!$E$35 -> 967 | D11: =+'GG8'!$F$35 -> 98 | E11: =+SUM(C11:D11) -> 1065 | G11: =+'GG8'!$M$35 -> 1166 | H11: =+'GG8'!$N$35 -> 110 | I11: =+SUM(G11:H11) -> 1276
A12: =+A11+1 -> 9 | B12: =+'GG9'!$L$4 -> 45701 | C12: =+'GG9'!$E$35 -> 1312 | D12: =+'GG9'!$F$35 -> 153 | E12: =+SUM(C12:D12) -> 1465 | G12: =+'GG9'!$M$35 -> 2096 | H12: =+'GG9'!$N$35 -> 118 | I12: =+SUM(G12:H12) -> 2214
A13: =+A12+1 -> 10 | B13: =+'GG10'!$L$4 -> 45702 | C13: =+'GG10'!$E$35 -> 954 | D13: =+'GG10'!$F$35 -> 86 | E13: =+SUM(C13:D13) -> 1040 | G13: =+'GG10'!$M$35 -> 1094 | H13: =+'GG10'!$N$35 -> 88 | I13: =+SUM(G13:H13) -> 1182
A14: =+A13+1 -> 11 | B14: =+'GG11'!$L$4 -> 45703 | C14: =+'GG11'!$E$35 -> 680 | D14: =+'GG11'!$F$35 -> 112 | E14: =+SUM(C14:D14) -> 792 | G14: =+'GG11'!$M$35 -> 703 | H14: =+'GG11'!$N$35 -> 90 | I14: =+SUM(G14:H14) -> 793
A15: =+A14+1 -> 12 | B15: =+'GG12'!$L$4 -> 45704 | C15: =+'GG12'!$E$35 -> 413 | D15: =+'GG12'!$F$35 -> 47 | E15: =+SUM(C15:D15) -> 460 | G15: =+'GG12'!$M$35 -> 294 | H15: =+'GG12'!$N$35 -> 44 | I15: =+SUM(G15:H15) -> 338
A16: =+A15+1 -> 13 | B16: =+'GG13'!$L$4 -> 45705 | C16: =+'GG13'!$E$35 -> 1362 | D16: =+'GG13'!$F$35 -> 201 | E16: =+SUM(C16:D16) -> 1563 | G16: =+'GG13'!$M$35 -> 1787 | H16: =+'GG13'!$N$35 -> 150 | I16: =+SUM(G16:H16) -> 1937
A17: =+A16+1 -> 14 | B17: =+'GG14'!$L$4 -> 45706 | C17: =+'GG14'!$E$35 -> 1208 | D17: =+'GG14'!$F$35 -> 139 | E17: =+SUM(C17:D17) -> 1347 | G17: =+'GG14'!$M$35 -> 1412 | H17: =+'GG14'!$N$35 -> 137 | I17: =+SUM(G17:H17) -> 1549
A18: =+A17+1 -> 15 | B18: =+'GG15'!$L$4 -> 45707 | C18: =+'GG15'!$E$35 -> 1034 | D18: =+'GG15'!$F$35 -> 81 | E18: =+SUM(C18:D18) -> 1115 | G18: =+'GG15'!$M$35 -> 1225 | H18: =+'GG15'!$N$35 -> 106 | I18: =+SUM(G18:H18) -> 1331
A19: =+A18+1 -> 16 | B19: =+'GG16'!$L$4 -> 45708 | C19: =+'GG16'!$E$35 -> 985 | D19: =+'GG16'!$F$35 -> 91 | E19: =+SUM(C19:D19) -> 1076 | G19: =+'GG16'!$M$35 -> 1371 | H19: =+'GG16'!$N$35 -> 102 | I19: =+SUM(G19:H19) -> 1473
A20: =+A19+1 -> 17 | B20: =+#REF! -> #REF! | C20: =+#REF! -> #REF! | D20: =+#REF! -> #REF! | E20: =+SUM(C20:D20) -> #REF! | G20: =+#REF! -> #REF! | H20: =+#REF! -> #REF! | I20: =+SUM(G20:H20) -> #REF!
C22: =+SUM(C4:C20) -> #REF! | D22: =+SUM(D4:D20) -> #REF! | E22: =+SUM(E4:E20) -> #REF! | G22: =+SUM(G4:G20) -> #REF! | H22: =+SUM(H4:H20) -> #REF! | I22: =+SUM(I4:I20) -> #REF!
B24: =+'GG1'!$L$4 -> 45693 | C24: =+C4/$E4 -> 0.8984375 | D24: =+D4/$E4 -> 0.1015625 | E24: =+C24+D24 -> 1 | G24: =+G4/$I4 -> 0.93485342 | H24: =+H4/$I4 -> 0.06514658 | I24: =+G24+H24 -> 1
B25: =+'GG2'!$L$4 -> 45694 | C25: =+C5/$E5 -> 0.92949355 | D25: =+D5/$E5 -> 0.070506455 | E25: =+C25+D25 -> 1 | G25: =+G5/$I5 -> 0.93166287 | H25: =+H5/$I5 -> 0.06833713 | I25: =+G25+H25 -> 1
B26: =+'GG3'!$L$4 -> 45695 | C26: =+C6/$E6 -> 0.87023886 | D26: =+D6/$E6 -> 0.12976114 | E26: =+C26+D26 -> 1 | G26: =+G6/$I6 -> 0.92114094 | H26: =+H6/$I6 -> 0.07885906 | I26: =+G26+H26 -> 1
B27: =+'GG4'!$L$4 -> 45696 | C27: =+C7/$E7 -> 0.91596639 | D27: =+D7/$E7 -> 0.084033613 | E27: =+C27+D27 -> 1 | G27: =+G7/$I7 -> 0.94966887 | H27: =+H7/$I7 -> 0.050331126 | I27: =+G27+H27 -> 1
B28: =+'GG5'!$L$4 -> 45697 | C28: =+C8/$E8 -> 0.91666667 | D28: =+D8/$E8 -> 0.083333333 | E28: =+C28+D28 -> 1 | G28: =+G8/$I8 -> 0.95652174 | H28: =+H8/$I8 -> 0.043478261 | I28: =+G28+H28 -> 1
B29: =+'GG6'!$L$4 -> 45698 | C29: =+C9/$E9 -> 0.86587537 | D29: =+D9/$E9 -> 0.13412463 | E29: =+C29+D29 -> 1 | G29: =+G9/$I9 -> 0.93352601 | H29: =+H9/$I9 -> 0.066473988 | I29: =+G29+H29 -> 1
B30: =+'GG7'!$L$4 -> 45699 | C30: =+C10/$E10 -> 0.88128931 | D30: =+D10/$E10 -> 0.11871069 | E30: =+C30+D30 -> 1 | G30: =+G10/$I10 -> 0.92953431 | H30: =+H10/$I10 -> 0.070465686 | I30: =+G30+H30 -> 1
B31: =+'GG8'!$L$4 -> 45700 | C31: =+C11/$E11 -> 0.90798122 | D31: =+D11/$E11 -> 0.092018779 | E31: =+C31+D31 -> 1 | G31: =+G11/$I11 -> 0.9137931 | H31: =+H11/$I11 -> 0.086206897 | I31: =+G31+H31 -> 1
B32: =+'GG9'!$L$4 -> 45701 | C32: =+C12/$E12 -> 0.89556314 | D32: =+D12/$E12 -> 0.10443686 | E32: =+C32+D32 -> 1 | G32: =+G12/$I12 -> 0.9467028 | H32: =+H12/$I12 -> 0.0532972 | I32: =+G32+H32 -> 1
B33: =+'GG10'!$L$4 -> 45702 | C33: =+C13/$E13 -> 0.91730769 | D33: =+D13/$E13 -> 0.082692308 | E33: =+C33+D33 -> 1 | G33: =+G13/$I13 -> 0.92554992 | H33: =+H13/$I13 -> 0.074450085 | I33: =+G33+H33 -> 1
B34: =+'GG11'!$L$4 -> 45703 | C34: =+C14/$E14 -> 0.85858586 | D34: =+D14/$E14 -> 0.14141414 | E34: =+C34+D34 -> 1 | G34: =+G14/$I14 -> 0.88650694 | H34: =+H14/$I14 -> 0.11349306 | I34: =+G34+H34 -> 1
B35: =+'GG12'!$L$4 -> 45704 | C35: =+C15/$E15 -> 0.89782609 | D35: =+D15/$E15 -> 0.10217391 | E35: =+C35+D35 -> 1 | G35: =+G15/$I15 -> 0.86982249 | H35: =+H15/$I15 -> 0.13017751 | I35: =+G35+H35 -> 1
B36: =+'GG13'!$L$4 -> 45705 | C36: =+C16/$E16 -> 0.87140115 | D36: =+D16/$E16 -> 0.12859885 | E36: =+C36+D36 -> 1 | G36: =+G16/$I16 -> 0.92256066 | H36: =+H16/$I16 -> 0.077439339 | I36: =+G36+H36 -> 1
B37: =+'GG14'!$L$4 -> 45706 | C37: =+C17/$E17 -> 0.89680772 | D37: =+D17/$E17 -> 0.10319228 | E37: =+C37+D37 -> 1 | G37: =+G17/$I17 -> 0.91155584 | H37: =+H17/$I17 -> 0.088444158 | I37: =+G37+H37 -> 1
B38: =+'GG15'!$L$4 -> 45707 | C38: =+C18/$E18 -> 0.92735426 | D38: =+D18/$E18 -> 0.07264574 | E38: =+C38+D38 -> 1 | G38: =+G18/$I18 -> 0.92036063 | H38: =+H18/$I18 -> 0.079639369 | I38: =+G38+H38 -> 1
B39: =+'GG16'!$L$4 -> 45708 | C39: =+C19/$E19 -> 0.91542751 | D39: =+D19/$E19 -> 0.084572491 | E39: =+C39+D39 -> 1 | G39: =+G19/$I19 -> 0.93075356 | H39: =+H19/$I19 -> 0.069246436 | I39: =+G39+H39 -> 1

Sheet GG1
B1: =+CONCATENATE("Comune di ",Origine!C3) -> Comune di Civitavecchia
B2: Monitoraggio del traffico
C4: Sezione: | D4: =+Origine!C4 -> Calata Principe Tommaso | K4: Data: | L4: =+Origine!B9 -> 45693
C7: =CONCATENATE("Direzione: ",Origine!D9) -> Direzione: Nord | K7: =CONCATENATE("Direzione: ",Origine!D465) -> Direzione: Sud
C9: Intervallo orario | E9: Volumi | G9: Totale | K9: Intervallo orario | M9: Volumi | O9: Totale | R9: =C7 -> Direzione: Nord | V9: =K7 -> Direzione: Sud
E10: Leggeri | F10: Pesanti | M10: Leggeri | N10: Pesanti | R10: Totale Veicoli | S10: HH | T10: Classe 1 | U10: Classe 2 | V10: Totale Veicoli | W10: HH | X10: Classe 1 | Y10: Classe 2 | AA10: Am | AB10: =MAX(R11:R23) -> 81 | AC10: =VLOOKUP(AB10,R11:S23,2,FALSE) -> 0.5 | AD10: =AC10+S12 -> 0.54166667 | AE10: =HOUR(AC10) -> 12 | AF10: =HOUR(AD10) -> 13 | AG10: Am | AH10: =MAX(V11:V23) -> 212 | AI10: =VLOOKUP(AH10,V11:W23,2,FALSE) -> 0.5 | AJ10: =AI10+W12 -> 0.54166667 | AK10: =HOUR(AI10) -> 12 | AL10: =HOUR(AJ10) -> 13
C11: 0.00 - 1.00 | E11: =Origine!H9 -> 0 | F11: =Origine!I9 -> 0 | G11: =SUM(E11:F11) -> 0 | K11: 0.00 - 1.00 | M11: =Origine!H465 -> 0 | N11: =Origine!I465 -> 0 | O11: =SUM(M11:N11) -> 0 | R11: =G11 -> 0 | S11: 0 | T11: =E11 -> 0 | U11: =F11 -> 0 | V11: =O11 -> 0 | W11: 0 | X11: =M11 -> 0 | Y11: =N11 -> 0 | AA11: Peak | AB11: =VLOOKUP($AC$10,$S$11:$U$34,2,FALSE) -> 75 | AC11: =VLOOKUP($AC$10,$S$11:$U$34,3,FALSE) -> 6 | AG11: Peak | AH11: =VLOOKUP($AI$10,$W$11:$Y$34,2,FALSE) -> 204 | AI11: =VLOOKUP($AI$10,$W$11:$Y$34,3,FALSE) -> 8
C12: 1.00 - 2.00 | E12: =Origine!H10 -> 0 | F12: =Origine!I10 -> 0 | G12: =SUM(E12:F12) -> 0 | K12: 1.00 - 2.00 | M12: =Origine!H466 -> 0 | N12: =Origine!I466 -> 0 | O12: =SUM(M12:N12) -> 0 | R12: =G12 -> 0 | S12: 0.041666667 | T12: =E12 -> 0 | U12: =F12 -> 0 | V12: =O12 -> 0 | W12: 0.041666667 | X12: =M12 -> 0 | Y12: =N12 -> 0
C13: 2.00 - 3.00 | E13: =Origine!H11 -> 0 | F13: =Origine!I11 -> 0 | G13: =SUM(E13:F13) -> 0 | K13: 2.00 - 3.00 | M13: =Origine!H467 -> 0 | N13: =Origine!I467 -> 0 | O13: =SUM(M13:N13) -> 0 | R13: =G13 -> 0 | S13: 0.083333333 | T13: =E13 -> 0 | U13: =F13 -> 0 | V13: =O13 -> 0 | W13: 0.083333333 | X13: =M13 -> 0 | Y13: =N13 -> 0 | AA13: Pm | AB13: =MAX(R24:R34) -> 69 | AC13: =VLOOKUP(AB13,R24:S34,2,FALSE) -> 0.66666667 | AD13: =AC13+S12 -> 0.70833333 | AE13: =HOUR(AC13) -> 16 | AF13: =HOUR(AD13) -> 17 | AG13: Pm | AH13: =MAX(V24:V34) -> 137 | AI13: =VLOOKUP(AH13,V24:W34,2,FALSE) -> 0.54166667 | AJ13: =AI13+W12 -> 0.58333333 | AK13: =HOUR(AI13) -> 13 | AL13: =HOUR(AJ13) -> 14
C14: 3.00 - 4.00 | E14: =Origine!H12 -> 0 | F14: =Origine!I12 -> 0 | G14: =SUM(E14:F14) -> 0 | K14: 3.00 - 4.00 | M14: =Origine!H468 -> 0 | N14: =Origine!I468 -> 0 | O14: =SUM(M14:N14) -> 0 | R14: =G14 -> 0 | S14: 0.125 | T14: =E14 -> 0 | U14: =F14 -> 0 | V14: =O14 -> 0 | W14: 0.125 | X14: =M14 -> 0 | Y14: =N14 -> 0 | AA14: Peak | AB14: =VLOOKUP($AC$13,$S$11:$U$34,2,FALSE) -> 64 | AC14: =VLOOKUP($AC$13,$S$11:$U$34,3,FALSE) -> 5 | AG14: Peak | AH14: =VLOOKUP($AI$13,$W$11:$Y$34,2,FALSE) -> 131 | AI14: =VLOOKUP($AI$13,$W$11:$Y$34,3,FALSE) -> 6
C15: 4.00 - 5.00 | E15: =Origine!H13 -> 0 | F15: =Origine!I13 -> 0 | G15: =SUM(E15:F15) -> 0 | K15: 4.00 - 5.00 | M15: =Origine!H469 -> 0 | N15: =Origine!I469 -> 0 | O15: =SUM(M15:N15) -> 0 | R15: =G15 -> 0 | S15: 0.16666667 | T15: =E15 -> 0 | U15: =F15 -> 0 | V15: =O15 -> 0 | W15: 0.16666667 | X15: =M15 -> 0 | Y15: =N15 -> 0
C16: 5.00 - 6.00 | E16: =Origine!H14 -> 0 | F16: =Origine!I14 -> 0 | G16: =SUM(E16:F16) -> 0 | K16: 5.00 - 6.00 | M16: =Origine!H470 -> 0 | N16: =Origine!I470 -> 0 | O16: =SUM(M16:N16) -> 0 | R16: =G16 -> 0 | S16: 0.20833333 | T16: =E16 -> 0 | U16: =F16 -> 0 | V16: =O16 -> 0 | W16: 0.20833333 | X16: =M16 -> 0 | Y16: =N16 -> 0
C17: 6.00 - 7.00 | E17: =Origine!H15 -> 0 | F17: =Origine!I15 -> 0 | G17: =SUM(E17:F17) -> 0 | K17: 6.00 - 7.00 | M17: =Origine!H471 -> 0 | N17: =Origine!I471 -> 0 | O17: =SUM(M17:N17) -> 0 | R17: =G17 -> 0 | S17: 0.25 | T17: =E17 -> 0 | U17: =F17 -> 0 | V17: =O17 -> 0 | W17: 0.25 | X17: =M17 -> 0 | Y17: =N17 -> 0
C18: 7.00 - 8.00 | E18: =Origine!H16 -> 0 | F18: =Origine!I16 -> 0 | G18: =SUM(E18:F18) -> 0 | K18: 7.00 - 8.00 | M18: =Origine!H472 -> 0 | N18: =Origine!I472 -> 0 | O18: =SUM(M18:N18) -> 0 | R18: =G18 -> 0 | S18: 0.29166667 | T18: =E18 -> 0 | U18: =F18 -> 0 | V18: =O18 -> 0 | W18: 0.29166667 | X18: =M18 -> 0 | Y18: =N18 -> 0
C19: 8.00 - 9.00 | E19: =Origine!H17 -> 0 | F19: =Origine!I17 -> 0 | G19: =SUM(E19:F19) -> 0 | K19: 8.00 - 9.00 | M19: =Origine!H473 -> 0 | N19: =Origine!I473 -> 0 | O19: =SUM(M19:N19) -> 0 | R19: =G19 -> 0 | S19: 0.33333333 | T19: =E19 -> 0 | U19: =F19 -> 0 | V19: =O19 -> 0 | W19: 0.33333333 | X19: =M19 -> 0 | Y19: =N19 -> 0
C20: 9.00 - 10.00 | E20: =Origine!H18 -> 33 | F20: =Origine!I18 -> 4 | G20: =SUM(E20:F20) -> 37 | K20: 9.00 - 10.00 | M20: =Origine!H474 -> 29 | N20: =Origine!I474 -> 2 | O20: =SUM(M20:N20) -> 31 | R20: =G20 -> 37 | S20: 0.375 | T20: =E20 -> 33 | U20: =F20 -> 4 | V20: =O20 -> 31 | W20: 0.375 | X20: =M20 -> 29 | Y20: =N20 -> 2
C21: 10.00 - 11.00 | E21: =Origine!H19 -> 52 | F21: =Origine!I19 -> 3 | G21: =SUM(E21:F21) -> 55 | K21: 10.00 - 11.00 | M21: =Origine!H475 -> 15 | N21: =Origine!I475 -> 3 | O21: =SUM(M21:N21) -> 18 | R21: =G21 -> 55 | S21: 0.41666667 | T21: =E21 -> 52 | U21: =F21 -> 3 | V21: =O21 -> 18 | W21: 0.41666667 | X21: =M21 -> 15 | Y21: =N21 -> 3
C22: 11.00 - 12.00 | E22: =Origine!H20 -> 52 | F22: =Origine!I20 -> 10 | G22: =SUM(E22:F22) -> 62 | K22: 11.00 - 12.00 | M22: =Origine!H476 -> 44 | N22: =Origine!I476 -> 5 | O22: =SUM(M22:N22) -> 49 | R22: =G22 -> 62 | S22: 0.45833333 | T22: =E22 -> 52 | U22: =F22 -> 10 | V22: =O22 -> 49 | W22: 0.45833333 | X22: =M22 -> 44 | Y22: =N22 -> 5
C23: 12.00 - 13.00 | E23: =Origine!H21 -> 75 | F23: =Origine!I21 -> 6 | G23: =SUM(E23:F23) -> 81 | K23: 12.00 - 13.00 | M23: =Origine!H477 -> 204 | N23: =Origine!I477 -> 8 | O23: =SUM(M23:N23) -> 212 | R23: =G23 -> 81 | S23: 0.5 | T23: =E23 -> 75 | U23: =F23 -> 6 | V23: =O23 -> 212 | W23: 0.5 | X23: =M23 -> 204 | Y23: =N23 -> 8
C24: 13.00 - 14.00 | E24: =Origine!H22 -> 57 | F24: =Origine!I22 -> 8 | G24: =SUM(E24:F24) -> 65 | K24: 13.00 - 14.00 | M24: =Origine!H478 -> 131 | N24: =Origine!I478 -> 6 | O24: =SUM(M24:N24) -> 137 | R24: =G24 -> 65 | S24: 0.54166667 | T24: =E24 -> 57 | U24: =F24 -> 8 | V24: =O24 -> 137 | W24: 0.54166667 | X24: =M24 -> 131 | Y24: =N24 -> 6
C25: 14.00 - 15.00 | E25: =Origine!H23 -> 52 | F25: =Origine!I23 -> 6 | G25: =SUM(E25:F25) -> 58 | K25: 14.00 - 15.00 | M25: =Origine!H479 -> 29 | N25: =Origine!I479 -> 5 | O25: =SUM(M25:N25) -> 34 | R25: =G25 -> 58 | S25: 0.58333333 | T25: =E25 -> 52 | U25: =F25 -> 6 | V25: =O25 -> 34 | W25: 0.58333333 | X25: =M25 -> 29 | Y25: =N25 -> 5
C26: 15.00 - 16.00 | E26: =Origine!H24 -> 56 | F26: =Origine!I24 -> 6 | G26: =SUM(E26:F26) -> 62 | K26: 15.00 - 16.00 | M26: =Origine!H480 -> 73 | N26: =Origine!I480 -> 2 | O26: =SUM(M26:N26) -> 75 | R26: =G26 -> 62 | S26: 0.625 | T26: =E26 -> 56 | U26: =F26 -> 6 | V26: =O26 -> 75 | W26: 0.625 | X26: =M26 -> 73 | Y26: =N26 -> 2
... C34: 23.00 - 24.00 | E34: =Origine!H32 -> 6 | F34: =Origine!I32 -> 0 | G34: =SUM(E34:F34) -> 6 | K34: 23.00 - 24.00 | M34: =Origine!H488 -> 44 | N34: =Origine!I488 -> 3 | O34: =SUM(M34:N34) -> 47 | R34: =G34 -> 6 | S34: 0.95833333 | T34: =E34 -> 6 | U34: =F34 -> 0 | V34: =O34 -> 47 | W34: 0.95833333 | X34: =M34 -> 44 | Y34: =N34 -> 3
C35: Totale | E35: =SUM(E11:E34) -> 575 | F35: =SUM(F11:F34) -> 65 | G35: =SUM(G11:G34) -> 640 | K35: Totale | M35: =SUM(M11:M34) -> 861 | N35: =SUM(N11:N34) -> 60 | O35: =SUM(O11:O34) -> 921
C38: Intervallo Orario | E38: Volumi | G38: Totale | K38: Intervallo Orario | M38: Volumi | O38: Totale
E39: Leggeri | F39: Pesanti | M39: Leggeri | N39: Pesanti
C40: Diurno | E40: =SUM(E18:E29) -> 523 | F40: =SUM(F18:F29) -> 56 | G40: =SUM(E40:F41) -> 579 | K40: Diurno | M40: =SUM(M18:M29) -> 758 | N40: =SUM(N18:N29) -> 46 | O40: =SUM(M40:N41) -> 804
C42: Notturno | E42: =SUM(E11:E17,E30:E34) -> 52 | F42: =SUM(F11:F17,F30:F34) -> 9 | G42: =SUM(E42:F43) -> 61 | K42: Notturno | M42: =SUM(M11:M17,M30:M34) -> 103 | N42: =SUM(N11:N17,N30:N34) -> 14 | O42: =SUM(M42:N43) -> 117
C44: Totale | E44: =SUM(E40:E43) -> 575 | F44: =SUM(F40:F43) -> 65 | G44: =SUM(E44:F45) -> 640 | K44: Totale | M44: =SUM(M40:M43) -> 861 | N44: =SUM(N40:N43) -> 60 | O44: =SUM(M44:N45) -> 921
C47: Ore di punta | K47: Ore di punta
C49: Intervallo Orario | E49: Volumi | G49: Totale | K49: Intervallo Orario | M49: Volumi | O49: Totale
E50: Leggeri | F50: Pesanti | M50: Leggeri | N50: Pesanti
C51: =CONCATENATE((AE10),".00"," - ",(AF10),".00") -> 12.00 - 13.00 | E51: =AB11 -> 75 | F51: =AC11 -> 6 | G51: =SUM(E51:F51) -> 81 | K51: =CONCATENATE((AK10),".00"," - ",(AL10),".00") -> 12.00 - 13.00 | M51: =AH11 -> 204 | N51: =AI11 -> 8 | O51: =SUM(M51:N51) -> 212
C52: =CONCATENATE((AE13),".00"," - ",(AF13),".00") -> 16.00 - 17.00 | E52: =AB14 -> 64 | F52: =AC14 -> 5 | G52: =SUM(E52:F52) -> 69 | K52: =CONCATENATE((AK13),".00"," - ",(AL13),".00") -> 13.00 - 14.00 | M52: =AH14 -> 131 | N52: =AI14 -> 6 | O52: =SUM(M52:N52) -> 137

Sheet GG2
B1: =+CONCATENATE("Comune di ",Origine!C3) -> Comune di Civitavecchia
B2: Monitoraggio del traffico
C4: Sezione: | D4: =+Origine!C4 -> Calata Principe Tommaso | K4: Data: | L4: =+Origine!B33 -> 45694
C7: =CONCATENATE("Direzione: ",Origine!D9) -> Direzione: Nord | K7: =CONCATENATE("Direzione: ",Origine!D465) -> Direzione: Sud
C9: Intervallo orario | E9: Volumi | G9: Totale | K9: Intervallo orario | M9: Volumi | O9: Totale | R9: =C7 -> Direzione: Nord | V9: =K7 -> Direzione: Sud
E10: Leggeri | F10: Pesanti | M10: Leggeri | N10: Pesanti | R10: Totale Veicoli | S10: HH | T10: Classe 1 | U10: Classe 2 | V10: Totale Veicoli | W10: HH | X10: Classe 1 | Y10: Classe 2 | AA10: Am | AB10: =MAX(R11:R23) -> 127 | AC10: =VLOOKUP(AB10,R11:S23,2,FALSE) -> 0.33333333 | AD10: =AC10+S12 -> 0.375 | AE10: =HOUR(AC10) -> 8 | AF10: =HOUR(AD10) -> 9 | AG10: Am | AH10: =MAX(V11:V23) -> 240 | AI10: =VLOOKUP(AH10,V11:W23,2,FALSE) -> 0.5 | AJ10: =AI10+W12 -> 0.54166667 | AK10: =HOUR(AI10) -> 12 | AL10: =HOUR(AJ10) -> 13
C11: 0.00 - 1.00 | E11: =Origine!H33 -> 3 | F11: =Origine!I33 -> 0 | G11: =SUM(E11:F11) -> 3 | K11: 0.00 - 1.00 | M11: =Origine!H489 -> 0 | N11: =Origine!I489 -> 1 | O11: =SUM(M11:N11) -> 1 | R11: =G11 -> 3 | S11: 0 | T11: =E11 -> 3 | U11: =F11 -> 0 | V11: =O11 -> 1 | W11: 0 | X11: =M11 -> 0 | Y11: =N11 -> 1 | AA11: Peak | AB11: =VLOOKUP($AC$10,$S$11:$U$34,2,FALSE) -> 124 | AC11: =VLOOKUP($AC$10,$S$11:$U$34,3,FALSE) -> 3 | AG11: Peak | AH11: =VLOOKUP($AI$10,$W$11:$Y$34,2,FALSE) -> 233 | AI11: =VLOOKUP($AI$10,$W$11:$Y$34,3,FALSE) -> 7
C12: 1.00 - 2.00 | E12: =Origine!H34 -> 0 | F12: =Origine!I34 -> 0 | G12: =SUM(E12:F12) -> 0 | K12: 1.00 - 2.00 | M12: =Origine!H490 -> 0 | N12: =Origine!I490 -> 0 | O12: =SUM(M12:N12) -> 0 | R12: =G12 -> 0 | S12: 0.041666667 | T12: =E12 -> 0 | U12: =F12 -> 0 | V12: =O12 -> 0 | W12: 0.041666667 | X12: =M12 -> 0 | Y12: =N12 -> 0
C13: 2.00 - 3.00 | E13: =Origine!H35 -> 1 | F13: =Origine!I35 -> 0 | G13: =SUM(E13:F13) -> 1 | K13: 2.00 - 3.00 | M13: =Origine!H491 -> 15 | N13: =Origine!I491 -> 0 | O13: =SUM(M13:N13) -> 15 | R13: =G13 -> 1 | S13: 0.083333333 | T13: =E13 -> 1 | U13: =F13 -> 0 | V13: =O13 -> 15 | W13: 0.083333333 | X13: =M13 -> 15 | Y13: =N13 -> 0 | AA13: Pm | AB13: =MAX(R24:R34) -> 68 | AC13: =VLOOKUP(AB13,R24:S34,2,FALSE) -> 0.54166667 | AD13: =AC13+S12 -> 0.58333333 | AE13: =HOUR(AC13) -> 13 | AF13: =HOUR(AD13) -> 14 | AG13: Pm | AH13: =MAX(V24:V34) -> 182 | AI13: =VLOOKUP(AH13,V24:W34,2,FALSE) -> 0.70833333 | AJ13: =AI13+W12 -> 0.75 | AK13: =HOUR(AI13) -> 17 | AL13: =HOUR(AJ13) -> 18
C14: 3.00 - 4.00 | E14: =Origine!H36 -> 2 | F14: =Origine!I36 -> 0 | G14: =SUM(E14:F14) -> 2 | K14: 3.00 - 4.00 | M14: =Origine!H492 -> 0 | N14: =Origine!I492 -> 0 | O14: =SUM(M14:N14) -> 0 | R14: =G14 -> 2 | S14: 0.125 | T14: =E14 -> 2 | U14: =F14 -> 0 | V14: =O14 -> 0 | W14: 0.125 | X14: =M14 -> 0 | Y14: =N14 -> 0 | AA14: Peak | AB14: =VLOOKUP($AC$13,$S$11:$U$34,2,FALSE) -> 66 | AC14: =VLOOKUP($AC$13,$S$11:$U$34,3,FALSE) -> 2 | AG14: Peak | AH14: =VLOOKUP($AI$13,$W$11:$Y$34,2,FALSE) -> 175 | AI14: =VLOOKUP($AI$13,$W$11:$Y$34,3,FALSE) -> 7
C15: 4.00 - 5.00 | E15: =Origine!H37 -> 3 | F15: =Origine!I37 -> 0 | G15: =SUM(E15:F15) -> 3 | K15: 4.00 - 5.00 | M15: =Origine!H493 -> 0 | N15: =Origine!I493 -> 1 | O15: =SUM(M15:N15) -> 1 | R15: =G15 -> 3 | S15: 0.16666667 | T15: =E15 -> 3 | U15: =F15 -> 0 | V15: =O15 -> 1 | W15: 0.16666667 | X15: =M15 -> 0 | Y15: =N15 -> 1
C16: 5.00 - 6.00 | E16: =Origine!H38 -> 30 | F16: =Origine!I38 -> 2 | G16: =SUM(E16:F16) -> 32 | K16: 5.00 - 6.00 | M16: =Origine!H494 -> 15 | N16: =Origine!I494 -> 2 | O16: =SUM(M16:N16) -> 17 | R16: =G16 -> 32 | S16: 0.20833333 | T16: =E16 -> 30 | U16: =F16 -> 2 | V16: =O16 -> 17 | W16: 0.20833333 | X16: =M16 -> 15 | Y16: =N16 -> 2
C17: 6.00 - 7.00 | E17: =Origine!H39 -> 60 | F17: =Origine!I39 -> 3 | G17: =SUM(E17:F17) -> 63 | K17: 6.00 - 7.00 | M17: =Origine!H495 -> 44 | N17: =Origine!I495 -> 3 | O17: =SUM(M17:N17) -> 47 | R17: =G17 -> 63 | S17: 0.25 | T17: =E17 -> 60 | U17: =F17 -> 3 | V17: =O17 -> 47 | W17: 0.25 | X17: =M17 -> 44 | Y17: =N17 -> 3
C18: 7.00 - 8.00 | E18: =Origine!H40 -> 106 | F18: =Origine!I40 -> 10 | G18: =SUM(E18:F18) -> 116 | K18: 7.00 - 8.00 | M18: =Origine!H496 -> 73 | N18: =Origine!I496 -> 8 | O18: =SUM(M18:N18) -> 81 | R18: =G18 -> 116 | S18: 0.29166667 | T18: =E18 -> 106 | U18: =F18 -> 10 | V18: =O18 -> 81 | W18: 0.29166667 | X18: =M18 -> 73 | Y18: =N18 -> 8
C19: 8.00 - 9.00 | E19: =Origine!H41 -> 124 | F19: =Origine!I41 -> 3 | G19: =SUM(E19:F19) -> 127 | K19: 8.00 - 9.00 | M19: =Origine!H497 -> 73 | N19: =Origine!I497 -> 8 | O19: =SUM(M19:N19) -> 81 | R19: =G19 -> 127 | S19: 0.33333333 | T19: =E19 -> 124 | U19: =F19 -> 3 | V19: =O19 -> 81 | W19: 0.33333333 | X19: =M19 -> 73 | Y19: =N19 -> 8
C20: 9.00 - 10.00 | E20: =Origine!H42 -> 66 | F20: =Origine!I42 -> 3 | G20: =SUM(E20:F20) -> 69 | K20: 9.00 - 10.00 | M20: =Origine!H498 -> 73 | N20: =Origine!I498 -> 6 | O20: =SUM(M20:N20) -> 79 | R20: =G20 -> 69 | S20: 0.375 | T20: =E20 -> 66 | U20: =F20 -> 3 | V20: =O20 -> 79 | W20: 0.375 | X20: =M20 -> 73 | Y20: =N20 -> 6
C21: 10.00 - 11.00 | E21: =Origine!H43 -> 68 | F21: =Origine!I43 -> 4 | G21: =SUM(E21:F21) -> 72 | K21: 10.00 - 11.00 | M21: =Origine!H499 -> 15 | N21: =Origine!I499 -> 5 | O21: =SUM(M21:N21) -> 20 | R21: =G21 -> 72 | S21: 0.41666667 | T21: =E21 -> 68 | U21: =F21 -> 4 | V21: =O21 -> 20 | W21: 0.41666667 | X21: =M21 -> 15 | Y21: =N21 -> 5
C22: 11.00 - 12.00 | E22: =Origine!H44 -> 62 | F22: =Origine!I44 -> 7 | G22: =SUM(E22:F22) -> 69 | K22: 11.00 - 12.00 | M22: =Origine!H500 -> 87 | N22: =Origine!I500 -> 8 | O22: =SUM(M22:N22) -> 95 | R22: =G22 -> 69 | S22: 0.45833333 | T22: =E22 -> 62 | U22: =F22 -> 7 | V22: =O22 -> 95 | W22: 0.45833333 | X22: =M22 -> 87 | Y22: =N22 -> 8
C23: 12.00 - 13.00 | E23: =Origine!H45 -> 75 | F23: =Origine!I45 -> 10 | G23: =SUM(E23:F23) -> 85 | K23: 12.00 - 13.00 | M23: =Origine!H501 -> 233 | N23: =Origine!I501 -> 7 | O23: =SUM(M23:N23) -> 240 | R23: =G23 -> 85 | S23: 0.5 | T23: =E23 -> 75 | U23: =F23 -> 10 | V23: =O23 -> 240 | W23: 0.5 | X23: =M23 -> 233 | Y23: =N23 -> 7
C24: 13.00 - 14.00 | E24: =Origine!H46 -> 66 | F24: =Origine!I46 -> 2 | G24: =SUM(E24:F24) -> 68 | K24: 13.00 - 14.00 | M24: =Origine!H502 -> 58 | N24: =Origine!I502 -> 7 | O24: =SUM(M24:N24) -> 65 | R24: =G24 -> 68 | S24: 0.54166667 | T24: =E24 -> 66 | U24: =F24 -> 2 | V24: =O24 -> 65 | W24: 0.54166667 | X24: =M24 -> 58 | Y24: =N24 -> 7
C25: 14.00 - 15.00 | E25: =Origine!H47 -> 58 | F25: =Origine!I47 -> 4 | G25: =SUM(E25:F25) -> 62 | K25: 14.00 - 15.00 | M25: =Origine!H503 -> 73 | N25: =Origine!I503 -> 5 | O25: =SUM(M25:N25) -> 78 | R25: =G25 -> 62 | S25: 0.58333333 | T25: =E25 -> 58 | U25: =F25 -> 4 | V25: =O25 -> 78 | W25: 0.58333333 | X25: =M25 -> 73 | Y25: =N25 -> 5
C26: 15.00 - 16.00 | E26: =Origine!H48 -> 45 | F26: =Origine!I48 -> 3 | G26: =SUM(E26:F26) -> 48 | K26: 15.00 - 16.00 | M26: =Origine!H504 -> 59 | N26: =Origine!I504 -> 4 | O26: =SUM(M26:N26) -> 63 | R26: =G26 -> 48 | S26: 0.625 | T26: =E26 -> 45 | U26: =F26 -> 3 | V26: =O26 -> 63 | W26: 0.625 | X26: =M26 -> 59 | Y26: =N26 -> 4
... C34: 23.00 - 24.00 | E34: =Origine!H56 -> 2 | F34: =Origine!I56 -> 0 | G34: =SUM(E34:F34) -> 2 | K34: 23.00 - 24.00 | M34: =Origine!H512 -> 0 | N34: =Origine!I512 -> 0 | O34: =SUM(M34:N34) -> 0 | R34: =G34 -> 2 | S34: 0.95833333 | T34: =E34 -> 2 | U34: =F34 -> 0 | V34: =O34 -> 0 | W34: 0.95833333 | X34: =M34 -> 0 | Y34: =N34 -> 0
C35: Totale | E35: =SUM(E11:E34) -> 936 | F35: =SUM(F11:F34) -> 71 | G35: =SUM(G11:G34) -> 1007 | K35: Totale | M35: =SUM(M11:M34) -> 1227 | N35: =SUM(N11:N34) -> 90 | O35: =SUM(O11:O34) -> 1317
C38: Intervallo Orario | E38: Volumi | G38: Totale | K38: Intervallo Orario | M38: Volumi | O38: Totale
E39: Leggeri | F39: Pesanti | M39: Leggeri | N39: Pesanti
C40: Diurno | E40: =SUM(E18:E29) -> 793 | F40: =SUM(F18:F29) -> 58 | G40: =SUM(E40:F41) -> 851 | K40: Diurno | M40: =SUM(M18:M29) -> 1050 | N40: =SUM(N18:N29) -> 75 | O40: =SUM(M40:N41) -> 1125
C42: Notturno | E42: =SUM(E11:E17,E30:E34) -> 143 | F42: =SUM(F11:F17,F30:F34) -> 13 | G42: =SUM(E42:F43) -> 156 | K42: Notturno | M42: =SUM(M11:M17,M30:M34) -> 177 | N42: =SUM(N11:N17,N30:N34) -> 15 | O42: =SUM(M42:N43) -> 192
C44: Totale | E44: =SUM(E40:E43) -> 936 | F44: =SUM(F40:F43) -> 71 | G44: =SUM(E44:F45) -> 1007 | K44: Totale | M44: =SUM(M40:M43) -> 1227 | N44: =SUM(N40:N43) -> 90 | O44: =SUM(M44:N45) -> 1317
C47: Ore di punta | K47: Ore di punta
C49: Intervallo Orario | E49: Volumi | G49: Totale | K49: Intervallo Orario | M49: Volumi | O49: Totale
E50: Leggeri | F50: Pesanti | M50: Leggeri | N50: Pesanti
C51: =CONCATENATE((AE10),".00"," - ",(AF10),".00") -> 8.00 - 9.00 | E51: =AB11 -> 124 | F51: =AC11 -> 3 | G51: =SUM(E51:F51) -> 127 | K51: =CONCATENATE((AK10),".00"," - ",(AL10),".00") -> 12.00 - 13.00 | M51: =AH11 -> 233 | N51: =AI11 -> 7 | O51: =SUM(M51:N51) -> 240
C52: =CONCATENATE((AE13),".00"," - ",(AF13),".00") -> 13.00 - 14.00 | E52: =AB14 -> 66 | F52: =AC14 -> 2 | G52: =SUM(E52:F52) -> 68 | K52: =CONCATENATE((AK13),".00"," - ",(AL13),".00") -> 17.00 - 18.00 | M52: =AH14 -> 175 | N52: =AI14 -> 7 | O52: =SUM(M52:N52) -> 182

Sheet GG3
B1: =+CONCATENATE("Comune di ",Origine!C3) -> Comune di Civitavecchia
B2: Monitoraggio del traffico
C4: Sezione: | D4: =+Origine!C4 -> Calata Principe Tommaso | K4: Data: | L4: =+Origine!B57 -> 45695
C7: =CONCATENATE("Direzione: ",Origine!D9) -> Direzione: Nord | K7: =CONCATENATE("Direzione: ",Origine!D469) -> Direzione: Sud
C9: Intervallo orario | E9: Volumi | G9: Totale | K9: Intervallo orario | M9: Volumi | O9: Totale | R9: =C7 -> Direzione: Nord | V9: =K7 -> Direzione: Sud
E10: Leggeri | F10: Pesanti | M10: Leggeri | N10: Pesanti | R10: Totale Veicoli | S10: HH | T10: Classe 1 | U10: Classe 2 | V10: Totale Veicoli | W10: HH | X10: Classe 1 | Y10: Classe 2 | AA10: Am | AB10: =MAX(R11:R23) -> 172 | AC10: =VLOOKUP(AB10,R11:S23,2,FALSE) -> 0.375 | AD10: =AC10+S12 -> 0.41666667 | AE10: =HOUR(AC10) -> 9 | AF10: =HOUR(AD10) -> 10 | AG10: Am | AH10: =MAX(V11:V23) -> 175 | AI10: =VLOOKUP(AH10,V11:W23,2,FALSE) -> 0.33333333 | AJ10: =AI10+W12 -> 0.375 | AK10: =HOUR(AI10) -> 8 | AL10: =HOUR(AJ10) -> 9
C11: 0.00 - 1.00 | E11: =Origine!H57 -> 1 | F11: =Origine!I57 -> 0 | G11: =SUM(E11:F11) -> 1 | K11: 0.00 - 1.00 | M11: =Origine!H513 -> 15 | N11: =Origine!I513 -> 0 | O11: =SUM(M11:N11) -> 15 | R11: =G11 -> 1 | S11: 0 | T11: =E11 -> 1 | U11: =F11 -> 0 | V11: =O11 -> 15 | W11: 0 | X11: =M11 -> 15 | Y11: =N11 -> 0 | AA11: Peak | AB11: =VLOOKUP($AC$10,$S$11:$U$34,2,FALSE) -> 135 | AC11: =VLOOKUP($AC$10,$S$11:$U$34,3,FALSE) -> 37 | AG11: Peak | AH11: =VLOOKUP($AI$10,$W$11:$Y$34,2,FALSE) -> 160 | AI11: =VLOOKUP($AI$10,$W$11:$Y$34,3,FALSE) -> 15
C12: 1.00 - 2.00 | E12: =Origine!H58 -> 3 | F12: =Origine!I58 -> 0 | G12: =SUM(E12:F12) -> 3 | K12: 1.00 - 2.00 | M12: =Origine!H514 -> 0 | N12: =Origine!I514 -> 0 | O12: =SUM(M12:N12) -> 0 | R12: =G12 -> 3 | S12: 0.041666667 | T12: =E12 -> 3 | U12: =F12 -> 0 | V12: =O12 -> 0 | W12: 0.041666667 | X12: =M12 -> 0 | Y12: =N12 -> 0
C13: 2.00 - 3.00 | E13: =Origine!H59 -> 1 | F13: =Origine!I59 -> 0 | G13: =SUM(E13:F13) -> 1 | K13: 2.00 - 3.00 | M13: =Origine!H515 -> 0 | N13: =Origine!I515 -> 0 | O13: =SUM(M13:N13) -> 0 | R13: =G13 -> 1 | S13: 0.083333333 | T13: =E13 -> 1 | U13: =F13 -> 0 | V13: =O13 -> 0 | W13: 0.083333333 | X13: =M13 -> 0 | Y13: =N13 -> 0 | AA13: Pm | AB13: =MAX(R24:R34) -> 108 | AC13: =VLOOKUP(AB13,R24:S34,2,FALSE) -> 0.54166667 | AD13: =AC13+S12 -> 0.58333333 | AE13: =HOUR(AC13) -> 13 | AF13: =HOUR(AD13) -> 14 | AG13: Pm | AH13: =MAX(V24:V34) -> 216 | AI13: =VLOOKUP(AH13,V24:W34,2,FALSE) -> 0.54166667 | AJ13: =AI13+W12 -> 0.58333333 | AK13: =HOUR(AI13) -> 13 | AL13: =HOUR(AJ13) -> 14
C14: 3.00 - 4.00 | E14: =Origine!H60 -> 4 | F14: =Origine!I60 -> 0 | G14: =SUM(E14:F14) -> 4 | K14: 3.00 - 4.00 | M14: =Origine!H516 -> 0 | N14: =Origine!I516 -> 0 | O14: =SUM(M14:N14) -> 0 | R14: =G14 -> 4 | S14: 0.125 | T14: =E14 -> 4 | U14: =F14 -> 0 | V14: =O14 -> 0 | W14: 0.125 | X14: =M14 -> 0 | Y14: =N14 -> 0 | AA14: Peak | AB14: =VLOOKUP($AC$13,$S$11:$U$34,2,FALSE) -> 94 | AC14: =VLOOKUP($AC$13,$S$11:$U$34,3,FALSE) -> 14 | AG14: Peak | AH14: =VLOOKUP($AI$13,$W$11:$Y$34,2,FALSE) -> 203 | AI14: =VLOOKUP($AI$13,$W$11:$Y$34,3,FALSE) -> 13
C15: 4.00 - 5.00 | E15: =Origine!H61 -> 3 | F15: =Origine!I61 -> 0 | G15: =SUM(E15:F15) -> 3 | K15: 4.00 - 5.00 | M15: =Origine!H517 -> 0 | N15: =Origine!I517 -> 0 | O15: =SUM(M15:N15) -> 0 | R15: =G15 -> 3 | S15: 0.16666667 | T15: =E15 -> 3 | U15: =F15 -> 0 | V15: =O15 -> 0 | W15: 0.16666667 | X15: =M15 -> 0 | Y15: =N15 -> 0
C16: 5.00 - 6.00 | E16: =Origine!H62 -> 22 | F16: =Origine!I62 -> 2 | G16: =SUM(E16:F16) -> 24 | K16: 5.00 - 6.00 | M16: =Origine!H518 -> 15 | N16: =Origine!I518 -> 1 | O16: =SUM(M16:N16) -> 16 | R16: =G16 -> 24 | S16: 0.20833333 | T16: =E16 -> 22 | U16: =F16 -> 2 | V16: =O16 -> 16 | W16: 0.20833333 | X16: =M16 -> 15 | Y16: =N16 -> 1
C17: 6.00 - 7.00 | E17: =Origine!H63 -> 51 | F17: =Origine!I63 -> 4 | G17: =SUM(E17:F17) -> 55 | K17: 6.00 - 7.00 | M17: =Origine!H519 -> 30 | N17: =Origine!I519 -> 6 | O17: =SUM(M17:N17) -> 36 | R17: =G17 -> 55 | S17: 0.25 | T17: =E17 -> 51 | U17: =F17 -> 4 | V17: =O17 -> 36 | W17: 0.25 | X17: =M17 -> 30 | Y17: =N17 -> 6
C18: 7.00 - 8.00 | E18: =Origine!H64 -> 109 | F18: =Origine!I64 -> 3 | G18: =SUM(E18:F18) -> 112 | K18: 7.00 - 8.00 | M18: =Origine!H520 -> 87 | N18: =Origine!I520 -> 11 | O18: =SUM(M18:N18) -> 98 | R18: =G18 -> 112 | S18: 0.29166667 | T18: =E18 -> 109 | U18: =F18 -> 3 | V18: =O18 -> 98 | W18: 0.29166667 | X18: =M18 -> 87 | Y18: =N18 -> 11
C19: 8.00 - 9.00 | E19: =Origine!H65 -> 140 | F19: =Origine!I65 -> 18 | G19: =SUM(E19:F19) -> 158 | K19: 8.00 - 9.00 | M19: =Origine!H521 -> 160 | N19: =Origine!I521 -> 15 | O19: =SUM(M19:N19) -> 175 | R19: =G19 -> 158 | S19: 0.33333333 | T19: =E19 -> 140 | U19: =F19 -> 18 | V19: =O19 -> 175 | W19: 0.33333333 | X19: =M19 -> 160 | Y19: =N19 -> 15
C20: 9.00 - 10.00 | E20: =Origine!H66 -> 135 | F20: =Origine!I66 -> 37 | G20: =SUM(E20:F20) -> 172 | K20: 9.00 - 10.00 | M20: =Origine!H522 -> 87 | N20: =Origine!I522 -> 13 | O20: =SUM(M20:N20) -> 100 | R20: =G20 -> 172 | S20: 0.375 | T20: =E20 -> 135 | U20: =F20 -> 37 | V20: =O20 -> 100 | W20: 0.375 | X20: =M20 -> 87 | Y20: =N20 -> 13
C21: 10.00 - 11.00 | E21: =Origine!H67 -> 113 | F21: =Origine!I67 -> 23 | G21: =SUM(E21:F21) -> 136 | K21: 10.00 - 11.00 | M21: =Origine!H523 -> 88 | N21: =Origine!I523 -> 8 | O21: =SUM(M21:N21) -> 96 | R21: =G21 -> 136 | S21: 0.41666667 | T21: =E21 -> 113 | U21: =F21 -> 23 | V21: =O21 -> 96 | W21: 0.41666667 | X21: =M21 -> 88 | Y21: =N21 -> 8
C22: 11.00 - 12.00 | E22: =Origine!H68 -> 104 | F22: =Origine!I68 -> 12 | G22: =SUM(E22:F22) -> 116 | K22: 11.00 - 12.00 | M22: =Origine!H524 -> 117 | N22: =Origine!I524 -> 9 | O22: =SUM(M22:N22) -> 126 | R22: =G22 -> 116 | S22: 0.45833333 | T22: =E22 -> 104 | U22: =F22 -> 12 | V22: =O22 -> 126 | W22: 0.45833333 | X22: =M22 -> 117 | Y22: =N22 -> 9
C23: 12.00 - 13.00 | E23: =Origine!H69 -> 127 | F23: =Origine!I69 -> 18 | G23: =SUM(E23:F23) -> 145 | K23: 12.00 - 13.00 | M23: =Origine!H525 -> 160 | N23: =Origine!I525 -> 15 | O23: =SUM(M23:N23) -> 175 | R23: =G23 -> 145 | S23: 0.5 | T23: =E23 -> 127 | U23: =F23 -> 18 | V23: =O23 -> 175 | W23: 0.5 | X23: =M23 -> 160 | Y23: =N23 -> 15
C24: 13.00 - 14.00 | E24: =Origine!H70 -> 94 | F24: =Origine!I70 -> 14 | G24: =SUM(E24:F24) -> 108 | K24: 13.00 - 14.00 | M24: =Origine!H526 -> 203 | N24: =Origine!I526 -> 13 | O24: =SUM(M24:N24) -> 216 | R24: =G24 -> 108 | S24: 0.54166667 | T24: =E24 -> 94 | U24: =F24 -> 14 | V24: =O24 -> 216 | W24: 0.54166667 | X24: =M24 -> 203 | Y24: =N24 -> 13
C25: 14.00 - 15.00 | E25: =Origine!H71 -> 91 | F25: =Origine!I71 -> 10 | G25: =SUM(E25:F25) -> 101 | K25: 14.00 - 15.00 | M25: =Origine!H527 -> 175 | N25: =Origine!I527 -> 7 | O25: =SUM(M25:N25) -> 182 | R25: =G25 -> 101 | S25: 0.58333333 | T25: =E25 -> 91 | U25: =F25 -> 10 | V25: =O25 -> 182 | W25: 0.58333333 | X25: =M25 -> 175 | Y25: =N25 -> 7
C26: 15.00 - 16.00 | E26: =Origine!H72 -> 76 | F26: =Origine!I72 -> 10 | G26: =SUM(E26:F26) -> 86 | K26: 15.00 - 16.00 | M26: =Origine!H528 -> 73 | N26: =Origine!I528 -> 8 | O26: =SUM(M26:N26) -> 81 | R26: =G26 -> 86 | S26: 0.625 | T26: =E26 -> 76 | U26: =F26 -> 10 | V26: =O26 -> 81 | W26: 0.625 | X26: =M26 -> 73 | Y26: =N26 -> 8
... C34: 23.00 - 24.00 | E34: =Origine!H80 -> 5 | F34: =Origine!I80 -> 0 | G34: =SUM(E34:F34) -> 5 | K34: 23.00 - 24.00 | M34: =Origine!H536 -> 15 | N34: =Origine!I536 -> 1 | O34: =SUM(M34:N34) -> 16 | R34: =G34 -> 5 | S34: 0.95833333 | T34: =E34 -> 5 | U34: =F34 -> 0 | V34: =O34 -> 16 | W34: 0.95833333 | X34: =M34 -> 15 | Y34: =N34 -> 1
C35: Totale | E35: =SUM(E11:E34) -> 1348 | F35: =SUM(F11:F34) -> 201 | G35: =SUM(G11:G34) -> 1549 | K35: Totale | M35: =SUM(M11:M34) -> 1647 | N35: =SUM(N11:N34) -> 141 | O35: =SUM(O11:O34) -> 1788
C38: Intervallo Orario | E38: Volumi | G38: Totale | K38: Intervallo Orario | M38: Volumi | O38: Totale
E39: Leggeri | F39: Pesanti | M39: Leggeri | N39: Pesanti
C40: Diurno | E40: =SUM(E18:E29) -> 1200 | F40: =SUM(F18:F29) -> 188 | G40: =SUM(E40:F41) -> 1388 | K40: Diurno | M40: =SUM(M18:M29) -> 1499 | N40: =SUM(N18:N29) -> 122 | O40: =SUM(M40:N41) -> 1621
C42: Notturno | E42: =SUM(E11:E17,E30:E34) -> 148 | F42: =SUM(F11:F17,F30:F34) -> 13 | G42: =SUM(E42:F43) -> 161 | K42: Notturno | M42: =SUM(M11:M17,M30:M34) -> 148 | N42: =SUM(N11:N17,N30:N34) -> 19 | O42: =SUM(M42:N43) -> 167
C44: Totale | E44: =SUM(E40:E43) -> 1348 | F44: =SUM(F40:F43) -> 201 | G44: =SUM(E44:F45) -> 1549 | K44: Totale | M44: =SUM(M40:M43) -> 1647 | N44: =SUM(N40:N43) -> 141 | O44: =SUM(M44:N45) -> 1788
C47: Ore di punta | K47: Ore di punta
C49: Intervallo Orario | E49: Volumi | G49: Totale | K49: Intervallo Orario | M49: Volumi | O49: Totale
E50: Leggeri | F50: Pesanti | M50: Leggeri | N50: Pesanti
C51: =CONCATENATE((AE10),".00"," - ",(AF10),".00") -> 9.00 - 10.00 | E51: =AB11 -> 135 | F51: =AC11 -> 37 | G51: =SUM(E51:F51) -> 172 | K51: =CONCATENATE((AK10),".00"," - ",(AL10),".00") -> 8.00 - 9.00 | M51: =AH11 -> 160 | N51: =AI11 -> 15 | O51: =SUM(M51:N51) -> 175
C52: =CONCATENATE((AE13),".00"," - ",(AF13),".00") -> 13.00 - 14.00 | E52: =AB14 -> 94 | F52: =AC14 -> 14 | G52: =SUM(E52:F52) -> 108 | K52: =CONCATENATE((AK13),".00"," - ",(AL13),".00") -> 13.00 - 14.00 | M52: =AH14 -> 203 | N52: =AI14 -> 13 | O52: =SUM(M52:N52) -> 216

Sheet GG4
B1: =+CONCATENATE("Comune di ",Origine!C3) -> Comune di Civitavecchia
B2: Monitoraggio del traffico
C4: Sezione: | D4: =+Origine!C4 -> Calata Principe Tommaso | K4: Data: | L4: =+Origine!B81 -> 45696
C7: =CONCATENATE("Direzione: ",Origine!D9) -> Direzione: Nord | K7: =CONCATENATE("Direzione: ",Origine!D469) -> Direzione: Sud
C9: Intervallo orario | E9: Volumi | G9: Totale | K9: Intervallo orario | M9: Volumi | O9: Totale | R9: =C7 -> Direzione: Nord | V9: =K7 -> Direzione: Sud
E10: Leggeri | F10: Pesanti | M10: Leggeri | N10: Pesanti | R10: Totale Veicoli | S10: HH | T10: Classe 1 | U10: Classe 2 | V10: Totale Veicoli | W10: HH | X10: Classe 1 | Y10: Classe 2 | AA10: Am | AB10: =MAX(R11:R23) -> 54 | AC10: =VLOOKUP(AB10,R11:S23,2,FALSE) -> 0.29166667 | AD10: =AC10+S12 -> 0.33333333 | AE10: =HOUR(AC10) -> 7 | AF10: =HOUR(AD10) -> 8 | AG10: Am | AH10: =MAX(V11:V23) -> 90 | AI10: =VLOOKUP(AH10,V11:W23,2,FALSE) -> 0.45833333 | AJ10: =AI10+W12 -> 0.5 | AK10: =HOUR(AI10) -> 11 | AL10: =HOUR(AJ10) -> 12
C11: 0.00 - 1.00 | E11: =Origine!H81 -> 1 | F11: =Origine!I81 -> 0 | G11: =SUM(E11:F11) -> 1 | K11: 0.00 - 1.00 | M11: =Origine!H537 -> 0 | N11: =Origine!I537 -> 0 | O11: =SUM(M11:N11) -> 0 | R11: =G11 -> 1 | S11: 0 | T11: =E11 -> 1 | U11: =F11 -> 0 | V11: =O11 -> 0 | W11: 0 | X11: =M11 -> 0 | Y11: =N11 -> 0 | AA11: Peak | AB11: =VLOOKUP($AC$10,$S$11:$U$34,2,FALSE) -> 52 | AC11: =VLOOKUP($AC$10,$S$11:$U$34,3,FALSE) -> 2 | AG11: Peak | AH11: =VLOOKUP($AI$10,$W$11:$Y$34,2,FALSE) -> 87 | AI11: =VLOOKUP($AI$10,$W$11:$Y$34,3,FALSE) -> 3
C12: 1.00 - 2.00 | E12: =Origine!H82 -> 3 | F12: =Origine!I82 -> 0 | G12: =SUM(E12:F12) -> 3 | K12: 1.00 - 2.00 | M12: =Origine!H538 -> 0 | N12: =Origine!I538 -> 0 | O12: =SUM(M12:N12) -> 0 | R12: =G12 -> 3 | S12: 0.041666667 | T12: =E12 -> 3 | U12: =F12 -> 0 | V12: =O12 -> 0 | W12: 0.041666667 | X12: =M12 -> 0 | Y12: =N12 -> 0
C13: 2.00 - 3.00 | E13: =Origine!H83 -> 3 | F13: =Origine!I83 -> 0 | G13: =SUM(E13:F13) -> 3 | K13: 2.00 - 3.00 | M13: =Origine!H539 -> 0 | N13: =Origine!I539 -> 1 | O13: =SUM(M13:N13) -> 1 | R13: =G13 -> 3 | S13: 0.083333333 | T13: =E13 -> 3 | U13: =F13 -> 0 | V13: =O13 -> 1 | W13: 0.083333333 | X13: =M13 -> 0 | Y13: =N13 -> 1 | AA13: Pm | AB13: =MAX(R24:R34) -> 35 | AC13: =VLOOKUP(AB13,R24:S34,2,FALSE) -> 0.79166667 | AD13: =AC13+S12 -> 0.83333333 | AE13: =HOUR(AC13) -> 19 | AF13: =HOUR(AD13) -> 20 | AG13: Pm | AH13: =MAX(V24:V34) -> 147 | AI13: =VLOOKUP(AH13,V24:W34,2,FALSE) -> 0.66666667 | AJ13: =AI13+W12 -> 0.70833333 | AK13: =HOUR(AI13) -> 16 | AL13: =HOUR(AJ13) -> 17
C14: 3.00 - 4.00 | E14: =Origine!H84 -> 2 | F14: =Origine!I84 -> 0 | G14: =SUM(E14:F14) -> 2 | K14: 3.00 - 4.00 | M14: =Origine!H540 -> 0 | N14: =Origine!I540 -> 0 | O14: =SUM(M14:N14) -> 0 | R14: =G14 -> 2 | S14: 0.125 | T14: =E14 -> 2 | U14: =F14 -> 0 | V14: =O14 -> 0 | W14: 0.125 | X14: =M14 -> 0 | Y14: =N14 -> 0 | AA14: Peak | AB14: =VLOOKUP($AC$13,$S$11:$U$34,2,FALSE) -> 32 | AC14: =VLOOKUP($AC$13,$S$11:$U$34,3,FALSE) -> 3 | AG14: Peak | AH14: =VLOOKUP($AI$13,$W$11:$Y$34,2,FALSE) -> 145 | AI14: =VLOOKUP($AI$13,$W$11:$Y$34,3,FALSE) -> 2
C15: 4.00 - 5.00 | E15: =Origine!H85 -> 6 | F15: =Origine!I85 -> 0 | G15: =SUM(E15:F15) -> 6 | K15: 4.00 - 5.00 | M15: =Origine!H541 -> 0 | N15: =Origine!I541 -> 0 | O15: =SUM(M15:N15) -> 0 | R15: =G15 -> 6 | S15: 0.16666667 | T15: =E15 -> 6 | U15: =F15 -> 0 | V15: =O15 -> 0 | W15: 0.16666667 | X15: =M15 -> 0 | Y15: =N15 -> 0
C16: 5.00 - 6.00 | E16: =Origine!H86 -> 27 | F16: =Origine!I86 -> 1 | G16: =SUM(E16:F16) -> 28 | K16: 5.00 - 6.00 | M16: =Origine!H542 -> 0 | N16: =Origine!I542 -> 1 | O16: =SUM(M16:N16) -> 1 | R16: =G16 -> 28 | S16: 0.20833333 | T16: =E16 -> 27 | U16: =F16 -> 1 | V16: =O16 -> 1 | W16: 0.20833333 | X16: =M16 -> 0 | Y16: =N16 -> 1
C17: 6.00 - 7.00 | E17: =Origine!H87 -> 29 | F17: =Origine!I87 -> 4 | G17: =SUM(E17:F17) -> 33 | K17: 6.00 - 7.00 | M17: =Origine!H543 -> 30 | N17: =Origine!I543 -> 3 | O17: =SUM(M17:N17) -> 33 | R17: =G17 -> 33 | S17: 0.25 | T17: =E17 -> 29 | U17: =F17 -> 4 | V17: =O17 -> 33 | W17: 0.25 | X17: =M17 -> 30 | Y17: =N17 -> 3
C18: 7.00 - 8.00 | E18: =Origine!H88 -> 52 | F18: =Origine!I88 -> 2 | G18: =SUM(E18:F18) -> 54 | K18: 7.00 - 8.00 | M18: =Origine!H544 -> 44 | N18: =Origine!I544 -> 5 | O18: =SUM(M18:N18) -> 49 | R18: =G18 -> 54 | S18: 0.29166667 | T18: =E18 -> 52 | U18: =F18 -> 2 | V18: =O18 -> 49 | W18: 0.29166667 | X18: =M18 -> 44 | Y18: =N18 -> 5
C19: 8.00 - 9.00 | E19: =Origine!H89 -> 28 | F19: =Origine!I89 -> 2 | G19: =SUM(E19:F19) -> 30 | K19: 8.00 - 9.00 | M19: =Origine!H545 -> 59 | N19: =Origine!I545 -> 3 | O19: =SUM(M19:N19) -> 62 | R19: =G19 -> 30 | S19: 0.33333333 | T19: =E19 -> 28 | U19: =F19 -> 2 | V19: =O19 -> 62 | W19: 0.33333333 | X19: =M19 -> 59 | Y19: =N19 -> 3
C20: 9.00 - 10.00 | E20: =Origine!H90 -> 46 | F20: =Origine!I90 -> 5 | G20: =SUM(E20:F20) -> 51 | K20: 9.00 - 10.00 | M20: =Origine!H546 -> 59 | N20: =Origine!I546 -> 2 | O20: =SUM(M20:N20) -> 61 | R20: =G20 -> 51 | S20: 0.375 | T20: =E20 -> 46 | U20: =F20 -> 5 | V20: =O20 -> 61 | W20: 0.375 | X20: =M20 -> 59 | Y20: =N20 -> 2
C21: 10.00 - 11.00 | E21: =Origine!H91 -> 35 | F21: =Origine!I91 -> 3 | G21: =SUM(E21:F21) -> 38 | K21: 10.00 - 11.00 | M21: =Origine!H547 -> 0 | N21: =Origine!I547 -> 3 | O21: =SUM(M21:N21) -> 3 | R21: =G21 -> 38 | S21: 0.41666667 | T21: =E21 -> 35 | U21: =F21 -> 3 | V21: =O21 -> 3 | W21: 0.41666667 | X21: =M21 -> 0 | Y21: =N21 -> 3
C22: 11.00 - 12.00 | E22: =Origine!H92 -> 43 | F22: =Origine!I92 -> 3 | G22: =SUM(E22:F22) -> 46 | K22: 11.00 - 12.00 | M22: =Origine!H548 -> 87 | N22: =Origine!I548 -> 3 | O22: =SUM(M22:N22) -> 90 | R22: =G22 -> 46 | S22: 0.45833333 | T22: =E22 -> 43 | U22: =F22 -> 3 | V22: =O22 -> 90 | W22: 0.45833333 | X22: =M22 -> 87 | Y22: =N22 -> 3
C23: 12.00 - 13.00 | E23: =Origine!H93 -> 38 | F23: =Origine!I93 -> 2 | G23: =SUM(E23:F23) -> 40 | K23: 12.00 - 13.00 | M23: =Origine!H549 -> 44 | N23: =Origine!I549 -> 6 | O23: =SUM(M23:N23) -> 50 | R23: =G23 -> 40 | S23: 0.5 | T23: =E23 -> 38 | U23: =F23 -> 2 | V23: =O23 -> 50 | W23: 0.5 | X23: =M23 -> 44 | Y23: =N23 -> 6
C24: 13.00 - 14.00 | E24: =Origine!H94 -> 32 | F24: =Origine!I94 -> 2 | G24: =SUM(E24:F24) -> 34 | K24: 13.00 - 14.00 | M24: =Origine!H550 -> 58 | N24: =Origine!I550 -> 4 | O24: =SUM(M24:N24) -> 62 | R24: =G24 -> 34 | S24: 0.54166667 | T24: =E24 -> 32 | U24: =F24 -> 2 | V24: =O24 -> 62 | W24: 0.54166667 | X24: =M24 -> 58 | Y24: =N24 -> 4
C25: 14.00 - 15.00 | E25: =Origine!H95 -> 28 | F25: =Origine!I95 -> 6 | G25: =SUM(E25:F25) -> 34 | K25: 14.00 - 15.00 | M25: =Origine!H551 -> 30 | N25: =Origine!I551 -> 2 | O25: =SUM(M25:N25) -> 32 | R25: =G25 -> 34 | S25: 0.58333333 | T25: =E25 -> 28 | U25: =F25 -> 6 | V25: =O25 -> 32 | W25: 0.58333333 | X25: =M25 -> 30 | Y25: =N25 -> 2
C26: 15.00 - 16.00 | E26: =Origine!H96 -> 25 | F26: =Origine!I96 -> 5 | G26: =SUM(E26:F26) -> 30 | K26: 15.00 - 16.00 | M26: =Origine!H552 -> 73 | N26: =Origine!I552 -> 0 | O26: =SUM(M26:N26) -> 73 | R26: =G26 -> 30 | S26: 0.625 | T26: =E26 -> 25 | U26: =F26 -> 5 | V26: =O26 -> 73 | W26: 0.625 | X26: =M26 -> 73 | Y26: =N26 -> 0
... C34: 23.00 - 24.00 | E34: =Origine!H104 -> 6 | F34: =Origine!I104 -> 0 | G34: =SUM(E34:F34) -> 6 | K34: 23.00 - 24.00 | M34: =Origine!H560 -> 0 | N34: =Origine!I560 -> 1 | O34: =SUM(M34:N34) -> 1 | R34: =G34 -> 6 | S34: 0.95833333 | T34: =E34 -> 6 | U34: =F34 -> 0 | V34: =O34 -> 1 | W34: 0.95833333 | X34: =M34 -> 0 | Y34: =N34 -> 1
C35: Totale | E35: =SUM(E11:E34) -> 545 | F35: =SUM(F11:F34) -> 50 | G35: =SUM(G11:G34) -> 595 | K35: Totale | M35: =SUM(M11:M34) -> 717 | N35: =SUM(N11:N34) -> 38 | O35: =SUM(O11:O34) -> 755
C38: Intervallo Orario | E38: Volumi | G38: Totale | K38: Intervallo Orario | M38: Volumi | O38: Totale
E39: Leggeri | F39: Pesanti | M39: Leggeri | N39: Pesanti
C40: Diurno | E40: =SUM(E18:E29) -> 384 | F40: =SUM(F18:F29) -> 37 | G40: =SUM(E40:F41) -> 421 | K40: Diurno | M40: =SUM(M18:M29) -> 643 | N40: =SUM(N18:N29) -> 30 | O40: =SUM(M40:N41) -> 673
C42: Notturno | E42: =SUM(E11:E17,E30:E34) -> 161 | F42: =SUM(F11:F17,F30:F34) -> 13 | G42: =SUM(E42:F43) -> 174 | K42: Notturno | M42: =SUM(M11:M17,M30:M34) -> 74 | N42: =SUM(N11:N17,N30:N34) -> 8 | O42: =SUM(M42:N43) -> 82
C44: Totale | E44: =SUM(E40:E43) -> 545 | F44: =SUM(F40:F43) -> 50 | G44: =SUM(E44:F45) -> 595 | K44: Totale | M44: =SUM(M40:M43) -> 717 | N44: =SUM(N40:N43) -> 38 | O44: =SUM(M44:N45) -> 755
C47: Ore di punta | K47: Ore di punta
C49: Intervallo Orario | E49: Volumi | G49: Totale | K49: Intervallo Orario | M49: Volumi | O49: Totale
E50: Leggeri | F50: Pesanti | M50: Leggeri | N50: Pesanti
C51: =CONCATENATE((AE10),".00"," - ",(AF10),".00") -> 7.00 - 8.00 | E51: =AB11 -> 52 | F51: =AC11 -> 2 | G51: =SUM(E51:F51) -> 54 | K51: =CONCATENATE((AK10),".00"," - ",(AL10),".00") -> 11.00 - 12.00 | M51: =AH11 -> 87 | N51: =AI11 -> 3 | O51: =SUM(M51:N51) -> 90
C52: =CONCATENATE((AE13),".00"," - ",(AF13),".00") -> 19.00 - 20.00 | E52: =AB14 -> 32 | F52: =AC14 -> 3 | G52: =SUM(E52:F52) -> 35 | K52: =CONCATENATE((AK13),".00"," - ",(AL13),".00") -> 16.00 - 17.00 | M52: =AH14 -> 145 | N52: =AI14 -> 2 | O52: =SUM(M52:N52) -> 147

Sheet GG5
B1: =+CONCATENATE("Comune di ",Origine!C3) -> Comune di Civitavecchia
B2: Monitoraggio del traffico
C4: Sezione: | D4: =+Origine!C4 -> Calata Principe Tommaso | K4: Data: | L4: =+Origine!B105 -> 45697
C7: =CONCATENATE("Direzione: ",Origine!D9) -> Direzione: Nord | K7: =CONCATENATE("Direzione: ",Origine!D469) -> Direzione: Sud
C9: Intervallo orario | E9: Volumi | G9: Totale | K9: Intervallo orario | M9: Volumi | O9: Totale | R9: =C7 -> Direzione: Nord | V9: =K7 -> Direzione: Sud
E10: Leggeri | F10: Pesanti | M10: Leggeri | N10: Pesanti | R10: Totale Veicoli | S10: HH | T10: Classe 1 | U10: Classe 2 | V10: Totale Veicoli | W10: HH | X10: Classe 1 | Y10: Classe 2 | AA10: Am | AB10: =MAX(R11:R23) -> 31 | AC10: =VLOOKUP(AB10,R11:S23,2,FALSE) -> 0.375 | AD10: =AC10+S12 -> 0.41666667 | AE10: =HOUR(AC10) -> 9 | AF10: =HOUR(AD10) -> 10 | AG10: Am | AH10: =MAX(V11:V23) -> 76 | AI10: =VLOOKUP(AH10,V11:W23,2,FALSE) -> 0.375 | AJ10: =AI10+W12 -> 0.41666667 | AK10: =HOUR(AI10) -> 9 | AL10: =HOUR(AJ10) -> 10
C11: 0.00 - 1.00 | E11: =Origine!H105 -> 24 | F11: =Origine!I105 -> 0 | G11: =SUM(E11:F11) -> 24 | K11: 0.00 - 1.00 | M11: =Origine!H561 -> 44 | N11: =Origine!I561 -> 0 | O11: =SUM(M11:N11) -> 44 | R11: =G11 -> 24 | S11: 0 | T11: =E11 -> 24 | U11: =F11 -> 0 | V11: =O11 -> 44 | W11: 0 | X11: =M11 -> 44 | Y11: =N11 -> 0 | AA11: Peak | AB11: =VLOOKUP($AC$10,$S$11:$U$34,2,FALSE) -> 26 | AC11: =VLOOKUP($AC$10,$S$11:$U$34,3,FALSE) -> 5 | AG11: Peak | AH11: =VLOOKUP($AI$10,$W$11:$Y$34,2,FALSE) -> 73 | AI11: =VLOOKUP($AI$10,$W$11:$Y$34,3,FALSE) -> 3
C12: 1.00 - 2.00 | E12: =Origine!H106 -> 4 | F12: =Origine!I106 -> 0 | G12: =SUM(E12:F12) -> 4 | K12: 1.00 - 2.00 | M12: =Origine!H562 -> 15 | N12: =Origine!I562 -> 0 | O12: =SUM(M12:N12) -> 15 | R12: =G12 -> 4 | S12: 0.041666667 | T12: =E12 -> 4 | U12: =F12 -> 0 | V12: =O12 -> 15 | W12: 0.041666667 | X12: =M12 -> 15 | Y12: =N12 -> 0
C13: 2.00 - 3.00 | E13: =Origine!H107 -> 17 | F13: =Origine!I107 -> 0 | G13: =SUM(E13:F13) -> 17 | K13: 2.00 - 3.00 | M13: =Origine!H563 -> 15 | N13: =Origine!I563 -> 0 | O13: =SUM(M13:N13) -> 15 | R13: =G13 -> 17 | S13: 0.083333333 | T13: =E13 -> 17 | U13: =F13 -> 0 | V13: =O13 -> 15 | W13: 0.083333333 | X13: =M13 -> 15 | Y13: =N13 -> 0 | AA13: Pm | AB13: =MAX(R24:R34) -> 30 | AC13: =VLOOKUP(AB13,R24:S34,2,FALSE) -> 0.75 | AD13: =AC13+S12 -> 0.79166667 | AE13: =HOUR(AC13) -> 18 | AF13: =HOUR(AD13) -> 19 | AG13: Pm | AH13: =MAX(V24:V34) -> 45 | AI13: =VLOOKUP(AH13,V24:W34,2,FALSE) -> 0.83333333 | AJ13: =AI13+W12 -> 0.875 | AK13: =HOUR(AI13) -> 20 | AL13: =HOUR(AJ13) -> 21
C14: 3.00 - 4.00 | E14: =Origine!H108 -> 2 | F14: =Origine!I108 -> 0 | G14: =SUM(E14:F14) -> 2 | K14: 3.00 - 4.00 | M14: =Origine!H564 -> 29 | N14: =Origine!I564 -> 0 | O14: =SUM(M14:N14) -> 29 | R14: =G14 -> 2 | S14: 0.125 | T14: =E14 -> 2 | U14: =F14 -> 0 | V14: =O14 -> 29 | W14: 0.125 | X14: =M14 -> 29 | Y14: =N14 -> 0 | AA14: Peak | AB14: =VLOOKUP($AC$13,$S$11:$U$34,2,FALSE) -> 28 | AC14: =VLOOKUP($AC$13,$S$11:$U$34,3,FALSE) -> 2 | AG14: Peak | AH14: =VLOOKUP($AI$13,$W$11:$Y$34,2,FALSE) -> 44 | AI14: =VLOOKUP($AI$13,$W$11:$Y$34,3,FALSE) -> 1
C15: 4.00 - 5.00 | E15: =Origine!H109 -> 5 | F15: =Origine!I109 -> 0 | G15: =SUM(E15:F15) -> 5 | K15: 4.00 - 5.00 | M15: =Origine!H565 -> 0 | N15: =Origine!I565 -> 0 | O15: =SUM(M15:N15) -> 0 | R15: =G15 -> 5 | S15: 0.16666667 | T15: =E15 -> 5 | U15: =F15 -> 0 | V15: =O15 -> 0 | W15: 0.16666667 | X15: =M15 -> 0 | Y15: =N15 -> 0
C16: 5.00 - 6.00 | E16: =Origine!H110 -> 12 | F16: =Origine!I110 -> 0 | G16: =SUM(E16:F16) -> 12 | K16: 5.00 - 6.00 | M16: =Origine!H566 -> 0 | N16: =Origine!I566 -> 0 | O16: =SUM(M16:N16) -> 0 | R16: =G16 -> 12 | S16: 0.20833333 | T16: =E16 -> 12 | U16: =F16 -> 0 | V16: =O16 -> 0 | W16: 0.20833333 | X16: =M16 -> 0 | Y16: =N16 -> 0
C17: 6.00 - 7.00 | E17: =Origine!H111 -> 17 | F17: =Origine!I111 -> 2 | G17: =SUM(E17:F17) -> 19 | K17: 6.00 - 7.00 | M17: =Origine!H567 -> 0 | N17: =Origine!I567 -> 0 | O17: =SUM(M17:N17) -> 0 | R17: =G17 -> 19 | S17: 0.25 | T17: =E17 -> 17 | U17: =F17 -> 2 | V17: =O17 -> 0 | W17: 0.25 | X17: =M17 -> 0 | Y17: =N17 -> 0
C18: 7.00 - 8.00 | E18: =Origine!H112 -> 26 | F18: =Origine!I112 -> 2 | G18: =SUM(E18:F18) -> 28 | K18: 7.00 - 8.00 | M18: =Origine!H568 -> 44 | N18: =Origine!I568 -> 0 | O18: =SUM(M18:N18) -> 44 | R18: =G18 -> 28 | S18: 0.29166667 | T18: =E18 -> 26 | U18: =F18 -> 2 | V18: =O18 -> 44 | W18: 0.29166667 | X18: =M18 -> 44 | Y18: =N18 -> 0
C19: 8.00 - 9.00 | E19: =Origine!H113 -> 25 | F19: =Origine!I113 -> 2 | G19: =SUM(E19:F19) -> 27 | K19: 8.00 - 9.00 | M19: =Origine!H569 -> 73 | N19: =Origine!I569 -> 2 | O19: =SUM(M19:N19) -> 75 | R19: =G19 -> 27 | S19: 0.33333333 | T19: =E19 -> 25 | U19: =F19 -> 2 | V19: =O19 -> 75 | W19: 0.33333333 | X19: =M19 -> 73 | Y19: =N19 -> 2
C20: 9.00 - 10.00 | E20: =Origine!H114 -> 26 | F20: =Origine!I114 -> 5 | G20: =SUM(E20:F20) -> 31 | K20: 9.00 - 10.00 | M20: =Origine!H570 -> 73 | N20: =Origine!I570 -> 3 | O20: =SUM(M20:N20) -> 76 | R20: =G20 -> 31 | S20: 0.375 | T20: =E20 -> 26 | U20: =F20 -> 5 | V20: =O20 -> 76 | W20: 0.375 | X20: =M20 -> 73 | Y20: =N20 -> 3
C21: 10.00 - 11.00 | E21: =Origine!H115 -> 20 | F21: =Origine!I115 -> 1 | G21: =SUM(E21:F21) -> 21 | K21: 10.00 - 11.00 | M21: =Origine!H571 -> 15 | N21: =Origine!I571 -> 2 | O21: =SUM(M21:N21) -> 17 | R21: =G21 -> 21 | S21: 0.41666667 | T21: =E21 -> 20 | U21: =F21 -> 1 | V21: =O21 -> 17 | W21: 0.41666667 | X21: =M21 -> 15 | Y21: =N21 -> 2
C22: 11.00 - 12.00 | E22: =Origine!H116 -> 24 | F22: =Origine!I116 -> 4 | G22: =SUM(E22:F22) -> 28 | K22: 11.00 - 12.00 | M22: =Origine!H572 -> 58 | N22: =Origine!I572 -> 3 | O22: =SUM(M22:N22) -> 61 | R22: =G22 -> 28 | S22: 0.45833333 | T22: =E22 -> 24 | U22: =F22 -> 4 | V22: =O22 -> 61 | W22: 0.45833333 | X22: =M22 -> 58 | Y22: =N22 -> 3
C23: 12.00 - 13.00 | E23: =Origine!H117 -> 26 | F23: =Origine!I117 -> 1 | G23: =SUM(E23:F23) -> 27 | K23: 12.00 - 13.00 | M23: =Origine!H573 -> 29 | N23: =Origine!I573 -> 2 | O23: =SUM(M23:N23) -> 31 | R23: =G23 -> 27 | S23: 0.5 | T23: =E23 -> 26 | U23: =F23 -> 1 | V23: =O23 -> 31 | W23: 0.5 | X23: =M23 -> 29 | Y23: =N23 -> 2
C24: 13.00 - 14.00 | E24: =Origine!H118 -> 19 | F24: =Origine!I118 -> 2 | G24: =SUM(E24:F24) -> 21 | K24: 13.00 - 14.00 | M24: =Origine!H574 -> 0 | N24: =Origine!I574 -> 1 | O24: =SUM(M24:N24) -> 1 | R24: =G24 -> 21 | S24: 0.54166667 | T24: =E24 -> 19 | U24: =F24 -> 2 | V24: =O24 -> 1 | W24: 0.54166667 | X24: =M24 -> 0 | Y24: =N24 -> 1
C25: 14.00 - 15.00 | E25: =Origine!H119 -> 10 | F25: =Origine!I119 -> 4 | G25: =SUM(E25:F25) -> 14 | K25: 14.00 - 15.00 | M25: =Origine!H575 -> 15 | N25: =Origine!I575 -> 1 | O25: =SUM(M25:N25) -> 16 | R25: =G25 -> 14 | S25: 0.58333333 | T25: =E25 -> 10 | U25: =F25 -> 4 | V25: =O25 -> 16 | W25: 0.58333333 | X25: =M25 -> 15 | Y25: =N25 -> 1
C26: 15.00 - 16.00 | E26: =Origine!H120 -> 25 | F26: =Origine!I120 -> 2 | G26: =SUM(E26:F26) -> 27 | K26: 15.00 - 16.00 | M26: =Origine!H576 -> 0 | N26: =Origine!I576 -> 1 | O26: =SUM(M26:N26) -> 1 | R26: =G26 -> 27 | S26: 0.625 | T26: =E26 -> 25 | U26: =F26 -> 2 | V26: =O26 -> 1 | W26: 0.625 | X26: =M26 -> 0 | Y26: =N26 -> 1
... C34: 23.00 - 24.00 | E34: =Origine!H128 -> 7 | F34: =Origine!I128 -> 0 | G34: =SUM(E34:F34) -> 7 | K34: 23.00 - 24.00 | M34: =Origine!H584 -> 0 | N34: =Origine!I584 -> 0 | O34: =SUM(M34:N34) -> 0 | R34: =G34 -> 7 | S34: 0.95833333 | T34: =E34 -> 7 | U34: =F34 -> 0 | V34: =O34 -> 0 | W34: 0.95833333 | X34: =M34 -> 0 | Y34: =N34 -> 0
C35: Totale | E35: =SUM(E11:E34) -> 407 | F35: =SUM(F11:F34) -> 37 | G35: =SUM(G11:G34) -> 444 | K35: Totale | M35: =SUM(M11:M34) -> 528 | N35: =SUM(N11:N34) -> 24 | O35: =SUM(O11:O34) -> 552
C38: Intervallo Orario | E38: Volumi | G38: Totale | K38: Intervallo Orario | M38: Volumi | O38: Totale
E39: Leggeri | F39: Pesanti | M39: Leggeri | N39: Pesanti
C40: Diurno | E40: =SUM(E18:E29) -> 274 | F40: =SUM(F18:F29) -> 30 | G40: =SUM(E40:F41) -> 304 | K40: Diurno | M40: =SUM(M18:M29) -> 322 | N40: =SUM(N18:N29) -> 19 | O40: =SUM(M40:N41) -> 341
C42: Notturno | E42: =SUM(E11:E17,E30:E34) -> 133 | F42: =SUM(F11:F17,F30:F34) -> 7 | G42: =SUM(E42:F43) -> 140 | K42: Notturno | M42: =SUM(M11:M17,M30:M34) -> 206 | N42: =SUM(N11:N17,N30:N34) -> 5 | O42: =SUM(M42:N43) -> 211
C44: Totale | E44: =SUM(E40:E43) -> 407 | F44: =SUM(F40:F43) -> 37 | G44: =SUM(E44:F45) -> 444 | K44: Totale | M44: =SUM(M40:M43) -> 528 | N44: =SUM(N40:N43) -> 24 | O44: =SUM(M44:N45) -> 552
C47: Ore di punta | K47: Ore di punta
C49: Intervallo Orario | E49: Volumi | G49: Totale | K49: Intervallo Orario | M49: Volumi | O49: Totale
E50: Leggeri | F50: Pesanti | M50: Leggeri | N50: Pesanti
C51: =CONCATENATE((AE10),".00"," - ",(AF10),".00") -> 9.00 - 10.00 | E51: =AB11 -> 26 | F51: =AC11 -> 5 | G51: =SUM(E51:F51) -> 31 | K51: =CONCATENATE((AK10),".00"," - ",(AL10),".00") -> 9.00 - 10.00 | M51: =AH11 -> 73 | N51: =AI11 -> 3 | O51: =SUM(M51:N51) -> 76
C52: =CONCATENATE((AE13),".00"," - ",(AF13),".00") -> 18.00 - 19.00 | E52: =AB14 -> 28 | F52: =AC14 -> 2 | G52: =SUM(E52:F52) -> 30 | K52: =CONCATENATE((AK13),".00"," - ",(AL13),".00") -> 20.00 - 21.00 | M52: =AH14 -> 44 | N52: =AI14 -> 1 | O52: =SUM(M52:N52) -> 45

Sheet GG6
B1: =+CONCATENATE("Comune di ",Origine!C3) -> Comune di Civitavecchia
B2: Monitoraggio del traffico
C4: Sezione: | D4: =+Origine!C4 -> Calata Principe Tommaso | K4: Data: | L4: =+Origine!B129 -> 45698
C7: =CONCATENATE("Direzione: ",Origine!D9) -> Direzione: Nord | K7: =CONCATENATE("Direzione: ",Origine!D469) -> Direzione: Sud
C9: Intervallo orario | E9: Volumi | G9: Totale | K9: Intervallo orario | M9: Volumi | O9: Totale | R9: =C7 -> Direzione: Nord | V9: =K7 -> Direzione: Sud
E10: Leggeri | F10: Pesanti | M10: Leggeri | N10: Pesanti | R10: Totale Veicoli | S10: HH | T10: Classe 1 | U10: Classe 2 | V10: Totale Veicoli | W10: HH | X10: Classe 1 | Y10: Classe 2 | AA10: Am | AB10: =MAX(R11:R23) -> 193 | AC10: =VLOOKUP(AB10,R11:S23,2,FALSE) -> 0.375 | AD10: =AC10+S12 -> 0.41666667 | AE10: =HOUR(AC10) -> 9 | AF10: =HOUR(AD10) -> 10 | AG10: Am | AH10: =MAX(V11:V23) -> 174 | AI10: =VLOOKUP(AH10,V11:W23,2,FALSE) -> 0.33333333 | AJ10: =AI10+W12 -> 0.375 | AK10: =HOUR(AI10) -> 8 | AL10: =HOUR(AJ10) -> 9
C11: 0.00 - 1.00 | E11: =Origine!H129 -> 5 | F11: =Origine!I129 -> 1 | G11: =SUM(E11:F11) -> 6 | K11: 0.00 - 1.00 | M11: =Origine!H585 -> 15 | N11: =Origine!I585 -> 1 | O11: =SUM(M11:N11) -> 16 | R11: =G11 -> 6 | S11: 0 | T11: =E11 -> 5 | U11: =F11 -> 1 | V11: =O11 -> 16 | W11: 0 | X11: =M11 -> 15 | Y11: =N11 -> 1 | AA11: Peak | AB11: =VLOOKUP($AC$10,$S$11:$U$34,2,FALSE) -> 167 | AC11: =VLOOKUP($AC$10,$S$11:$U$34,3,FALSE) -> 26 | AG11: Peak | AH11: =VLOOKUP($AI$10,$W$11:$Y$34,2,FALSE) -> 160 | AI11: =VLOOKUP($AI$10,$W$11:$Y$34,3,FALSE) -> 14
C12: 1.00 - 2.00 | E12: =Origine!H130 -> 4 | F12: =Origine!I130 -> 0 | G12: =SUM(E12:F12) -> 4 | K12: 1.00 - 2.00 | M12: =Origine!H586 -> 29 | N12: =Origine!I586 -> 0 | O12: =SUM(M12:N12) -> 29 | R12: =G12 -> 4 | S12: 0.041666667 | T12: =E12 -> 4 | U12: =F12 -> 0 | V12: =O12 -> 29 | W12: 0.041666667 | X12: =M12 -> 29 | Y12: =N12 -> 0
C13: 2.00 - 3.00 | E13: =Origine!H131 -> 1 | F13: =Origine!I131 -> 0 | G13: =SUM(E13:F13) -> 1 | K13: 2.00 - 3.00 | M13: =Origine!H587 -> 0 | N13: =Origine!I587 -> 0 | O13: =SUM(M13:N13) -> 0 | R13: =G13 -> 1 | S13: 0.083333333 | T13: =E13 -> 1 | U13: =F13 -> 0 | V13: =O13 -> 0 | W13: 0.083333333 | X13: =M13 -> 0 | Y13: =N13 -> 0 | AA13: Pm | AB13: =MAX(R24:R34) -> 165 | AC13: =VLOOKUP(AB13,R24:S34,2,FALSE) -> 0.66666667 | AD13: =AC13+S12 -> 0.70833333 | AE13: =HOUR(AC13) -> 16 | AF13: =HOUR(AD13) -> 17 | AG13: Pm | AH13: =MAX(V24:V34) -> 227 | AI13: =VLOOKUP(AH13,V24:W34,2,FALSE) -> 0.66666667 | AJ13: =AI13+W12 -> 0.70833333 | AK13: =HOUR(AI13) -> 16 | AL13: =HOUR(AJ13) -> 17
C14: 3.00 - 4.00 | E14: =Origine!H132 -> 1 | F14: =Origine!I132 -> 0 | G14: =SUM(E14:F14) -> 1 | K14: 3.00 - 4.00 | M14: =Origine!H588 -> 0 | N14: =Origine!I588 -> 0 | O14: =SUM(M14:N14) -> 0 | R14: =G14 -> 1 | S14: 0.125 | T14: =E14 -> 1 | U14: =F14 -> 0 | V14: =O14 -> 0 | W14: 0.125 | X14: =M14 -> 0 | Y14: =N14 -> 0 | AA14: Peak | AB14: =VLOOKUP($AC$13,$S$11:$U$34,2,FALSE) -> 144 | AC14: =VLOOKUP($AC$13,$S$11:$U$34,3,FALSE) -> 21 | AG14: Peak | AH14: =VLOOKUP($AI$13,$W$11:$Y$34,2,FALSE) -> 218 | AI14: =VLOOKUP($AI$13,$W$11:$Y$34,3,FALSE) -> 9
C15: 4.00 - 5.00 | E15: =Origine!H133 -> 4 | F15: =Origine!I133 -> 0 | G15: =SUM(E15:F15) -> 4 | K15: 4.00 - 5.00 | M15: =Origine!H589 -> 0 | N15: =Origine!I589 -> 0 | O15: =SUM(M15:N15) -> 0 | R15: =G15 -> 4 | S15: 0.16666667 | T15: =E15 -> 4 | U15: =F15 -> 0 | V15: =O15 -> 0 | W15: 0.16666667 | X15: =M15 -> 0 | Y15: =N15 -> 0
C16: 5.00 - 6.00 | E16: =Origine!H134 -> 37 | F16: =Origine!I134 -> 2 | G16: =SUM(E16:F16) -> 39 | K16: 5.00 - 6.00 | M16: =Origine!H590 -> 0 | N16: =Origine!I590 -> 2 | O16: =SUM(M16:N16) -> 2 | R16: =G16 -> 39 | S16: 0.20833333 | T16: =E16 -> 37 | U16: =F16 -> 2 | V16: =O16 -> 2 | W16: 0.20833333 | X16: =M16 -> 0 | Y16: =N16 -> 2
C17: 6.00 - 7.00 | E17: =Origine!H135 -> 52 | F17: =Origine!I135 -> 4 | G17: =SUM(E17:F17) -> 56 | K17: 6.00 - 7.00 | M17: =Origine!H591 -> 29 | N17: =Origine!I591 -> 10 | O17: =SUM(M17:N17) -> 39 | R17: =G17 -> 56 | S17: 0.25 | T17: =E17 -> 52 | U17: =F17 -> 4 | V17: =O17 -> 39 | W17: 0.25 | X17: =M17 -> 29 | Y17: =N17 -> 10
C18: 7.00 - 8.00 | E18: =Origine!H136 -> 115 | F18: =Origine!I136 -> 15 | G18: =SUM(E18:F18) -> 130 | K18: 7.00 - 8.00 | M18: =Origine!H592 -> 145 | N18: =Origine!I592 -> 15 | O18: =SUM(M18:N18) -> 160 | R18: =G18 -> 130 | S18: 0.29166667 | T18: =E18 -> 115 | U18: =F18 -> 15 | V18: =O18 -> 160 | W18: 0.29166667 | X18: =M18 -> 145 | Y18: =N18 -> 15
C19: 8.00 - 9.00 | E19: =Origine!H137 -> 155 | F19: =Origine!I137 -> 27 | G19: =SUM(E19:F19) -> 182 | K19: 8.00 - 9.00 | M19: =Origine!H593 -> 160 | N19: =Origine!I593 -> 14 | O19: =SUM(M19:N19) -> 174 | R19: =G19 -> 182 | S19: 0.33333333 | T19: =E19 -> 155 | U19: =F19 -> 27 | V19: =O19 -> 174 | W19: 0.33333333 | X19: =M19 -> 160 | Y19: =N19 -> 14
C20: 9.00 - 10.00 | E20: =Origine!H138 -> 167 | F20: =Origine!I138 -> 26 | G20: =SUM(E20:F20) -> 193 | K20: 9.00 - 10.00 | M20: =Origine!H594 -> 160 | N20: =Origine!I594 -> 13 | O20: =SUM(M20:N20) -> 173 | R20: =G20 -> 193 | S20: 0.375 | T20: =E20 -> 167 | U20: =F20 -> 26 | V20: =O20 -> 173 | W20: 0.375 | X20: =M20 -> 160 | Y20: =N20 -> 13
C21: 10.00 - 11.00 | E21: =Origine!H139 -> 142 | F21: =Origine!I139 -> 22 | G21: =SUM(E21:F21) -> 164 | K21: 10.00 - 11.00 | M21: =Origine!H595 -> 117 | N21: =Origine!I595 -> 10 | O21: =SUM(M21:N21) -> 127 | R21: =G21 -> 164 | S21: 0.41666667 | T21: =E21 -> 142 | U21: =F21 -> 22 | V21: =O21 -> 127 | W21: 0.41666667 | X21: =M21 -> 117 | Y21: =N21 -> 10
C22: 11.00 - 12.00 | E22: =Origine!H140 -> 114 | F22: =Origine!I140 -> 14 | G22: =SUM(E22:F22) -> 128 | K22: 11.00 - 12.00 | M22: =Origine!H596 -> 146 | N22: =Origine!I596 -> 11 | O22: =SUM(M22:N22) -> 157 | R22: =G22 -> 128 | S22: 0.45833333 | T22: =E22 -> 114 | U22: =F22 -> 14 | V22: =O22 -> 157 | W22: 0.45833333 | X22: =M22 -> 146 | Y22: =N22 -> 11
C23: 12.00 - 13.00 | E23: =Origine!H141 -> 110 | F23: =Origine!I141 -> 16 | G23: =SUM(E23:F23) -> 126 | K23: 12.00 - 13.00 | M23: =Origine!H597 -> 131 | N23: =Origine!I597 -> 10 | O23: =SUM(M23:N23) -> 141 | R23: =G23 -> 126 | S23: 0.5 | T23: =E23 -> 110 | U23: =F23 -> 16 | V23: =O23 -> 141 | W23: 0.5 | X23: =M23 -> 131 | Y23: =N23 -> 10
C24: 13.00 - 14.00 | E24: =Origine!H142 -> 67 | F24: =Origine!I142 -> 18 | G24: =SUM(E24:F24) -> 85 | K24: 13.00 - 14.00 | M24: =Origine!H598 -> 102 | N24: =Origine!I598 -> 9 | O24: =SUM(M24:N24) -> 111 | R24: =G24 -> 85 | S24: 0.54166667 | T24: =E24 -> 67 | U24: =F24 -> 18 | V24: =O24 -> 111 | W24: 0.54166667 | X24: =M24 -> 102 | Y24: =N24 -> 9
C25: 14.00 - 15.00 | E25: =Origine!H143 -> 81 | F25: =Origine!I143 -> 18 | G25: =SUM(E25:F25) -> 99 | K25: 14.00 - 15.00 | M25: =Origine!H599 -> 218 | N25: =Origine!I599 -> 7 | O25: =SUM(M25:N25) -> 225 | R25: =G25 -> 99 | S25: 0.58333333 | T25: =E25 -> 81 | U25: =F25 -> 18 | V25: =O25 -> 225 | W25: 0.58333333 | X25: =M25 -> 218 | Y25: =N25 -> 7
C26: 15.00 - 16.00 | E26: =Origine!H144 -> 91 | F26: =Origine!I144 -> 11 | G26: =SUM(E26:F26) -> 102 | K26: 15.00 - 16.00 | M26: =Origine!H600 -> 44 | N26: =Origine!I600 -> 6 | O26: =SUM(M26:N26) -> 50 | R26: =G26 -> 102 | S26: 0.625 | T26: =E26 -> 91 | U26: =F26 -> 11 | V26: =O26 -> 50 | W26: 0.625 | X26: =M26 -> 44 | Y26: =N26 -> 6
... C34: 23.00 - 24.00 | E34: =Origine!H152 -> 3 | F34: =Origine!I152 -> 0 | G34: =SUM(E34:F34) -> 3 | K34: 23.00 - 24.00 | M34: =Origine!H608 -> 0 | N34: =Origine!I608 -> 1 | O34: =SUM(M34:N34) -> 1 | R34: =G34 -> 3 | S34: 0.95833333 | T34: =E34 -> 3 | U34: =F34 -> 0 | V34: =O34 -> 1 | W34: 0.95833333 | X34: =M34 -> 0 | Y34: =N34 -> 1
C35: Totale | E35: =SUM(E11:E34) -> 1459 | F35: =SUM(F11:F34) -> 226 | G35: =SUM(G11:G34) -> 1685 | K35: Totale | M35: =SUM(M11:M34) -> 1938 | N35: =SUM(N11:N34) -> 138 | O35: =SUM(O11:O34) -> 2076
C38: Intervallo Orario | E38: Volumi | G38: Totale | K38: Intervallo Orario | M38: Volumi | O38: Totale
E39: Leggeri | F39: Pesanti | M39: Leggeri | N39: Pesanti
C40: Diurno | E40: =SUM(E18:E29) -> 1298 | F40: =SUM(F18:F29) -> 209 | G40: =SUM(E40:F41) -> 1507 | K40: Diurno | M40: =SUM(M18:M29) -> 1747 | N40: =SUM(N18:N29) -> 114 | O40: =SUM(M40:N41) -> 1861
C42: Notturno | E42: =SUM(E11:E17,E30:E34) -> 161 | F42: =SUM(F11:F17,F30:F34) -> 17 | G42: =SUM(E42:F43) -> 178 | K42: Notturno | M42: =SUM(M11:M17,M30:M34) -> 191 | N42: =SUM(N11:N17,N30:N34) -> 24 | O42: =SUM(M42:N43) -> 215
C44: Totale | E44: =SUM(E40:E43) -> 1459 | F44: =SUM(F40:F43) -> 226 | G44: =SUM(E44:F45) -> 1685 | K44: Totale | M44: =SUM(M40:M43) -> 1938 | N44: =SUM(N40:N43) -> 138 | O44: =SUM(M44:N45) -> 2076
C47: Ore di punta | K47: Ore di punta
C49: Intervallo Orario | E49: Volumi | G49: Totale | K49: Intervallo Orario | M49: Volumi | O49: Totale
E50: Leggeri | F50: Pesanti | M50: Leggeri | N50: Pesanti
C51: =CONCATENATE((AE10),".00"," - ",(AF10),".00") -> 9.00 - 10.00 | E51: =AB11 -> 167 | F51: =AC11 -> 26 | G51: =SUM(E51:F51) -> 193 | K51: =CONCATENATE((AK10),".00"," - ",(AL10),".00") -> 8.00 - 9.00 | M51: =AH11 -> 160 | N51: =AI11 -> 14 | O51: =SUM(M51:N51) -> 174
C52: =CONCATENATE((AE13),".00"," - ",(AF13),".00") -> 16.00 - 17.00 | E52: =AB14 -> 144 | F52: =AC14 -> 21 | G52: =SUM(E52:F52) -> 165 | K52: =CONCATENATE((AK13),".00"," - ",(AL13),".00") -> 16.00 - 17.00 | M52: =AH14 -> 218 | N52: =AI14 -> 9 | O52: =SUM(M52:N52) -> 227

Sheet GG7
B1: =+CONCATENATE("Comune di ",Origine!C3) -> Comune di Civitavecchia
B2: Monitoraggio del traffico
C4: Sezione: | D4: =+Origine!C4 -> Calata Principe Tommaso | K4: Data: | L4: =+Origine!B153 -> 45699
C7: =CONCATENATE("Direzione: ",Origine!D9) -> Direzione: Nord | K7: =CONCATENATE("Direzione: ",Origine!D469) -> Direzione: Sud
C9: Intervallo orario | E9: Volumi | G9: Totale | K9: Intervallo orario | M9: Volumi | O9: Totale | R9: =C7 -> Direzione: Nord | V9: =K7 -> Direzione: Sud
E10: Leggeri | F10: Pesanti | M10: Leggeri | N10: Pesanti | R10: Totale Veicoli | S10: HH | T10: Classe 1 | U10: Classe 2 | V10: Totale Veicoli | W10: HH | X10: Classe 1 | Y10: Classe 2 | AA10: Am | AB10: =MAX(R11:R23) -> 152 | AC10: =VLOOKUP(AB10,R11:S23,2,FALSE) -> 0.33333333 | AD10: =AC10+S12 -> 0.375 | AE10: =HOUR(AC10) -> 8 | AF10: =HOUR(AD10) -> 9 | AG10: Am | AH10: =MAX(V11:V23) -> 187 | AI10: =VLOOKUP(AH10,V11:W23,2,FALSE) -> 0.29166667 | AJ10: =AI10+W12 -> 0.33333333 | AK10: =HOUR(AI10) -> 7 | AL10: =HOUR(AJ10) -> 8
C11: 0.00 - 1.00 | E11: =Origine!H153 -> 4 | F11: =Origine!I153 -> 0 | G11: =SUM(E11:F11) -> 4 | K11: 0.00 - 1.00 | M11: =Origine!H609 -> 0 | N11: =Origine!I609 -> 0 | O11: =SUM(M11:N11) -> 0 | R11: =G11 -> 4 | S11: 0 | T11: =E11 -> 4 | U11: =F11 -> 0 | V11: =O11 -> 0 | W11: 0 | X11: =M11 -> 0 | Y11: =N11 -> 0 | AA11: Peak | AB11: =VLOOKUP($AC$10,$S$11:$U$34,2,FALSE) -> 132 | AC11: =VLOOKUP($AC$10,$S$11:$U$34,3,FALSE) -> 20 | AG11: Peak | AH11: =VLOOKUP($AI$10,$W$11:$Y$34,2,FALSE) -> 175 | AI11: =VLOOKUP($AI$10,$W$11:$Y$34,3,FALSE) -> 12
C12: 1.00 - 2.00 | E12: =Origine!H154 -> 1 | F12: =Origine!I154 -> 0 | G12: =SUM(E12:F12) -> 1 | K12: 1.00 - 2.00 | M12: =Origine!H610 -> 15 | N12: =Origine!I610 -> 0 | O12: =SUM(M12:N12) -> 15 | R12: =G12 -> 1 | S12: 0.041666667 | T12: =E12 -> 1 | U12: =F12 -> 0 | V12: =O12 -> 15 | W12: 0.041666667 | X12: =M12 -> 15 | Y12: =N12 -> 0
C13: 2.00 - 3.00 | E13: =Origine!H155 -> 0 | F13: =Origine!I155 -> 0 | G13: =SUM(E13:F13) -> 0 | K13: 2.00 - 3.00 | M13: =Origine!H611 -> 0 | N13: =Origine!I611 -> 0 | O13: =SUM(M13:N13) -> 0 | R13: =G13 -> 0 | S13: 0.083333333 | T13: =E13 -> 0 | U13: =F13 -> 0 | V13: =O13 -> 0 | W13: 0.083333333 | X13: =M13 -> 0 | Y13: =N13 -> 0 | AA13: Pm | AB13: =MAX(R24:R34) -> 95 | AC13: =VLOOKUP(AB13,R24:S34,2,FALSE) -> 0.66666667 | AD13: =AC13+S12 -> 0.70833333 | AE13: =HOUR(AC13) -> 16 | AF13: =HOUR(AD13) -> 17 | AG13: Pm | AH13: =MAX(V24:V34) -> 152 | AI13: =VLOOKUP(AH13,V24:W34,2,FALSE) -> 0.66666667 | AJ13: =AI13+W12 -> 0.70833333 | AK13: =HOUR(AI13) -> 16 | AL13: =HOUR(AJ13) -> 17
C14: 3.00 - 4.00 | E14: =Origine!H156 -> 1 | F14: =Origine!I156 -> 0 | G14: =SUM(E14:F14) -> 1 | K14: 3.00 - 4.00 | M14: =Origine!H612 -> 0 | N14: =Origine!I612 -> 0 | O14: =SUM(M14:N14) -> 0 | R14: =G14 -> 1 | S14: 0.125 | T14: =E14 -> 1 | U14: =F14 -> 0 | V14: =O14 -> 0 | W14: 0.125 | X14: =M14 -> 0 | Y14: =N14 -> 0 | AA14: Peak | AB14: =VLOOKUP($AC$13,$S$11:$U$34,2,FALSE) -> 87 | AC14: =VLOOKUP($AC$13,$S$11:$U$34,3,FALSE) -> 8 | AG14: Peak | AH14: =VLOOKUP($AI$13,$W$11:$Y$34,2,FALSE) -> 146 | AI14: =VLOOKUP($AI$13,$W$11:$Y$34,3,FALSE) -> 6
C15: 4.00 - 5.00 | E15: =Origine!H157 -> 3 | F15: =Origine!I157 -> 0 | G15: =SUM(E15:F15) -> 3 | K15: 4.00 - 5.00 | M15: =Origine!H613 -> 0 | N15: =Origine!I613 -> 0 | O15: =SUM(M15:N15) -> 0 | R15: =G15 -> 3 | S15: 0.16666667 | T15: =E15 -> 3 | U15: =F15 -> 0 | V15: =O15 -> 0 | W15: 0.16666667 | X15: =M15 -> 0 | Y15: =N15 -> 0
C16: 5.00 - 6.00 | E16: =Origine!H158 -> 24 | F16: =Origine!I158 -> 3 | G16: =SUM(E16:F16) -> 27 | K16: 5.00 - 6.00 | M16: =Origine!H614 -> 15 | N16: =Origine!I614 -> 2 | O16: =SUM(M16:N16) -> 17 | R16: =G16 -> 27 | S16: 0.20833333 | T16: =E16 -> 24 | U16: =F16 -> 3 | V16: =O16 -> 17 | W16: 0.20833333 | X16: =M16 -> 15 | Y16: =N16 -> 2
C17: 6.00 - 7.00 | E17: =Origine!H159 -> 43 | F17: =Origine!I159 -> 5 | G17: =SUM(E17:F17) -> 48 | K17: 6.00 - 7.00 | M17: =Origine!H615 -> 73 | N17: =Origine!I615 -> 4 | O17: =SUM(M17:N17) -> 77 | R17: =G17 -> 48 | S17: 0.25 | T17: =E17 -> 43 | U17: =F17 -> 5 | V17: =O17 -> 77 | W17: 0.25 | X17: =M17 -> 73 | Y17: =N17 -> 4
C18: 7.00 - 8.00 | E18: =Origine!H160 -> 95 | F18: =Origine!I160 -> 6 | G18: =SUM(E18:F18) -> 101 | K18: 7.00 - 8.00 | M18: =Origine!H616 -> 175 | N18: =Origine!I616 -> 12 | O18: =SUM(M18:N18) -> 187 | R18: =G18 -> 101 | S18: 0.29166667 | T18: =E18 -> 95 | U18: =F18 -> 6 | V18: =O18 -> 187 | W18: 0.29166667 | X18: =M18 -> 175 | Y18: =N18 -> 12
C19: 8.00 - 9.00 | E19: =Origine!H161 -> 132 | F19: =Origine!I161 -> 20 | G19: =SUM(E19:F19) -> 152 | K19: 8.00 - 9.00 | M19: =Origine!H617 -> 59 | N19: =Origine!I617 -> 10 | O19: =SUM(M19:N19) -> 69 | R19: =G19 -> 152 | S19: 0.33333333 | T19: =E19 -> 132 | U19: =F19 -> 20 | V19: =O19 -> 69 | W19: 0.33333333 | X19: =M19 -> 59 | Y19: =N19 -> 10
C20: 9.00 - 10.00 | E20: =Origine!H162 -> 100 | F20: =Origine!I162 -> 14 | G20: =SUM(E20:F20) -> 114 | K20: 9.00 - 10.00 | M20: =Origine!H618 -> 145 | N20: =Origine!I618 -> 10 | O20: =SUM(M20:N20) -> 155 | R20: =G20 -> 114 | S20: 0.375 | T20: =E20 -> 100 | U20: =F20 -> 14 | V20: =O20 -> 155 | W20: 0.375 | X20: =M20 -> 145 | Y20: =N20 -> 10
C21: 10.00 - 11.00 | E21: =Origine!H163 -> 99 | F21: =Origine!I163 -> 10 | G21: =SUM(E21:F21) -> 109 | K21: 10.00 - 11.00 | M21: =Origine!H619 -> 146 | N21: =Origine!I619 -> 7 | O21: =SUM(M21:N21) -> 153 | R21: =G21 -> 109 | S21: 0.41666667 | T21: =E21 -> 99 | U21: =F21 -> 10 | V21: =O21 -> 153 | W21: 0.41666667 | X21: =M21 -> 146 | Y21: =N21 -> 7
C22: 11.00 - 12.00 | E22: =Origine!H164 -> 89 | F22: =Origine!I164 -> 13 | G22: =SUM(E22:F22) -> 102 | K22: 11.00 - 12.00 | M22: =Origine!H620 -> 131 | N22: =Origine!I620 -> 7 | O22: =SUM(M22:N22) -> 138 | R22: =G22 -> 102 | S22: 0.45833333 | T22: =E22 -> 89 | U22: =F22 -> 13 | V22: =O22 -> 138 | W22: 0.45833333 | X22: =M22 -> 131 | Y22: =N22 -> 7
C23: 12.00 - 13.00 | E23: =Origine!H165 -> 88 | F23: =Origine!I165 -> 8 | G23: =SUM(E23:F23) -> 96 | K23: 12.00 - 13.00 | M23: =Origine!H621 -> 174 | N23: =Origine!I621 -> 10 | O23: =SUM(M23:N23) -> 184 | R23: =G23 -> 96 | S23: 0.5 | T23: =E23 -> 88 | U23: =F23 -> 8 | V23: =O23 -> 184 | W23: 0.5 | X23: =M23 -> 174 | Y23: =N23 -> 10 | AD23: MEZZI LEGGERI
C24: 13.00 - 14.00 | E24: =Origine!H166 -> 61 | F24: =Origine!I166 -> 14 | G24: =SUM(E24:F24) -> 75 | K24: 13.00 - 14.00 | M24: =Origine!H622 -> 58 | N24: =Origine!I622 -> 9 | O24: =SUM(M24:N24) -> 67 | R24: =G24 -> 75 | S24: 0.54166667 | T24: =E24 -> 61 | U24: =F24 -> 14 | V24: =O24 -> 67 | W24: 0.54166667 | X24: =M24 -> 58 | Y24: =N24 -> 9
C25: 14.00 - 15.00 | E25: =Origine!H167 -> 74 | F25: =Origine!I167 -> 10 | G25: =SUM(E25:F25) -> 84 | K25: 14.00 - 15.00 | M25: =Origine!H623 -> 73 | N25: =Origine!I623 -> 8 | O25: =SUM(M25:N25) -> 81 | R25: =G25 -> 84 | S25: 0.58333333 | T25: =E25 -> 74 | U25: =F25 -> 10 | V25: =O25 -> 81 | W25: 0.58333333 | X25: =M25 -> 73 | Y25: =N25 -> 8
C26: 15.00 - 16.00 | E26: =Origine!H168 -> 62 | F26: =Origine!I168 -> 10 | G26: =SUM(E26:F26) -> 72 | K26: 15.00 - 16.00 | M26: =Origine!H624 -> 87 | N26: =Origine!I624 -> 5 | O26: =SUM(M26:N26) -> 92 | R26: =G26 -> 72 | S26: 0.625 | T26: =E26 -> 62 | U26: =F26 -> 10 | V26: =O26 -> 92 | W26: 0.625 | X26: =M26 -> 87 | Y26: =N26 -> 5
C27: 16.00 - 17.00 | E27: =Origine!H169 -> 87 | F27: =Origine!I169 -> 8 | G27: =SUM(E27:F27) -> 95 | K27: 16.00 - 17.00 | M27: =Origine!H625 -> 146 | N27: =Origine!I625 -> 6 | O27: =SUM(M27:N27) -> 152 | R27: =G27 -> 95 | S27: 0.66666667 | T27: =E27 -> 87 | U27: =F27 -> 8 | V27: =O27 -> 152 | W27: 0.66666667 | X27: =M27 -> 146 | Y27: =N27 -> 6
C28: 17.00 - 18.00 | E28: =Origine!H170 -> 59 | F28: =Origine!I170 -> 14 | G28: =SUM(E28:F28) -> 73 | K28: 17.00 - 18.00 | M28: =Origine!H626 -> 59 | N28: =Origine!I626 -> 8 | O28: =SUM(M28:N28) -> 67 | R28: =G28 -> 73 | S28: 0.70833333 | T28: =E28 -> 59 | U28: =F28 -> 14 | V28: =O28 -> 67 | W28: 0.70833333 | X28: =M28 -> 59 | Y28: =N28 -> 8
C29: 18.00 - 19.00 | E29: =Origine!H171 -> 49 | F29: =Origine!I171 -> 7 | G29: =SUM(E29:F29) -> 56 | K29: 18.00 - 19.00 | M29: =Origine!H627 -> 87 | N29: =Origine!I627 -> 7 | O29: =SUM(M29:N29) -> 94 | R29: =G29 -> 56 | S29: 0.75 | T29: =E29 -> 49 | U29: =F29 -> 7 | V29: =O29 -> 94 | W29: 0.75 | X29: =M29 -> 87 | Y29: =N29 -> 7
C30: 19.00 - 20.00 | E30: =Origine!H172 -> 21 | F30: =Origine!I172 -> 2 | G30: =SUM(E30:F30) -> 23 | K30: 19.00 - 20.00 | M30: =Origine!H628 -> 0 | N30: =Origine!I628 -> 3 | O30: =SUM(M30:N30) -> 3 | R30: =G30 -> 23 | S30: 0.79166667 | T30: =E30 -> 21 | U30: =F30 -> 2 | V30: =O30 -> 3 | W30: 0.79166667 | X30: =M30 -> 0 | Y30: =N30 -> 3
C31: 20.00 - 21.00 | E31: =Origine!H173 -> 12 | F31: =Origine!I173 -> 2 | G31: =SUM(E31:F31) -> 14 | K31: 20.00 - 21.00 | M31: =Origine!H629 -> 44 | N31: =Origine!I629 -> 3 | O31: =SUM(M31:N31) -> 47 | R31: =G31 -> 14 | S31: 0.83333333 | T31: =E31 -> 12 | U31: =F31 -> 2 | V31: =O31 -> 47 | W31: 0.83333333 | X31: =M31 -> 44 | Y31: =N31 -> 3
C32: 21.00 - 22.00 | E32: =Origine!H174 -> 8 | F32: =Origine!I174 -> 3 | G32: =SUM(E32:F32) -> 11 | K32: 21.00 - 22.00 | M32: =Origine!H630 -> 15 | N32: =Origine!I630 -> 1 | O32: =SUM(M32:N32) -> 16 | R32: =G32 -> 11 | S32: 0.875 | T32: =E32 -> 8 | U32: =F32 -> 3 | V32: =O32 -> 16 | W32: 0.875 | X32: =M32 -> 15 | Y32: =N32 -> 1
C33: 22.00 - 23.00 | E33: =Origine!H175 -> 6 | F33: =Origine!I175 -> 2 | G33: =SUM(E33:F33) -> 8 | K33: 22.00 - 23.00 | M33: =Origine!H631 -> 15 | N33: =Origine!I631 -> 2 | O33: =SUM(M33:N33) -> 17 | R33: =G33 -> 8 | S33: 0.91666667 | T33: =E33 -> 6 | U33: =F33 -> 2 | V33: =O33 -> 17 | W33: 0.91666667 | X33: =M33 -> 15 | Y33: =N33 -> 2
C34: 23.00 - 24.00 | E34: =Origine!H176 -> 3 | F34: =Origine!I176 -> 0 | G34: =SUM(E34:F34) -> 3 | K34: 23.00 - 24.00 | M34: =Origine!H632 -> 0 | N34: =Origine!I632 -> 1 | O34: =SUM(M34:N34) -> 1 | R34: =G34 -> 3 | S34: 0.95833333 | T34: =E34 -> 3 | U34: =F34 -> 0 | V34: =O34 -> 1 | W34: 0.95833333 | X34: =M34 -> 0 | Y34: =N34 -> 1
C35: Totale | E35: =SUM(E11:E34) -> 1121 | F35: =SUM(F11:F34) -> 151 | G35: =SUM(G11:G34) -> 1272 | K35: Totale | M35: =SUM(M11:M34) -> 1517 | N35: =SUM(N11:N34) -> 115 | O35: =SUM(O11:O34) -> 1632
C38: Intervallo Orario | E38: Volumi | G38: Totale | K38: Intervallo Orario | M38: Volumi | O38: Totale
E39: Leggeri | F39: Pesanti | M39: Leggeri | N39: Pesanti
C40: Diurno | E40: =SUM(E18:E29) -> 995 | F40: =SUM(F18:F29) -> 134 | G40: =SUM(E40:F41) -> 1129 | K40: Diurno | M40: =SUM(M18:M29) -> 1340 | N40: =SUM(N18:N29) -> 99 | O40: =SUM(M40:N41) -> 1439
C42: Notturno | E42: =SUM(E11:E17,E30:E34) -> 126 | F42: =SUM(F11:F17,F30:F34) -> 17 | G42: =SUM(E42:F43) -> 143 | K42: Notturno | M42: =SUM(M11:M17,M30:M34) -> 177 | N42: =SUM(N11:N17,N30:N34) -> 16 | O42: =SUM(M42:N43) -> 193
C44: Totale | E44: =SUM(E40:E43) -> 1121 | F44: =SUM(F40:F43) -> 151 | G44: =SUM(E44:F45) -> 1272 | K44: Totale | M44: =SUM(M40:M43) -> 1517 | N44: =SUM(N40:N43) -> 115 | O44: =SUM(M44:N45) -> 1632
C47: Ore di punta | K47: Ore di punta | AD47: Mezzi pesanti
C49: Intervallo Orario | E49: Volumi | G49: Totale | K49: Intervallo Orario | M49: Volumi | O49: Totale
E50: Leggeri | F50: Pesanti | M50: Leggeri | N50: Pesanti
C51: =CONCATENATE((AE10),".00"," - ",(AF10),".00") -> 8.00 - 9.00 | E51: =AB11 -> 132 | F51: =AC11 -> 20 | G51: =SUM(E51:F51) -> 152 | K51: =CONCATENATE((AK10),".00"," - ",(AL10),".00") -> 7.00 - 8.00 | M51: =AH11 -> 175 | N51: =AI11 -> 12 | O51: =SUM(M51:N51) -> 187
C52: =CONCATENATE((AE13),".00"," - ",(AF13),".00") -> 16.00 - 17.00 | E52: =AB14 -> 87 | F52: =AC14 -> 8 | G52: =SUM(E52:F52) -> 95 | K52: =CONCATENATE((AK13),".00"," - ",(AL13),".00") -> 16.00 - 17.00 | M52: =AH14 -> 146 | N52: =AI14 -> 6 | O52: =SUM(M52:N52) -> 152

Sheet GG8
B1: =+CONCATENATE("Comune di ",Origine!C3) -> Comune di Civitavecchia
B2: Monitoraggio del traffico
C4: Sezione: | D4: =+Origine!C4 -> Calata Principe Tommaso | K4: Data: | L4: =+Origine!B177 -> 45700
C7: =CONCATENATE("Direzione: ",Origine!D9) -> Direzione: Nord | K7: =CONCATENATE("Direzione: ",Origine!D469) -> Direzione: Sud
C9: Intervallo orario | E9: Volumi | G9: Totale | K9: Intervallo orario | M9: Volumi | O9: Totale | R9: =C7 -> Direzione: Nord | V9: =K7 -> Direzione: Sud
E10: Leggeri | F10: Pesanti | M10: Leggeri | N10: Pesanti | R10: Totale Veicoli | S10: HH | T10: Classe 1 | U10: Classe 2 | V10: Totale Veicoli | W10: HH | X10: Classe 1 | Y10: Classe 2 | AA10: Am | AB10: =MAX(R11:R23) -> 129 | AC10: =VLOOKUP(AB10,R11:S23,2,FALSE) -> 0.33333333 | AD10: =AC10+S12 -> 0.375 | AE10: =HOUR(AC10) -> 8 | AF10: =HOUR(AD10) -> 9 | AG10: Am | AH10: =MAX(V11:V23) -> 155 | AI10: =VLOOKUP(AH10,V11:W23,2,FALSE) -> 0.5 | AJ10: =AI10+W12 -> 0.54166667 | AK10: =HOUR(AI10) -> 12 | AL10: =HOUR(AJ10) -> 13
C11: 0.00 - 1.00 | E11: =Origine!H177 -> 2 | F11: =Origine!I177 -> 0 | G11: =SUM(E11:F11) -> 2 | K11: 0.00 - 1.00 | M11: =Origine!H633 -> 0 | N11: =Origine!I633 -> 0 | O11: =SUM(M11:N11) -> 0 | R11: =G11 -> 2 | S11: 0 | T11: =E11 -> 2 | U11: =F11 -> 0 | V11: =O11 -> 0 | W11: 0 | X11: =M11 -> 0 | Y11: =N11 -> 0 | AA11: Peak | AB11: =VLOOKUP($AC$10,$S$11:$U$34,2,FALSE) -> 123 | AC11: =VLOOKUP($AC$10,$S$11:$U$34,3,FALSE) -> 6 | AG11: Peak | AH11: =VLOOKUP($AI$10,$W$11:$Y$34,2,FALSE) -> 145 | AI11: =VLOOKUP($AI$10,$W$11:$Y$34,3,FALSE) -> 10
C12: 1.00 - 2.00 | E12: =Origine!H178 -> 1 | F12: =Origine!I178 -> 0 | G12: =SUM(E12:F12) -> 1 | K12: 1.00 - 2.00 | M12: =Origine!H634 -> 0 | N12: =Origine!I634 -> 0 | O12: =SUM(M12:N12) -> 0 | R12: =G12 -> 1 | S12: 0.041666667 | T12: =E12 -> 1 | U12: =F12 -> 0 | V12: =O12 -> 0 | W12: 0.041666667 | X12: =M12 -> 0 | Y12: =N12 -> 0
C13: 2.00 - 3.00 | E13: =Origine!H179 -> 0 | F13: =Origine!I179 -> 0 | G13: =SUM(E13:F13) -> 0 | K13: 2.00 - 3.00 | M13: =Origine!H635 -> 0 | N13: =Origine!I635 -> 0 | O13: =SUM(M13:N13) -> 0 | R13: =G13 -> 0 | S13: 0.083333333 | T13: =E13 -> 0 | U13: =F13 -> 0 | V13: =O13 -> 0 | W13: 0.083333333 | X13: =M13 -> 0 | Y13: =N13 -> 0 | AA13: Pm | AB13: =MAX(R24:R34) -> 83 | AC13: =VLOOKUP(AB13,R24:S34,2,FALSE) -> 0.58333333 | AD13: =AC13+S12 -> 0.625 | AE13: =HOUR(AC13) -> 14 | AF13: =HOUR(AD13) -> 15 | AG13: Pm | AH13: =MAX(V24:V34) -> 97 | AI13: =VLOOKUP(AH13,V24:W34,2,FALSE) -> 0.66666667 | AJ13: =AI13+W12 -> 0.70833333 | AK13: =HOUR(AI13) -> 16 | AL13: =HOUR(AJ13) -> 17
C14: 3.00 - 4.00 | E14: =Origine!H180 -> 3 | F14: =Origine!I180 -> 0 | G14: =SUM(E14:F14) -> 3 | K14: 3.00 - 4.00 | M14: =Origine!H636 -> 0 | N14: =Origine!I636 -> 0 | O14: =SUM(M14:N14) -> 0 | R14: =G14 -> 3 | S14: 0.125 | T14: =E14 -> 3 | U14: =F14 -> 0 | V14: =O14 -> 0 | W14: 0.125 | X14: =M14 -> 0 | Y14: =N14 -> 0 | AA14: Peak | AB14: =VLOOKUP($AC$13,$S$11:$U$34,2,FALSE) -> 74 | AC14: =VLOOKUP($AC$13,$S$11:$U$34,3,FALSE) -> 9 | AG14: Peak | AH14: =VLOOKUP($AI$13,$W$11:$Y$34,2,FALSE) -> 87 | AI14: =VLOOKUP($AI$13,$W$11:$Y$34,3,FALSE) -> 10
C15: 4.00 - 5.00 | E15: =Origine!H181 -> 6 | F15: =Origine!I181 -> 0 | G15: =SUM(E15:F15) -> 6 | K15: 4.00 - 5.00 | M15: =Origine!H637 -> 0 | N15: =Origine!I637 -> 0 | O15: =SUM(M15:N15) -> 0 | R15: =G15 -> 6 | S15: 0.16666667 | T15: =E15 -> 6 | U15: =F15 -> 0 | V15: =O15 -> 0 | W15: 0.16666667 | X15: =M15 -> 0 | Y15: =N15 -> 0
C16: 5.00 - 6.00 | E16: =Origine!H182 -> 29 | F16: =Origine!I182 -> 2 | G16: =SUM(E16:F16) -> 31 | K16: 5.00 - 6.00 | M16: =Origine!H638 -> 44 | N16: =Origine!I638 -> 1 | O16: =SUM(M16:N16) -> 45 | R16: =G16 -> 31 | S16: 0.20833333 | T16: =E16 -> 29 | U16: =F16 -> 2 | V16: =O16 -> 45 | W16: 0.20833333 | X16: =M16 -> 44 | Y16: =N16 -> 1
C17: 6.00 - 7.00 | E17: =Origine!H183 -> 42 | F17: =Origine!I183 -> 1 | G17: =SUM(E17:F17) -> 43 | K17: 6.00 - 7.00 | M17: =Origine!H639 -> 15 | N17: =Origine!I639 -> 4 | O17: =SUM(M17:N17) -> 19 | R17: =G17 -> 43 | S17: 0.25 | T17: =E17 -> 42 | U17: =F17 -> 1 | V17: =O17 -> 19 | W17: 0.25 | X17: =M17 -> 15 | Y17: =N17 -> 4
C18: 7.00 - 8.00 | E18: =Origine!H184 -> 91 | F18: =Origine!I184 -> 4 | G18: =SUM(E18:F18) -> 95 | K18: 7.00 - 8.00 | M18: =Origine!H640 -> 116 | N18: =Origine!I640 -> 9 | O18: =SUM(M18:N18) -> 125 | R18: =G18 -> 95 | S18: 0.29166667 | T18: =E18 -> 91 | U18: =F18 -> 4 | V18: =O18 -> 125 | W18: 0.29166667 | X18: =M18 -> 116 | Y18: =N18 -> 9
C19: 8.00 - 9.00 | E19: =Origine!H185 -> 123 | F19: =Origine!I185 -> 6 | G19: =SUM(E19:F19) -> 129 | K19: 8.00 - 9.00 | M19: =Origine!H641 -> 73 | N19: =Origine!I641 -> 9 | O19: =SUM(M19:N19) -> 82 | R19: =G19 -> 129 | S19: 0.33333333 | T19: =E19 -> 123 | U19: =F19 -> 6 | V19: =O19 -> 82 | W19: 0.33333333 | X19: =M19 -> 73 | Y19: =N19 -> 9
C20: 9.00 - 10.00 | E20: =Origine!H186 -> 74 | F20: =Origine!I186 -> 6 | G20: =SUM(E20:F20) -> 80 | K20: 9.00 - 10.00 | M20: =Origine!H642 -> 88 | N20: =Origine!I642 -> 6 | O20: =SUM(M20:N20) -> 94 | R20: =G20 -> 80 | S20: 0.375 | T20: =E20 -> 74 | U20: =F20 -> 6 | V20: =O20 -> 94 | W20: 0.375 | X20: =M20 -> 88 | Y20: =N20 -> 6
C21: 10.00 - 11.00 | E21: =Origine!H187 -> 73 | F21: =Origine!I187 -> 11 | G21: =SUM(E21:F21) -> 84 | K21: 10.00 - 11.00 | M21: =Origine!H643 -> 73 | N21: =Origine!I643 -> 9 | O21: =SUM(M21:N21) -> 82 | R21: =G21 -> 84 | S21: 0.41666667 | T21: =E21 -> 73 | U21: =F21 -> 11 | V21: =O21 -> 82 | W21: 0.41666667 | X21: =M21 -> 73 | Y21: =N21 -> 9
C22: 11.00 - 12.00 | E22: =Origine!H188 -> 79 | F22: =Origine!I188 -> 8 | G22: =SUM(E22:F22) -> 87 | K22: 11.00 - 12.00 | M22: =Origine!H644 -> 58 | N22: =Origine!I644 -> 8 | O22: =SUM(M22:N22) -> 66 | R22: =G22 -> 87 | S22: 0.45833333 | T22: =E22 -> 79 | U22: =F22 -> 8 | V22: =O22 -> 66 | W22: 0.45833333 | X22: =M22 -> 58 | Y22: =N22 -> 8
C23: 12.00 - 13.00 | E23: =Origine!H189 -> 67 | F23: =Origine!I189 -> 5 | G23: =SUM(E23:F23) -> 72 | K23: 12.00 - 13.00 | M23: =Origine!H645 -> 145 | N23: =Origine!I645 -> 10 | O23: =SUM(M23:N23) -> 155 | R23: =G23 -> 72 | S23: 0.5 | T23: =E23 -> 67 | U23: =F23 -> 5 | V23: =O23 -> 155 | W23: 0.5 | X23: =M23 -> 145 | Y23: =N23 -> 10
C24: 13.00 - 14.00 | E24: =Origine!H190 -> 71 | F24: =Origine!I190 -> 5 | G24: =SUM(E24:F24) -> 76 | K24: 13.00 - 14.00 | M24: =Origine!H646 -> 73 | N24: =Origine!I646 -> 11 | O24: =SUM(M24:N24) -> 84 | R24: =G24 -> 76 | S24: 0.54166667 | T24: =E24 -> 71 | U24: =F24 -> 5 | V24: =O24 -> 84 | W24: 0.54166667 | X24: =M24 -> 73 | Y24: =N24 -> 11
C25: 14.00 - 15.00 | E25: =Origine!H191 -> 74 | F25: =Origine!I191 -> 9 | G25: =SUM(E25:F25) -> 83 | K25: 14.00 - 15.00 | M25: =Origine!H647 -> 44 | N25: =Origine!I647 -> 6 | O25: =SUM(M25:N25) -> 50 | R25: =G25 -> 83 | S25: 0.58333333 | T25: =E25 -> 74 | U25: =F25 -> 9 | V25: =O25 -> 50 | W25: 0.58333333 | X25: =M25 -> 44 | Y25: =N25 -> 6
C26: 15.00 - 16.00 | E26: =Origine!H192 -> 51 | F26: =Origine!I192 -> 13 | G26: =SUM(E26:F26) -> 64 | K26: 15.00 - 16.00 | M26: =Origine!H648 -> 73 | N26: =Origine!I648 -> 5 | O26: =SUM(M26:N26) -> 78 | R26: =G26 -> 64 | S26: 0.625 | T26: =E26 -> 51 | U26: =F26 -> 13 | V26: =O26 -> 78 | W26: 0.625 | X26: =M26 -> 73 | Y26: =N26 -> 5
... C34: 23.00 - 24.00 | E34: =Origine!H200 -> 6 | F34: =Origine!I200 -> 0 | G34: =SUM(E34:F34) -> 6 | K34: 23.00 - 24.00 | M34: =Origine!H656 -> 44 | N34: =Origine!I656 -> 2 | O34: =SUM(M34:N34) -> 46 | R34: =G34 -> 6 | S34: 0.95833333 | T34: =E34 -> 6 | U34: =F34 -> 0 | V34: =O34 -> 46 | W34: 0.95833333 | X34: =M34 -> 44 | Y34: =N34 -> 2
C35: Totale | E35: =SUM(E11:E34) -> 967 | F35: =SUM(F11:F34) -> 98 | G35: =SUM(G11:G34) -> 1065 | K35: Totale | M35: =SUM(M11:M34) -> 1166 | N35: =SUM(N11:N34) -> 110 | O35: =SUM(O11:O34) -> 1276
C38: Intervallo Orario | E38: Volumi | G38: Totale | K38: Intervallo Orario | M38: Volumi | O38: Totale
E39: Leggeri | F39: Pesanti | M39: Leggeri | N39: Pesanti
C40: Diurno | E40: =SUM(E18:E29) -> 836 | F40: =SUM(F18:F29) -> 84 | G40: =SUM(E40:F41) -> 920 | K40: Diurno | M40: =SUM(M18:M29) -> 961 | N40: =SUM(N18:N29) -> 96 | O40: =SUM(M40:N41) -> 1057
C42: Notturno | E42: =SUM(E11:E17,E30:E34) -> 131 | F42: =SUM(F11:F17,F30:F34) -> 14 | G42: =SUM(E42:F43) -> 145 | K42: Notturno | M42: =SUM(M11:M17,M30:M34) -> 205 | N42: =SUM(N11:N17,N30:N34) -> 14 | O42: =SUM(M42:N43) -> 219
C44: Totale | E44: =SUM(E40:E43) -> 967 | F44: =SUM(F40:F43) -> 98 | G44: =SUM(E44:F45) -> 1065 | K44: Totale | M44: =SUM(M40:M43) -> 1166 | N44: =SUM(N40:N43) -> 110 | O44: =SUM(M44:N45) -> 1276
C47: Ore di punta | K47: Ore di punta
C49: Intervallo Orario | E49: Volumi | G49: Totale | K49: Intervallo Orario | M49: Volumi | O49: Totale
E50: Leggeri | F50: Pesanti | M50: Leggeri | N50: Pesanti
C51: =CONCATENATE((AE10),".00"," - ",(AF10),".00") -> 8.00 - 9.00 | E51: =AB11 -> 123 | F51: =AC11 -> 6 | G51: =SUM(E51:F51) -> 129 | K51: =CONCATENATE((AK10),".00"," - ",(AL10),".00") -> 12.00 - 13.00 | M51: =AH11 -> 145 | N51: =AI11 -> 10 | O51: =SUM(M51:N51) -> 155
C52: =CONCATENATE((AE13),".00"," - ",(AF13),".00") -> 14.00 - 15.00 | E52: =AB14 -> 74 | F52: =AC14 -> 9 | G52: =SUM(E52:F52) -> 83 | K52: =CONCATENATE((AK13),".00"," - ",(AL13),".00") -> 16.00 - 17.00 | M52: =AH14 -> 87 | N52: =AI14 -> 10 | O52: =SUM(M52:N52) -> 97

Sheet GG9
B1: =+CONCATENATE("Comune di ",Origine!C3) -> Comune di Civitavecchia
B2: Monitoraggio del traffico
C4: Sezione: | D4: =+Origine!C4 -> Calata Principe Tommaso | K4: Data: | L4: =+Origine!B201 -> 45701
C7: =CONCATENATE("Direzione: ",Origine!D9) -> Direzione: Nord | K7: =CONCATENATE("Direzione: ",Origine!D469) -> Direzione: Sud
C9: Intervallo orario | E9: Volumi | G9: Totale | K9: Intervallo orario | M9: Volumi | O9: Totale | R9: =C7 -> Direzione: Nord | V9: =K7 -> Direzione: Sud
E10: Leggeri | F10: Pesanti | M10: Leggeri | N10: Pesanti | R10: Totale Veicoli | S10: HH | T10: Classe 1 | U10: Classe 2 | V10: Totale Veicoli | W10: HH | X10: Classe 1 | Y10: Classe 2 | AA10: Am | AB10: =MAX(R11:R23) -> 202 | AC10: =VLOOKUP(AB10,R11:S23,2,FALSE) -> 0.45833333 | AD10: =AC10+S12 -> 0.5 | AE10: =HOUR(AC10) -> 11 | AF10: =HOUR(AD10) -> 12 | AG10: Am | AH10: =MAX(V11:V23) -> 263 | AI10: =VLOOKUP(AH10,V11:W23,2,FALSE) -> 0.5 | AJ10: =AI10+W12 -> 0.54166667 | AK10: =HOUR(AI10) -> 12 | AL10: =HOUR(AJ10) -> 13
C11: 0.00 - 1.00 | E11: =Origine!H201 -> 5 | F11: =Origine!I201 -> 0 | G11: =SUM(E11:F11) -> 5 | K11: 0.00 - 1.00 | M11: =Origine!H657 -> 0 | N11: =Origine!I657 -> 1 | O11: =SUM(M11:N11) -> 1 | R11: =G11 -> 5 | S11: 0 | T11: =E11 -> 5 | U11: =F11 -> 0 | V11: =O11 -> 1 | W11: 0 | X11: =M11 -> 0 | Y11: =N11 -> 1 | AA11: Peak | AB11: =VLOOKUP($AC$10,$S$11:$U$34,2,FALSE) -> 167 | AC11: =VLOOKUP($AC$10,$S$11:$U$34,3,FALSE) -> 35 | AG11: Peak | AH11: =VLOOKUP($AI$10,$W$11:$Y$34,2,FALSE) -> 247 | AI11: =VLOOKUP($AI$10,$W$11:$Y$34,3,FALSE) -> 16
C12: 1.00 - 2.00 | E12: =Origine!H202 -> 4 | F12: =Origine!I202 -> 0 | G12: =SUM(E12:F12) -> 4 | K12: 1.00 - 2.00 | M12: =Origine!H658 -> 0 | N12: =Origine!I658 -> 0 | O12: =SUM(M12:N12) -> 0 | R12: =G12 -> 4 | S12: 0.041666667 | T12: =E12 -> 4 | U12: =F12 -> 0 | V12: =O12 -> 0 | W12: 0.041666667 | X12: =M12 -> 0 | Y12: =N12 -> 0
C13: 2.00 - 3.00 | E13: =Origine!H203 -> 1 | F13: =Origine!I203 -> 0 | G13: =SUM(E13:F13) -> 1 | K13: 2.00 - 3.00 | M13: =Origine!H659 -> 0 | N13: =Origine!I659 -> 0 | O13: =SUM(M13:N13) -> 0 | R13: =G13 -> 1 | S13: 0.083333333 | T13: =E13 -> 1 | U13: =F13 -> 0 | V13: =O13 -> 0 | W13: 0.083333333 | X13: =M13 -> 0 | Y13: =N13 -> 0 | AA13: Pm | AB13: =MAX(R24:R34) -> 102 | AC13: =VLOOKUP(AB13,R24:S34,2,FALSE) -> 0.58333333 | AD13: =AC13+S12 -> 0.625 | AE13: =HOUR(AC13) -> 14 | AF13: =HOUR(AD13) -> 15 | AG13: Pm | AH13: =MAX(V24:V34) -> 197 | AI13: =VLOOKUP(AH13,V24:W34,2,FALSE) -> 0.70833333 | AJ13: =AI13+W12 -> 0.75 | AK13: =HOUR(AI13) -> 17 | AL13: =HOUR(AJ13) -> 18
C14: 3.00 - 4.00 | E14: =Origine!H204 -> 3 | F14: =Origine!I204 -> 0 | G14: =SUM(E14:F14) -> 3 | K14: 3.00 - 4.00 | M14: =Origine!H660 -> 0 | N14: =Origine!I660 -> 1 | O14: =SUM(M14:N14) -> 1 | R14: =G14 -> 3 | S14: 0.125 | T14: =E14 -> 3 | U14: =F14 -> 0 | V14: =O14 -> 1 | W14: 0.125 | X14: =M14 -> 0 | Y14: =N14 -> 1 | AA14: Peak | AB14: =VLOOKUP($AC$13,$S$11:$U$34,2,FALSE) -> 94 | AC14: =VLOOKUP($AC$13,$S$11:$U$34,3,FALSE) -> 8 | AG14: Peak | AH14: =VLOOKUP($AI$13,$W$11:$Y$34,2,FALSE) -> 189 | AI14: =VLOOKUP($AI$13,$W$11:$Y$34,3,FALSE) -> 8
C15: 4.00 - 5.00 | E15: =Origine!H205 -> 9 | F15: =Origine!I205 -> 0 | G15: =SUM(E15:F15) -> 9 | K15: 4.00 - 5.00 | M15: =Origine!H661 -> 15 | N15: =Origine!I661 -> 0 | O15: =SUM(M15:N15) -> 15 | R15: =G15 -> 9 | S15: 0.16666667 | T15: =E15 -> 9 | U15: =F15 -> 0 | V15: =O15 -> 15 | W15: 0.16666667 | X15: =M15 -> 15 | Y15: =N15 -> 0
C16: 5.00 - 6.00 | E16: =Origine!H206 -> 27 | F16: =Origine!I206 -> 1 | G16: =SUM(E16:F16) -> 28 | K16: 5.00 - 6.00 | M16: =Origine!H662 -> 0 | N16: =Origine!I662 -> 1 | O16: =SUM(M16:N16) -> 1 | R16: =G16 -> 28 | S16: 0.20833333 | T16: =E16 -> 27 | U16: =F16 -> 1 | V16: =O16 -> 1 | W16: 0.20833333 | X16: =M16 -> 0 | Y16: =N16 -> 1
C17: 6.00 - 7.00 | E17: =Origine!H207 -> 42 | F17: =Origine!I207 -> 1 | G17: =SUM(E17:F17) -> 43 | K17: 6.00 - 7.00 | M17: =Origine!H663 -> 58 | N17: =Origine!I663 -> 2 | O17: =SUM(M17:N17) -> 60 | R17: =G17 -> 43 | S17: 0.25 | T17: =E17 -> 42 | U17: =F17 -> 1 | V17: =O17 -> 60 | W17: 0.25 | X17: =M17 -> 58 | Y17: =N17 -> 2
C18: 7.00 - 8.00 | E18: =Origine!H208 -> 90 | F18: =Origine!I208 -> 2 | G18: =SUM(E18:F18) -> 92 | K18: 7.00 - 8.00 | M18: =Origine!H664 -> 189 | N18: =Origine!I664 -> 4 | O18: =SUM(M18:N18) -> 193 | R18: =G18 -> 92 | S18: 0.29166667 | T18: =E18 -> 90 | U18: =F18 -> 2 | V18: =O18 -> 193 | W18: 0.29166667 | X18: =M18 -> 189 | Y18: =N18 -> 4
C19: 8.00 - 9.00 | E19: =Origine!H209 -> 111 | F19: =Origine!I209 -> 3 | G19: =SUM(E19:F19) -> 114 | K19: 8.00 - 9.00 | M19: =Origine!H665 -> 233 | N19: =Origine!I665 -> 7 | O19: =SUM(M19:N19) -> 240 | R19: =G19 -> 114 | S19: 0.33333333 | T19: =E19 -> 111 | U19: =F19 -> 3 | V19: =O19 -> 240 | W19: 0.33333333 | X19: =M19 -> 233 | Y19: =N19 -> 7
C20: 9.00 - 10.00 | E20: =Origine!H210 -> 91 | F20: =Origine!I210 -> 6 | G20: =SUM(E20:F20) -> 97 | K20: 9.00 - 10.00 | M20: =Origine!H666 -> 189 | N20: =Origine!I666 -> 7 | O20: =SUM(M20:N20) -> 196 | R20: =G20 -> 97 | S20: 0.375 | T20: =E20 -> 91 | U20: =F20 -> 6 | V20: =O20 -> 196 | W20: 0.375 | X20: =M20 -> 189 | Y20: =N20 -> 7
C21: 10.00 - 11.00 | E21: =Origine!H211 -> 96 | F21: =Origine!I211 -> 4 | G21: =SUM(E21:F21) -> 100 | K21: 10.00 - 11.00 | M21: =Origine!H667 -> 175 | N21: =Origine!I667 -> 4 | O21: =SUM(M21:N21) -> 179 | R21: =G21 -> 100 | S21: 0.41666667 | T21: =E21 -> 96 | U21: =F21 -> 4 | V21: =O21 -> 179 | W21: 0.41666667 | X21: =M21 -> 175 | Y21: =N21 -> 4
C22: 11.00 - 12.00 | E22: =Origine!H212 -> 167 | F22: =Origine!I212 -> 35 | G22: =SUM(E22:F22) -> 202 | K22: 11.00 - 12.00 | M22: =Origine!H668 -> 189 | N22: =Origine!I668 -> 10 | O22: =SUM(M22:N22) -> 199 | R22: =G22 -> 202 | S22: 0.45833333 | T22: =E22 -> 167 | U22: =F22 -> 35 | V22: =O22 -> 199 | W22: 0.45833333 | X22: =M22 -> 189 | Y22: =N22 -> 10
C23: 12.00 - 13.00 | E23: =Origine!H213 -> 145 | F23: =Origine!I213 -> 18 | G23: =SUM(E23:F23) -> 163 | K23: 12.00 - 13.00 | M23: =Origine!H669 -> 247 | N23: =Origine!I669 -> 16 | O23: =SUM(M23:N23) -> 263 | R23: =G23 -> 163 | S23: 0.5 | T23: =E23 -> 145 | U23: =F23 -> 18 | V23: =O23 -> 263 | W23: 0.5 | X23: =M23 -> 247 | Y23: =N23 -> 16
C24: 13.00 - 14.00 | E24: =Origine!H214 -> 82 | F24: =Origine!I214 -> 12 | G24: =SUM(E24:F24) -> 94 | K24: 13.00 - 14.00 | M24: =Origine!H670 -> 131 | N24: =Origine!I670 -> 11 | O24: =SUM(M24:N24) -> 142 | R24: =G24 -> 94 | S24: 0.54166667 | T24: =E24 -> 82 | U24: =F24 -> 12 | V24: =O24 -> 142 | W24: 0.54166667 | X24: =M24 -> 131 | Y24: =N24 -> 11
C25: 14.00 - 15.00 | E25: =Origine!H215 -> 94 | F25: =Origine!I215 -> 8 | G25: =SUM(E25:F25) -> 102 | K25: 14.00 - 15.00 | M25: =Origine!H671 -> 174 | N25: =Origine!I671 -> 7 | O25: =SUM(M25:N25) -> 181 | R25: =G25 -> 102 | S25: 0.58333333 | T25: =E25 -> 94 | U25: =F25 -> 8 | V25: =O25 -> 181 | W25: 0.58333333 | X25: =M25 -> 174 | Y25: =N25 -> 7
C26: 15.00 - 16.00 | E26: =Origine!H216 -> 64 | F26: =Origine!I216 -> 8 | G26: =SUM(E26:F26) -> 72 | K26: 15.00 - 16.00 | M26: =Origine!H672 -> 58 | N26: =Origine!I672 -> 7 | O26: =SUM(M26:N26) -> 65 | R26: =G26 -> 72 | S26: 0.625 | T26: =E26 -> 64 | U26: =F26 -> 8 | V26: =O26 -> 65 | W26: 0.625 | X26: =M26 -> 58 | Y26: =N26 -> 7
... C34: 23.00 - 24.00 | E34: =Origine!H224 -> 5 | F34: =Origine!I224 -> 0 | G34: =SUM(E34:F34) -> 5 | K34: 23.00 - 24.00 | M34: =Origine!H680 -> 15 | N34: =Origine!I680 -> 1 | O34: =SUM(M34:N34) -> 16 | R34: =G34 -> 5 | S34: 0.95833333 | T34: =E34 -> 5 | U34: =F34 -> 0 | V34: =O34 -> 16 | W34: 0.95833333 | X34: =M34 -> 15 | Y34: =N34 -> 1
C35: Totale | E35: =SUM(E11:E34) -> 1312 | F35: =SUM(F11:F34) -> 153 | G35: =SUM(G11:G34) -> 1465 | K35: Totale | M35: =SUM(M11:M34) -> 2096 | N35: =SUM(N11:N34) -> 118 | O35: =SUM(O11:O34) -> 2214
C38: Intervallo Orario | E38: Volumi | G38: Totale | K38: Intervallo Orario | M38: Volumi | O38: Totale
E39: Leggeri | F39: Pesanti | M39: Leggeri | N39: Pesanti
C40: Diurno | E40: =SUM(E18:E29) -> 1143 | F40: =SUM(F18:F29) -> 125 | G40: =SUM(E40:F41) -> 1268 | K40: Diurno | M40: =SUM(M18:M29) -> 1877 | N40: =SUM(N18:N29) -> 100 | O40: =SUM(M40:N41) -> 1977
C42: Notturno | E42: =SUM(E11:E17,E30:E34) -> 169 | F42: =SUM(F11:F17,F30:F34) -> 28 | G42: =SUM(E42:F43) -> 197 | K42: Notturno | M42: =SUM(M11:M17,M30:M34) -> 219 | N42: =SUM(N11:N17,N30:N34) -> 18 | O42: =SUM(M42:N43) -> 237
C44: Totale | E44: =SUM(E40:E43) -> 1312 | F44: =SUM(F40:F43) -> 153 | G44: =SUM(E44:F45) -> 1465 | K44: Totale | M44: =SUM(M40:M43) -> 2096 | N44: =SUM(N40:N43) -> 118 | O44: =SUM(M44:N45) -> 2214
C47: Ore di punta | K47: Ore di punta
C49: Intervallo Orario | E49: Volumi | G49: Totale | K49: Intervallo Orario | M49: Volumi | O49: Totale
E50: Leggeri | F50: Pesanti | M50: Leggeri | N50: Pesanti
C51: =CONCATENATE((AE10),".00"," - ",(AF10),".00") -> 11.00 - 12.00 | E51: =AB11 -> 167 | F51: =AC11 -> 35 | G51: =SUM(E51:F51) -> 202 | K51: =CONCATENATE((AK10),".00"," - ",(AL10),".00") -> 12.00 - 13.00 | M51: =AH11 -> 247 | N51: =AI11 -> 16 | O51: =SUM(M51:N51) -> 263
C52: =CONCATENATE((AE13),".00"," - ",(AF13),".00") -> 14.00 - 15.00 | E52: =AB14 -> 94 | F52: =AC14 -> 8 | G52: =SUM(E52:F52) -> 102 | K52: =CONCATENATE((AK13),".00"," - ",(AL13),".00") -> 17.00 - 18.00 | M52: =AH14 -> 189 | N52: =AI14 -> 8 | O52: =SUM(M52:N52) -> 197

Sheet GG10
B1: =+CONCATENATE("Comune di ",Origine!C3) -> Comune di Civitavecchia
B2: Monitoraggio del traffico
C4: Sezione: | D4: =+Origine!C4 -> Calata Principe Tommaso | K4: Data: | L4: =+Origine!B225 -> 45702
C7: =CONCATENATE("Direzione: ",Origine!D9) -> Direzione: Nord | K7: =CONCATENATE("Direzione: ",Origine!D469) -> Direzione: Sud
C9: Intervallo orario | E9: Volumi | G9: Totale | K9: Intervallo orario | M9: Volumi | O9: Totale | R9: =C7 -> Direzione: Nord | V9: =K7 -> Direzione: Sud
E10: Leggeri | F10: Pesanti | M10: Leggeri | N10: Pesanti | R10: Totale Veicoli | S10: HH | T10: Classe 1 | U10: Classe 2 | V10: Totale Veicoli | W10: HH | X10: Classe 1 | Y10: Classe 2 | AA10: Am | AB10: =MAX(R11:R23) -> 141 | AC10: =VLOOKUP(AB10,R11:S23,2,FALSE) -> 0.33333333 | AD10: =AC10+S12 -> 0.375 | AE10: =HOUR(AC10) -> 8 | AF10: =HOUR(AD10) -> 9 | AG10: Am | AH10: =MAX(V11:V23) -> 196 | AI10: =VLOOKUP(AH10,V11:W23,2,FALSE) -> 0.41666667 | AJ10: =AI10+W12 -> 0.45833333 | AK10: =HOUR(AI10) -> 10 | AL10: =HOUR(AJ10) -> 11
C11: 0.00 - 1.00 | E11: =Origine!H225 -> 1 | F11: =Origine!I225 -> 0 | G11: =SUM(E11:F11) -> 1 | K11: 0.00 - 1.00 | M11: =Origine!H681 -> 0 | N11: =Origine!I681 -> 0 | O11: =SUM(M11:N11) -> 0 | R11: =G11 -> 1 | S11: 0 | T11: =E11 -> 1 | U11: =F11 -> 0 | V11: =O11 -> 0 | W11: 0 | X11: =M11 -> 0 | Y11: =N11 -> 0 | AA11: Peak | AB11: =VLOOKUP($AC$10,$S$11:$U$34,2,FALSE) -> 132 | AC11: =VLOOKUP($AC$10,$S$11:$U$34,3,FALSE) -> 9 | AG11: Peak | AH11: =VLOOKUP($AI$10,$W$11:$Y$34,2,FALSE) -> 189 | AI11: =VLOOKUP($AI$10,$W$11:$Y$34,3,FALSE) -> 7
C12: 1.00 - 2.00 | E12: =Origine!H226 -> 3 | F12: =Origine!I226 -> 0 | G12: =SUM(E12:F12) -> 3 | K12: 1.00 - 2.00 | M12: =Origine!H682 -> 0 | N12: =Origine!I682 -> 0 | O12: =SUM(M12:N12) -> 0 | R12: =G12 -> 3 | S12: 0.041666667 | T12: =E12 -> 3 | U12: =F12 -> 0 | V12: =O12 -> 0 | W12: 0.041666667 | X12: =M12 -> 0 | Y12: =N12 -> 0
C13: 2.00 - 3.00 | E13: =Origine!H227 -> 2 | F13: =Origine!I227 -> 0 | G13: =SUM(E13:F13) -> 2 | K13: 2.00 - 3.00 | M13: =Origine!H683 -> 0 | N13: =Origine!I683 -> 0 | O13: =SUM(M13:N13) -> 0 | R13: =G13 -> 2 | S13: 0.083333333 | T13: =E13 -> 2 | U13: =F13 -> 0 | V13: =O13 -> 0 | W13: 0.083333333 | X13: =M13 -> 0 | Y13: =N13 -> 0 | AA13: Pm | AB13: =MAX(R24:R34) -> 75 | AC13: =VLOOKUP(AB13,R24:S34,2,FALSE) -> 0.54166667 | AD13: =AC13+S12 -> 0.58333333 | AE13: =HOUR(AC13) -> 13 | AF13: =HOUR(AD13) -> 14 | AG13: Pm | AH13: =MAX(V24:V34) -> 93 | AI13: =VLOOKUP(AH13,V24:W34,2,FALSE) -> 0.58333333 | AJ13: =AI13+W12 -> 0.625 | AK13: =HOUR(AI13) -> 14 | AL13: =HOUR(AJ13) -> 15
C14: 3.00 - 4.00 | E14: =Origine!H228 -> 2 | F14: =Origine!I228 -> 0 | G14: =SUM(E14:F14) -> 2 | K14: 3.00 - 4.00 | M14: =Origine!H684 -> 0 | N14: =Origine!I684 -> 0 | O14: =SUM(M14:N14) -> 0 | R14: =G14 -> 2 | S14: 0.125 | T14: =E14 -> 2 | U14: =F14 -> 0 | V14: =O14 -> 0 | W14: 0.125 | X14: =M14 -> 0 | Y14: =N14 -> 0 | AA14: Peak | AB14: =VLOOKUP($AC$13,$S$11:$U$34,2,FALSE) -> 67 | AC14: =VLOOKUP($AC$13,$S$11:$U$34,3,FALSE) -> 8 | AG14: Peak | AH14: =VLOOKUP($AI$13,$W$11:$Y$34,2,FALSE) -> 88 | AI14: =VLOOKUP($AI$13,$W$11:$Y$34,3,FALSE) -> 5
C15: 4.00 - 5.00 | E15: =Origine!H229 -> 1 | F15: =Origine!I229 -> 0 | G15: =SUM(E15:F15) -> 1 | K15: 4.00 - 5.00 | M15: =Origine!H685 -> 0 | N15: =Origine!I685 -> 0 | O15: =SUM(M15:N15) -> 0 | R15: =G15 -> 1 | S15: 0.16666667 | T15: =E15 -> 1 | U15: =F15 -> 0 | V15: =O15 -> 0 | W15: 0.16666667 | X15: =M15 -> 0 | Y15: =N15 -> 0
C16: 5.00 - 6.00 | E16: =Origine!H230 -> 26 | F16: =Origine!I230 -> 1 | G16: =SUM(E16:F16) -> 27 | K16: 5.00 - 6.00 | M16: =Origine!H686 -> 0 | N16: =Origine!I686 -> 1 | O16: =SUM(M16:N16) -> 1 | R16: =G16 -> 27 | S16: 0.20833333 | T16: =E16 -> 26 | U16: =F16 -> 1 | V16: =O16 -> 1 | W16: 0.20833333 | X16: =M16 -> 0 | Y16: =N16 -> 1
C17: 6.00 - 7.00 | E17: =Origine!H231 -> 37 | F17: =Origine!I231 -> 3 | G17: =SUM(E17:F17) -> 40 | K17: 6.00 - 7.00 | M17: =Origine!H687 -> 30 | N17: =Origine!I687 -> 4 | O17: =SUM(M17:N17) -> 34 | R17: =G17 -> 40 | S17: 0.25 | T17: =E17 -> 37 | U17: =F17 -> 3 | V17: =O17 -> 34 | W17: 0.25 | X17: =M17 -> 30 | Y17: =N17 -> 4
C18: 7.00 - 8.00 | E18: =Origine!H232 -> 104 | F18: =Origine!I232 -> 4 | G18: =SUM(E18:F18) -> 108 | K18: 7.00 - 8.00 | M18: =Origine!H688 -> 131 | N18: =Origine!I688 -> 6 | O18: =SUM(M18:N18) -> 137 | R18: =G18 -> 108 | S18: 0.29166667 | T18: =E18 -> 104 | U18: =F18 -> 4 | V18: =O18 -> 137 | W18: 0.29166667 | X18: =M18 -> 131 | Y18: =N18 -> 6
C19: 8.00 - 9.00 | E19: =Origine!H233 -> 132 | F19: =Origine!I233 -> 9 | G19: =SUM(E19:F19) -> 141 | K19: 8.00 - 9.00 | M19: =Origine!H689 -> 116 | N19: =Origine!I689 -> 8 | O19: =SUM(M19:N19) -> 124 | R19: =G19 -> 141 | S19: 0.33333333 | T19: =E19 -> 132 | U19: =F19 -> 9 | V19: =O19 -> 124 | W19: 0.33333333 | X19: =M19 -> 116 | Y19: =N19 -> 8
C20: 9.00 - 10.00 | E20: =Origine!H234 -> 74 | F20: =Origine!I234 -> 7 | G20: =SUM(E20:F20) -> 81 | K20: 9.00 - 10.00 | M20: =Origine!H690 -> 87 | N20: =Origine!I690 -> 6 | O20: =SUM(M20:N20) -> 93 | R20: =G20 -> 81 | S20: 0.375 | T20: =E20 -> 74 | U20: =F20 -> 7 | V20: =O20 -> 93 | W20: 0.375 | X20: =M20 -> 87 | Y20: =N20 -> 6
C21: 10.00 - 11.00 | E21: =Origine!H235 -> 85 | F21: =Origine!I235 -> 11 | G21: =SUM(E21:F21) -> 96 | K21: 10.00 - 11.00 | M21: =Origine!H691 -> 189 | N21: =Origine!I691 -> 7 | O21: =SUM(M21:N21) -> 196 | R21: =G21 -> 96 | S21: 0.41666667 | T21: =E21 -> 85 | U21: =F21 -> 11 | V21: =O21 -> 196 | W21: 0.41666667 | X21: =M21 -> 189 | Y21: =N21 -> 7
C22: 11.00 - 12.00 | E22: =Origine!H236 -> 68 | F22: =Origine!I236 -> 9 | G22: =SUM(E22:F22) -> 77 | K22: 11.00 - 12.00 | M22: =Origine!H692 -> 88 | N22: =Origine!I692 -> 7 | O22: =SUM(M22:N22) -> 95 | R22: =G22 -> 77 | S22: 0.45833333 | T22: =E22 -> 68 | U22: =F22 -> 9 | V22: =O22 -> 95 | W22: 0.45833333 | X22: =M22 -> 88 | Y22: =N22 -> 7
C23: 12.00 - 13.00 | E23: =Origine!H237 -> 66 | F23: =Origine!I237 -> 10 | G23: =SUM(E23:F23) -> 76 | K23: 12.00 - 13.00 | M23: =Origine!H693 -> 102 | N23: =Origine!I693 -> 10 | O23: =SUM(M23:N23) -> 112 | R23: =G23 -> 76 | S23: 0.5 | T23: =E23 -> 66 | U23: =F23 -> 10 | V23: =O23 -> 112 | W23: 0.5 | X23: =M23 -> 102 | Y23: =N23 -> 10
C24: 13.00 - 14.00 | E24: =Origine!H238 -> 67 | F24: =Origine!I238 -> 8 | G24: =SUM(E24:F24) -> 75 | K24: 13.00 - 14.00 | M24: =Origine!H694 -> 44 | N24: =Origine!I694 -> 8 | O24: =SUM(M24:N24) -> 52 | R24: =G24 -> 75 | S24: 0.54166667 | T24: =E24 -> 67 | U24: =F24 -> 8 | V24: =O24 -> 52 | W24: 0.54166667 | X24: =M24 -> 44 | Y24: =N24 -> 8
C25: 14.00 - 15.00 | E25: =Origine!H239 -> 49 | F25: =Origine!I239 -> 6 | G25: =SUM(E25:F25) -> 55 | K25: 14.00 - 15.00 | M25: =Origine!H695 -> 88 | N25: =Origine!I695 -> 5 | O25: =SUM(M25:N25) -> 93 | R25: =G25 -> 55 | S25: 0.58333333 | T25: =E25 -> 49 | U25: =F25 -> 6 | V25: =O25 -> 93 | W25: 0.58333333 | X25: =M25 -> 88 | Y25: =N25 -> 5
C26: 15.00 - 16.00 | E26: =Origine!H240 -> 48 | F26: =Origine!I240 -> 2 | G26: =SUM(E26:F26) -> 50 | K26: 15.00 - 16.00 | M26: =Origine!H696 -> 58 | N26: =Origine!I696 -> 3 | O26: =SUM(M26:N26) -> 61 | R26: =G26 -> 50 | S26: 0.625 | T26: =E26 -> 48 | U26: =F26 -> 2 | V26: =O26 -> 61 | W26: 0.625 | X26: =M26 -> 58 | Y26: =N26 -> 3
... C34: 23.00 - 24.00 | E34: =Origine!H248 -> 6 | F34: =Origine!I248 -> 0 | G34: =SUM(E34:F34) -> 6 | K34: 23.00 - 24.00 | M34: =Origine!H704 -> 15 | N34: =Origine!I704 -> 0 | O34: =SUM(M34:N34) -> 15 | R34: =G34 -> 6 | S34: 0.95833333 | T34: =E34 -> 6 | U34: =F34 -> 0 | V34: =O34 -> 15 | W34: 0.95833333 | X34: =M34 -> 15 | Y34: =N34 -> 0
C35: Totale | E35: =SUM(E11:E34) -> 954 | F35: =SUM(F11:F34) -> 86 | G35: =SUM(G11:G34) -> 1040 | K35: Totale | M35: =SUM(M11:M34) -> 1094 | N35: =SUM(N11:N34) -> 88 | O35: =SUM(O11:O34) -> 1182
C38: Intervallo Orario | E38: Volumi | G38: Totale | K38: Intervallo Orario | M38: Volumi | O38: Totale
E39: Leggeri | F39: Pesanti | M39: Leggeri | N39: Pesanti
C40: Diurno | E40: =SUM(E18:E29) -> 816 | F40: =SUM(F18:F29) -> 74 | G40: =SUM(E40:F41) -> 890 | K40: Diurno | M40: =SUM(M18:M29) -> 1019 | N40: =SUM(N18:N29) -> 74 | O40: =SUM(M40:N41) -> 1093
C42: Notturno | E42: =SUM(E11:E17,E30:E34) -> 138 | F42: =SUM(F11:F17,F30:F34) -> 12 | G42: =SUM(E42:F43) -> 150 | K42: Notturno | M42: =SUM(M11:M17,M30:M34) -> 75 | N42: =SUM(N11:N17,N30:N34) -> 14 | O42: =SUM(M42:N43) -> 89
C44: Totale | E44: =SUM(E40:E43) -> 954 | F44: =SUM(F40:F43) -> 86 | G44: =SUM(E44:F45) -> 1040 | K44: Totale | M44: =SUM(M40:M43) -> 1094 | N44: =SUM(N40:N43) -> 88 | O44: =SUM(M44:N45) -> 1182
C47: Ore di punta | K47: Ore di punta
C49: Intervallo Orario | E49: Volumi | G49: Totale | K49: Intervallo Orario | M49: Volumi | O49: Totale
E50: Leggeri | F50: Pesanti | M50: Leggeri | N50: Pesanti
C51: =CONCATENATE((AE10),".00"," - ",(AF10),".00") -> 8.00 - 9.00 | E51: =AB11 -> 132 | F51: =AC11 -> 9 | G51: =SUM(E51:F51) -> 141 | K51: =CONCATENATE((AK10),".00"," - ",(AL10),".00") -> 10.00 - 11.00 | M51: =AH11 -> 189 | N51: =AI11 -> 7 | O51: =SUM(M51:N51) -> 196
C52: =CONCATENATE((AE13),".00"," - ",(AF13),".00") -> 13.00 - 14.00 | E52: =AB14 -> 67 | F52: =AC14 -> 8 | G52: =SUM(E52:F52) -> 75 | K52: =CONCATENATE((AK13),".00"," - ",(AL13),".00") -> 14.00 - 15.00 | M52: =AH14 -> 88 | N52: =AI14 -> 5 | O52: =SUM(M52:N52) -> 93

Sheet GG11
B1: =+CONCATENATE("Comune di ",Origine!C3) -> Comune di Civitavecchia
B2: Monitoraggio del traffico
C4: Sezione: | D4: =+Origine!C4 -> Calata Principe Tommaso | K4: Data: | L4: =+Origine!B249 -> 45703
C7: =CONCATENATE("Direzione: ",Origine!D9) -> Direzione: Nord | K7: =CONCATENATE("Direzione: ",Origine!D469) -> Direzione: Sud
C9: Intervallo orario | E9: Volumi | G9: Totale | K9: Intervallo orario | M9: Volumi | O9: Totale | R9: =C7 -> Direzione: Nord | V9: =K7 -> Direzione: Sud
E10: Leggeri | F10: Pesanti | M10: Leggeri | N10: Pesanti | R10: Totale Veicoli | S10: HH | T10: Classe 1 | U10: Classe 2 | V10: Totale Veicoli | W10: HH | X10: Classe 1 | Y10: Classe 2 | AA10: Am | AB10: =MAX(R11:R23) -> 91 | AC10: =VLOOKUP(AB10,R11:S23,2,FALSE) -> 0.33333333 | AD10: =AC10+S12 -> 0.375 | AE10: =HOUR(AC10) -> 8 | AF10: =HOUR(AD10) -> 9 | AG10: Am | AH10: =MAX(V11:V23) -> 109 | AI10: =VLOOKUP(AH10,V11:W23,2,FALSE) -> 0.45833333 | AJ10: =AI10+W12 -> 0.5 | AK10: =HOUR(AI10) -> 11 | AL10: =HOUR(AJ10) -> 12
C11: 0.00 - 1.00 | E11: =Origine!H249 -> 5 | F11: =Origine!I249 -> 0 | G11: =SUM(E11:F11) -> 5 | K11: 0.00 - 1.00 | M11: =Origine!H705 -> 15 | N11: =Origine!I705 -> 1 | O11: =SUM(M11:N11) -> 16 | R11: =G11 -> 5 | S11: 0 | T11: =E11 -> 5 | U11: =F11 -> 0 | V11: =O11 -> 16 | W11: 0 | X11: =M11 -> 15 | Y11: =N11 -> 1 | AA11: Peak | AB11: =VLOOKUP($AC$10,$S$11:$U$34,2,FALSE) -> 73 | AC11: =VLOOKUP($AC$10,$S$11:$U$34,3,FALSE) -> 18 | AG11: Peak | AH11: =VLOOKUP($AI$10,$W$11:$Y$34,2,FALSE) -> 102 | AI11: =VLOOKUP($AI$10,$W$11:$Y$34,3,FALSE) -> 7
C12: 1.00 - 2.00 | E12: =Origine!H250 -> 1 | F12: =Origine!I250 -> 0 | G12: =SUM(E12:F12) -> 1 | K12: 1.00 - 2.00 | M12: =Origine!H706 -> 0 | N12: =Origine!I706 -> 0 | O12: =SUM(M12:N12) -> 0 | R12: =G12 -> 1 | S12: 0.041666667 | T12: =E12 -> 1 | U12: =F12 -> 0 | V12: =O12 -> 0 | W12: 0.041666667 | X12: =M12 -> 0 | Y12: =N12 -> 0
C13: 2.00 - 3.00 | E13: =Origine!H251 -> 1 | F13: =Origine!I251 -> 0 | G13: =SUM(E13:F13) -> 1 | K13: 2.00 - 3.00 | M13: =Origine!H707 -> 15 | N13: =Origine!I707 -> 1 | O13: =SUM(M13:N13) -> 16 | R13: =G13 -> 1 | S13: 0.083333333 | T13: =E13 -> 1 | U13: =F13 -> 0 | V13: =O13 -> 16 | W13: 0.083333333 | X13: =M13 -> 15 | Y13: =N13 -> 1 | AA13: Pm | AB13: =MAX(R24:R34) -> 47 | AC13: =VLOOKUP(AB13,R24:S34,2,FALSE) -> 0.54166667 | AD13: =AC13+S12 -> 0.58333333 | AE13: =HOUR(AC13) -> 13 | AF13: =HOUR(AD13) -> 14 | AG13: Pm | AH13: =MAX(V24:V34) -> 51 | AI13: =VLOOKUP(AH13,V24:W34,2,FALSE) -> 0.54166667 | AJ13: =AI13+W12 -> 0.58333333 | AK13: =HOUR(AI13) -> 13 | AL13: =HOUR(AJ13) -> 14
C14: 3.00 - 4.00 | E14: =Origine!H252 -> 2 | F14: =Origine!I252 -> 0 | G14: =SUM(E14:F14) -> 2 | K14: 3.00 - 4.00 | M14: =Origine!H708 -> 0 | N14: =Origine!I708 -> 1 | O14: =SUM(M14:N14) -> 1 | R14: =G14 -> 2 | S14: 0.125 | T14: =E14 -> 2 | U14: =F14 -> 0 | V14: =O14 -> 1 | W14: 0.125 | X14: =M14 -> 0 | Y14: =N14 -> 1 | AA14: Peak | AB14: =VLOOKUP($AC$13,$S$11:$U$34,2,FALSE) -> 41 | AC14: =VLOOKUP($AC$13,$S$11:$U$34,3,FALSE) -> 6 | AG14: Peak | AH14: =VLOOKUP($AI$13,$W$11:$Y$34,2,FALSE) -> 44 | AI14: =VLOOKUP($AI$13,$W$11:$Y$34,3,FALSE) -> 7
C15: 4.00 - 5.00 | E15: =Origine!H253 -> 9 | F15: =Origine!I253 -> 0 | G15: =SUM(E15:F15) -> 9 | K15: 4.00 - 5.00 | M15: =Origine!H709 -> 29 | N15: =Origine!I709 -> 2 | O15: =SUM(M15:N15) -> 31 | R15: =G15 -> 9 | S15: 0.16666667 | T15: =E15 -> 9 | U15: =F15 -> 0 | V15: =O15 -> 31 | W15: 0.16666667 | X15: =M15 -> 29 | Y15: =N15 -> 2
C16: 5.00 - 6.00 | E16: =Origine!H254 -> 23 | F16: =Origine!I254 -> 1 | G16: =SUM(E16:F16) -> 24 | K16: 5.00 - 6.00 | M16: =Origine!H710 -> 15 | N16: =Origine!I710 -> 3 | O16: =SUM(M16:N16) -> 18 | R16: =G16 -> 24 | S16: 0.20833333 | T16: =E16 -> 23 | U16: =F16 -> 1 | V16: =O16 -> 18 | W16: 0.20833333 | X16: =M16 -> 15 | Y16: =N16 -> 3
C17: 6.00 - 7.00 | E17: =Origine!H255 -> 30 | F17: =Origine!I255 -> 6 | G17: =SUM(E17:F17) -> 36 | K17: 6.00 - 7.00 | M17: =Origine!H711 -> 58 | N17: =Origine!I711 -> 3 | O17: =SUM(M17:N17) -> 61 | R17: =G17 -> 36 | S17: 0.25 | T17: =E17 -> 30 | U17: =F17 -> 6 | V17: =O17 -> 61 | W17: 0.25 | X17: =M17 -> 58 | Y17: =N17 -> 3
C18: 7.00 - 8.00 | E18: =Origine!H256 -> 57 | F18: =Origine!I256 -> 10 | G18: =SUM(E18:F18) -> 67 | K18: 7.00 - 8.00 | M18: =Origine!H712 -> 73 | N18: =Origine!I712 -> 7 | O18: =SUM(M18:N18) -> 80 | R18: =G18 -> 67 | S18: 0.29166667 | T18: =E18 -> 57 | U18: =F18 -> 10 | V18: =O18 -> 80 | W18: 0.29166667 | X18: =M18 -> 73 | Y18: =N18 -> 7
C19: 8.00 - 9.00 | E19: =Origine!H257 -> 73 | F19: =Origine!I257 -> 18 | G19: =SUM(E19:F19) -> 91 | K19: 8.00 - 9.00 | M19: =Origine!H713 -> 29 | N19: =Origine!I713 -> 9 | O19: =SUM(M19:N19) -> 38 | R19: =G19 -> 91 | S19: 0.33333333 | T19: =E19 -> 73 | U19: =F19 -> 18 | V19: =O19 -> 38 | W19: 0.33333333 | X19: =M19 -> 29 | Y19: =N19 -> 9
C20: 9.00 - 10.00 | E20: =Origine!H258 -> 73 | F20: =Origine!I258 -> 13 | G20: =SUM(E20:F20) -> 86 | K20: 9.00 - 10.00 | M20: =Origine!H714 -> 44 | N20: =Origine!I714 -> 8 | O20: =SUM(M20:N20) -> 52 | R20: =G20 -> 86 | S20: 0.375 | T20: =E20 -> 73 | U20: =F20 -> 13 | V20: =O20 -> 52 | W20: 0.375 | X20: =M20 -> 44 | Y20: =N20 -> 8
C21: 10.00 - 11.00 | E21: =Origine!H259 -> 49 | F21: =Origine!I259 -> 5 | G21: =SUM(E21:F21) -> 54 | K21: 10.00 - 11.00 | M21: =Origine!H715 -> 15 | N21: =Origine!I715 -> 6 | O21: =SUM(M21:N21) -> 21 | R21: =G21 -> 54 | S21: 0.41666667 | T21: =E21 -> 49 | U21: =F21 -> 5 | V21: =O21 -> 21 | W21: 0.41666667 | X21: =M21 -> 15 | Y21: =N21 -> 6
C22: 11.00 - 12.00 | E22: =Origine!H260 -> 47 | F22: =Origine!I260 -> 8 | G22: =SUM(E22:F22) -> 55 | K22: 11.00 - 12.00 | M22: =Origine!H716 -> 102 | N22: =Origine!I716 -> 7 | O22: =SUM(M22:N22) -> 109 | R22: =G22 -> 55 | S22: 0.45833333 | T22: =E22 -> 47 | U22: =F22 -> 8 | V22: =O22 -> 109 | W22: 0.45833333 | X22: =M22 -> 102 | Y22: =N22 -> 7
C23: 12.00 - 13.00 | E23: =Origine!H261 -> 42 | F23: =Origine!I261 -> 10 | G23: =SUM(E23:F23) -> 52 | K23: 12.00 - 13.00 | M23: =Origine!H717 -> 73 | N23: =Origine!I717 -> 8 | O23: =SUM(M23:N23) -> 81 | R23: =G23 -> 52 | S23: 0.5 | T23: =E23 -> 42 | U23: =F23 -> 10 | V23: =O23 -> 81 | W23: 0.5 | X23: =M23 -> 73 | Y23: =N23 -> 8
C24: 13.00 - 14.00 | E24: =Origine!H262 -> 41 | F24: =Origine!I262 -> 6 | G24: =SUM(E24:F24) -> 47 | K24: 13.00 - 14.00 | M24: =Origine!H718 -> 44 | N24: =Origine!I718 -> 7 | O24: =SUM(M24:N24) -> 51 | R24: =G24 -> 47 | S24: 0.54166667 | T24: =E24 -> 41 | U24: =F24 -> 6 | V24: =O24 -> 51 | W24: 0.54166667 | X24: =M24 -> 44 | Y24: =N24 -> 7
C25: 14.00 - 15.00 | E25: =Origine!H263 -> 34 | F25: =Origine!I263 -> 5 | G25: =SUM(E25:F25) -> 39 | K25: 14.00 - 15.00 | M25: =Origine!H719 -> 44 | N25: =Origine!I719 -> 5 | O25: =SUM(M25:N25) -> 49 | R25: =G25 -> 39 | S25: 0.58333333 | T25: =E25 -> 34 | U25: =F25 -> 5 | V25: =O25 -> 49 | W25: 0.58333333 | X25: =M25 -> 44 | Y25: =N25 -> 5
C26: 15.00 - 16.00 | E26: =Origine!H264 -> 38 | F26: =Origine!I264 -> 9 | G26: =SUM(E26:F26) -> 47 | K26: 15.00 - 16.00 | M26: =Origine!H720 -> 0 | N26: =Origine!I720 -> 4 | O26: =SUM(M26:N26) -> 4 | R26: =G26 -> 47 | S26: 0.625 | T26: =E26 -> 38 | U26: =F26 -> 9 | V26: =O26 -> 4 | W26: 0.625 | X26: =M26 -> 0 | Y26: =N26 -> 4
... C34: 23.00 - 24.00 | E34: =Origine!H272 -> 5 | F34: =Origine!I272 -> 0 | G34: =SUM(E34:F34) -> 5 | K34: 23.00 - 24.00 | M34: =Origine!H728 -> 0 | N34: =Origine!I728 -> 0 | O34: =SUM(M34:N34) -> 0 | R34: =G34 -> 5 | S34: 0.95833333 | T34: =E34 -> 5 | U34: =F34 -> 0 | V34: =O34 -> 0 | W34: 0.95833333 | X34: =M34 -> 0 | Y34: =N34 -> 0
C35: Totale | E35: =SUM(E11:E34) -> 680 | F35: =SUM(F11:F34) -> 112 | G35: =SUM(G11:G34) -> 792 | K35: Totale | M35: =SUM(M11:M34) -> 703 | N35: =SUM(N11:N34) -> 90 | O35: =SUM(O11:O34) -> 793
C38: Intervallo Orario | E38: Volumi | G38: Totale | K38: Intervallo Orario | M38: Volumi | O38: Totale
E39: Leggeri | F39: Pesanti | M39: Leggeri | N39: Pesanti
C40: Diurno | E40: =SUM(E18:E29) -> 552 | F40: =SUM(F18:F29) -> 98 | G40: =SUM(E40:F41) -> 650 | K40: Diurno | M40: =SUM(M18:M29) -> 513 | N40: =SUM(N18:N29) -> 69 | O40: =SUM(M40:N41) -> 582
C42: Notturno | E42: =SUM(E11:E17,E30:E34) -> 128 | F42: =SUM(F11:F17,F30:F34) -> 14 | G42: =SUM(E42:F43) -> 142 | K42: Notturno | M42: =SUM(M11:M17,M30:M34) -> 190 | N42: =SUM(N11:N17,N30:N34) -> 21 | O42: =SUM(M42:N43) -> 211
C44: Totale | E44: =SUM(E40:E43) -> 680 | F44: =SUM(F40:F43) -> 112 | G44: =SUM(E44:F45) -> 792 | K44: Totale | M44: =SUM(M40:M43) -> 703 | N44: =SUM(N40:N43) -> 90 | O44: =SUM(M44:N45) -> 793
C47: Ore di punta | K47: Ore di punta
C49: Intervallo Orario | E49: Volumi | G49: Totale | K49: Intervallo Orario | M49: Volumi | O49: Totale
E50: Leggeri | F50: Pesanti | M50: Leggeri | N50: Pesanti
C51: =CONCATENATE((AE10),".00"," - ",(AF10),".00") -> 8.00 - 9.00 | E51: =AB11 -> 73 | F51: =AC11 -> 18 | G51: =SUM(E51:F51) -> 91 | K51: =CONCATENATE((AK10),".00"," - ",(AL10),".00") -> 11.00 - 12.00 | M51: =AH11 -> 102 | N51: =AI11 -> 7 | O51: =SUM(M51:N51) -> 109
C52: =CONCATENATE((AE13),".00"," - ",(AF13),".00") -> 13.00 - 14.00 | E52: =AB14 -> 41 | F52: =AC14 -> 6 | G52: =SUM(E52:F52) -> 47 | K52: =CONCATENATE((AK13),".00"," - ",(AL13),".00") -> 13.00 - 14.00 | M52: =AH14 -> 44 | N52: =AI14 -> 7 | O52: =SUM(M52:N52) -> 51

Sheet GG12
B1: =+CONCATENATE("Comune di ",Origine!C3) -> Comune di Civitavecchia
B2: Monitoraggio del traffico
C4: Sezione: | D4: =+Origine!C4 -> Calata Principe Tommaso | K4: Data: | L4: =+Origine!B273 -> 45704
C7: =CONCATENATE("Direzione: ",Origine!D9) -> Direzione: Nord | K7: =CONCATENATE("Direzione: ",Origine!D469) -> Direzione: Sud
C9: Intervallo orario | E9: Volumi | G9: Totale | K9: Intervallo orario | M9: Volumi | O9: Totale | R9: =C7 -> Direzione: Nord | V9: =K7 -> Direzione: Sud
E10: Leggeri | F10: Pesanti | M10: Leggeri | N10: Pesanti | R10: Totale Veicoli | S10: HH | T10: Classe 1 | U10: Classe 2 | V10: Totale Veicoli | W10: HH | X10: Classe 1 | Y10: Classe 2 | AA10: Am | AB10: =MAX(R11:R23) -> 33 | AC10: =VLOOKUP(AB10,R11:S23,2,FALSE) -> 0.45833333 | AD10: =AC10+S12 -> 0.5 | AE10: =HOUR(AC10) -> 11 | AF10: =HOUR(AD10) -> 12 | AG10: Am | AH10: =MAX(V11:V23) -> 33 | AI10: =VLOOKUP(AH10,V11:W23,2,FALSE) -> 0.29166667 | AJ10: =AI10+W12 -> 0.33333333 | AK10: =HOUR(AI10) -> 7 | AL10: =HOUR(AJ10) -> 8
C11: 0.00 - 1.00 | E11: =Origine!H273 -> 4 | F11: =Origine!I273 -> 0 | G11: =SUM(E11:F11) -> 4 | K11: 0.00 - 1.00 | M11: =Origine!H729 -> 0 | N11: =Origine!I729 -> 1 | O11: =SUM(M11:N11) -> 1 | R11: =G11 -> 4 | S11: 0 | T11: =E11 -> 4 | U11: =F11 -> 0 | V11: =O11 -> 1 | W11: 0 | X11: =M11 -> 0 | Y11: =N11 -> 1 | AA11: Peak | AB11: =VLOOKUP($AC$10,$S$11:$U$34,2,FALSE) -> 29 | AC11: =VLOOKUP($AC$10,$S$11:$U$34,3,FALSE) -> 4 | AG11: Peak | AH11: =VLOOKUP($AI$10,$W$11:$Y$34,2,FALSE) -> 29 | AI11: =VLOOKUP($AI$10,$W$11:$Y$34,3,FALSE) -> 4
C12: 1.00 - 2.00 | E12: =Origine!H274 -> 2 | F12: =Origine!I274 -> 0 | G12: =SUM(E12:F12) -> 2 | K12: 1.00 - 2.00 | M12: =Origine!H730 -> 15 | N12: =Origine!I730 -> 0 | O12: =SUM(M12:N12) -> 15 | R12: =G12 -> 2 | S12: 0.041666667 | T12: =E12 -> 2 | U12: =F12 -> 0 | V12: =O12 -> 15 | W12: 0.041666667 | X12: =M12 -> 15 | Y12: =N12 -> 0
C13: 2.00 - 3.00 | E13: =Origine!H275 -> 1 | F13: =Origine!I275 -> 0 | G13: =SUM(E13:F13) -> 1 | K13: 2.00 - 3.00 | M13: =Origine!H731 -> 0 | N13: =Origine!I731 -> 0 | O13: =SUM(M13:N13) -> 0 | R13: =G13 -> 1 | S13: 0.083333333 | T13: =E13 -> 1 | U13: =F13 -> 0 | V13: =O13 -> 0 | W13: 0.083333333 | X13: =M13 -> 0 | Y13: =N13 -> 0 | AA13: Pm | AB13: =MAX(R24:R34) -> 53 | AC13: =VLOOKUP(AB13,R24:S34,2,FALSE) -> 0.54166667 | AD13: =AC13+S12 -> 0.58333333 | AE13: =HOUR(AC13) -> 13 | AF13: =HOUR(AD13) -> 14 | AG13: Pm | AH13: =MAX(V24:V34) -> 45 | AI13: =VLOOKUP(AH13,V24:W34,2,FALSE) -> 0.75 | AJ13: =AI13+W12 -> 0.79166667 | AK13: =HOUR(AI13) -> 18 | AL13: =HOUR(AJ13) -> 19
C14: 3.00 - 4.00 | E14: =Origine!H276 -> 2 | F14: =Origine!I276 -> 0 | G14: =SUM(E14:F14) -> 2 | K14: 3.00 - 4.00 | M14: =Origine!H732 -> 0 | N14: =Origine!I732 -> 0 | O14: =SUM(M14:N14) -> 0 | R14: =G14 -> 2 | S14: 0.125 | T14: =E14 -> 2 | U14: =F14 -> 0 | V14: =O14 -> 0 | W14: 0.125 | X14: =M14 -> 0 | Y14: =N14 -> 0 | AA14: Peak | AB14: =VLOOKUP($AC$13,$S$11:$U$34,2,FALSE) -> 49 | AC14: =VLOOKUP($AC$13,$S$11:$U$34,3,FALSE) -> 4 | AG14: Peak | AH14: =VLOOKUP($AI$13,$W$11:$Y$34,2,FALSE) -> 44 | AI14: =VLOOKUP($AI$13,$W$11:$Y$34,3,FALSE) -> 1
C15: 4.00 - 5.00 | E15: =Origine!H277 -> 2 | F15: =Origine!I277 -> 0 | G15: =SUM(E15:F15) -> 2 | K15: 4.00 - 5.00 | M15: =Origine!H733 -> 0 | N15: =Origine!I733 -> 0 | O15: =SUM(M15:N15) -> 0 | R15: =G15 -> 2 | S15: 0.16666667 | T15: =E15 -> 2 | U15: =F15 -> 0 | V15: =O15 -> 0 | W15: 0.16666667 | X15: =M15 -> 0 | Y15: =N15 -> 0
C16: 5.00 - 6.00 | E16: =Origine!H278 -> 15 | F16: =Origine!I278 -> 1 | G16: =SUM(E16:F16) -> 16 | K16: 5.00 - 6.00 | M16: =Origine!H734 -> 0 | N16: =Origine!I734 -> 6 | O16: =SUM(M16:N16) -> 6 | R16: =G16 -> 16 | S16: 0.20833333 | T16: =E16 -> 15 | U16: =F16 -> 1 | V16: =O16 -> 6 | W16: 0.20833333 | X16: =M16 -> 0 | Y16: =N16 -> 6
C17: 6.00 - 7.00 | E17: =Origine!H279 -> 12 | F17: =Origine!I279 -> 3 | G17: =SUM(E17:F17) -> 15 | K17: 6.00 - 7.00 | M17: =Origine!H735 -> 15 | N17: =Origine!I735 -> 2 | O17: =SUM(M17:N17) -> 17 | R17: =G17 -> 15 | S17: 0.25 | T17: =E17 -> 12 | U17: =F17 -> 3 | V17: =O17 -> 17 | W17: 0.25 | X17: =M17 -> 15 | Y17: =N17 -> 2
C18: 7.00 - 8.00 | E18: =Origine!H280 -> 23 | F18: =Origine!I280 -> 5 | G18: =SUM(E18:F18) -> 28 | K18: 7.00 - 8.00 | M18: =Origine!H736 -> 29 | N18: =Origine!I736 -> 4 | O18: =SUM(M18:N18) -> 33 | R18: =G18 -> 28 | S18: 0.29166667 | T18: =E18 -> 23 | U18: =F18 -> 5 | V18: =O18 -> 33 | W18: 0.29166667 | X18: =M18 -> 29 | Y18: =N18 -> 4
C19: 8.00 - 9.00 | E19: =Origine!H281 -> 29 | F19: =Origine!I281 -> 2 | G19: =SUM(E19:F19) -> 31 | K19: 8.00 - 9.00 | M19: =Origine!H737 -> 29 | N19: =Origine!I737 -> 3 | O19: =SUM(M19:N19) -> 32 | R19: =G19 -> 31 | S19: 0.33333333 | T19: =E19 -> 29 | U19: =F19 -> 2 | V19: =O19 -> 32 | W19: 0.33333333 | X19: =M19 -> 29 | Y19: =N19 -> 3
C20: 9.00 - 10.00 | E20: =Origine!H282 -> 23 | F20: =Origine!I282 -> 2 | G20: =SUM(E20:F20) -> 25 | K20: 9.00 - 10.00 | M20: =Origine!H738 -> 29 | N20: =Origine!I738 -> 3 | O20: =SUM(M20:N20) -> 32 | R20: =G20 -> 25 | S20: 0.375 | T20: =E20 -> 23 | U20: =F20 -> 2 | V20: =O20 -> 32 | W20: 0.375 | X20: =M20 -> 29 | Y20: =N20 -> 3
C21: 10.00 - 11.00 | E21: =Origine!H283 -> 26 | F21: =Origine!I283 -> 3 | G21: =SUM(E21:F21) -> 29 | K21: 10.00 - 11.00 | M21: =Origine!H739 -> 15 | N21: =Origine!I739 -> 2 | O21: =SUM(M21:N21) -> 17 | R21: =G21 -> 29 | S21: 0.41666667 | T21: =E21 -> 26 | U21: =F21 -> 3 | V21: =O21 -> 17 | W21: 0.41666667 | X21: =M21 -> 15 | Y21: =N21 -> 2
C22: 11.00 - 12.00 | E22: =Origine!H284 -> 29 | F22: =Origine!I284 -> 4 | G22: =SUM(E22:F22) -> 33 | K22: 11.00 - 12.00 | M22: =Origine!H740 -> 29 | N22: =Origine!I740 -> 3 | O22: =SUM(M22:N22) -> 32 | R22: =G22 -> 33 | S22: 0.45833333 | T22: =E22 -> 29 | U22: =F22 -> 4 | V22: =O22 -> 32 | W22: 0.45833333 | X22: =M22 -> 29 | Y22: =N22 -> 3
C23: 12.00 - 13.00 | E23: =Origine!H285 -> 23 | F23: =Origine!I285 -> 1 | G23: =SUM(E23:F23) -> 24 | K23: 12.00 - 13.00 | M23: =Origine!H741 -> 29 | N23: =Origine!I741 -> 3 | O23: =SUM(M23:N23) -> 32 | R23: =G23 -> 24 | S23: 0.5 | T23: =E23 -> 23 | U23: =F23 -> 1 | V23: =O23 -> 32 | W23: 0.5 | X23: =M23 -> 29 | Y23: =N23 -> 3
C24: 13.00 - 14.00 | E24: =Origine!H286 -> 49 | F24: =Origine!I286 -> 4 | G24: =SUM(E24:F24) -> 53 | K24: 13.00 - 14.00 | M24: =Origine!H742 -> 15 | N24: =Origine!I742 -> 2 | O24: =SUM(M24:N24) -> 17 | R24: =G24 -> 53 | S24: 0.54166667 | T24: =E24 -> 49 | U24: =F24 -> 4 | V24: =O24 -> 17 | W24: 0.54166667 | X24: =M24 -> 15 | Y24: =N24 -> 2
C25: 14.00 - 15.00 | E25: =Origine!H287 -> 17 | F25: =Origine!I287 -> 2 | G25: =SUM(E25:F25) -> 19 | K25: 14.00 - 15.00 | M25: =Origine!H743 -> 0 | N25: =Origine!I743 -> 2 | O25: =SUM(M25:N25) -> 2 | R25: =G25 -> 19 | S25: 0.58333333 | T25: =E25 -> 17 | U25: =F25 -> 2 | V25: =O25 -> 2 | W25: 0.58333333 | X25: =M25 -> 0 | Y25: =N25 -> 2
C26: 15.00 - 16.00 | E26: =Origine!H288 -> 26 | F26: =Origine!I288 -> 3 | G26: =SUM(E26:F26) -> 29 | K26: 15.00 - 16.00 | M26: =Origine!H744 -> 0 | N26: =Origine!I744 -> 1 | O26: =SUM(M26:N26) -> 1 | R26: =G26 -> 29 | S26: 0.625 | T26: =E26 -> 26 | U26: =F26 -> 3 | V26: =O26 -> 1 | W26: 0.625 | X26: =M26 -> 0 | Y26: =N26 -> 1
... C34: 23.00 - 24.00 | E34: =Origine!H296 -> 6 | F34: =Origine!I296 -> 0 | G34: =SUM(E34:F34) -> 6 | K34: 23.00 - 24.00 | M34: =Origine!H752 -> 15 | N34: =Origine!I752 -> 1 | O34: =SUM(M34:N34) -> 16 | R34: =G34 -> 6 | S34: 0.95833333 | T34: =E34 -> 6 | U34: =F34 -> 0 | V34: =O34 -> 16 | W34: 0.95833333 | X34: =M34 -> 15 | Y34: =N34 -> 1
C35: Totale | E35: =SUM(E11:E34) -> 413 | F35: =SUM(F11:F34) -> 47 | G35: =SUM(G11:G34) -> 460 | K35: Totale | M35: =SUM(M11:M34) -> 294 | N35: =SUM(N11:N34) -> 44 | O35: =SUM(O11:O34) -> 338
C38: Intervallo Orario | E38: Volumi | G38: Totale | K38: Intervallo Orario | M38: Volumi | O38: Totale
E39: Leggeri | F39: Pesanti | M39: Leggeri | N39: Pesanti
C40: Diurno | E40: =SUM(E18:E29) -> 336 | F40: =SUM(F18:F29) -> 35 | G40: =SUM(E40:F41) -> 371 | K40: Diurno | M40: =SUM(M18:M29) -> 219 | N40: =SUM(N18:N29) -> 28 | O40: =SUM(M40:N41) -> 247
C42: Notturno | E42: =SUM(E11:E17,E30:E34) -> 77 | F42: =SUM(F11:F17,F30:F34) -> 12 | G42: =SUM(E42:F43) -> 89 | K42: Notturno | M42: =SUM(M11:M17,M30:M34) -> 75 | N42: =SUM(N11:N17,N30:N34) -> 16 | O42: =SUM(M42:N43) -> 91
C44: Totale | E44: =SUM(E40:E43) -> 413 | F44: =SUM(F40:F43) -> 47 | G44: =SUM(E44:F45) -> 460 | K44: Totale | M44: =SUM(M40:M43) -> 294 | N44: =SUM(N40:N43) -> 44 | O44: =SUM(M44:N45) -> 338
C47: Ore di punta | K47: Ore di punta
C49: Intervallo Orario | E49: Volumi | G49: Totale | K49: Intervallo Orario | M49: Volumi | O49: Totale
E50: Leggeri | F50: Pesanti | M50: Leggeri | N50: Pesanti
C51: =CONCATENATE((AE10),".00"," - ",(AF10),".00") -> 11.00 - 12.00 | E51: =AB11 -> 29 | F51: =AC11 -> 4 | G51: =SUM(E51:F51) -> 33 | K51: =CONCATENATE((AK10),".00"," - ",(AL10),".00") -> 7.00 - 8.00 | M51: =AH11 -> 29 | N51: =AI11 -> 4 | O51: =SUM(M51:N51) -> 33
C52: =CONCATENATE((AE13),".00"," - ",(AF13),".00") -> 13.00 - 14.00 | E52: =AB14 -> 49 | F52: =AC14 -> 4 | G52: =SUM(E52:F52) -> 53 | K52: =CONCATENATE((AK13),".00"," - ",(AL13),".00") -> 18.00 - 19.00 | M52: =AH14 -> 44 | N52: =AI14 -> 1 | O52: =SUM(M52:N52) -> 45

Sheet GG13
B1: =+CONCATENATE("Comune di ",Origine!C3) -> Comune di Civitavecchia
B2: Monitoraggio del traffico
C4: Sezione: | D4: =+Origine!C4 -> Calata Principe Tommaso | K4: Data: | L4: =+Origine!B297 -> 45705
C7: =CONCATENATE("Direzione: ",Origine!D9) -> Direzione: Nord | K7: =CONCATENATE("Direzione: ",Origine!D469) -> Direzione: Sud
C9: Intervallo orario | E9: Volumi | G9: Totale | K9: Intervallo orario | M9: Volumi | O9: Totale | R9: =C7 -> Direzione: Nord | V9: =K7 -> Direzione: Sud
E10: Leggeri | F10: Pesanti | M10: Leggeri | N10: Pesanti | R10: Totale Veicoli | S10: HH | T10: Classe 1 | U10: Classe 2 | V10: Totale Veicoli | W10: HH | X10: Classe 1 | Y10: Classe 2 | AA10: Am | AB10: =MAX(R11:R23) -> 210 | AC10: =VLOOKUP(AB10,R11:S23,2,FALSE) -> 0.33333333 | AD10: =AC10+S12 -> 0.375 | AE10: =HOUR(AC10) -> 8 | AF10: =HOUR(AD10) -> 9 | AG10: Am | AH10: =MAX(V11:V23) -> 246 | AI10: =VLOOKUP(AH10,V11:W23,2,FALSE) -> 0.5 | AJ10: =AI10+W12 -> 0.54166667 | AK10: =HOUR(AI10) -> 12 | AL10: =HOUR(AJ10) -> 13
C11: 0.00 - 1.00 | E11: =Origine!H297 -> 5 | F11: =Origine!I297 -> 0 | G11: =SUM(E11:F11) -> 5 | K11: 0.00 - 1.00 | M11: =Origine!H753 -> 15 | N11: =Origine!I753 -> 0 | O11: =SUM(M11:N11) -> 15 | R11: =G11 -> 5 | S11: 0 | T11: =E11 -> 5 | U11: =F11 -> 0 | V11: =O11 -> 15 | W11: 0 | X11: =M11 -> 15 | Y11: =N11 -> 0 | AA11: Peak | AB11: =VLOOKUP($AC$10,$S$11:$U$34,2,FALSE) -> 182 | AC11: =VLOOKUP($AC$10,$S$11:$U$34,3,FALSE) -> 28 | AG11: Peak | AH11: =VLOOKUP($AI$10,$W$11:$Y$34,2,FALSE) -> 232 | AI11: =VLOOKUP($AI$10,$W$11:$Y$34,3,FALSE) -> 14
C12: 1.00 - 2.00 | E12: =Origine!H298 -> 2 | F12: =Origine!I298 -> 3 | G12: =SUM(E12:F12) -> 5 | K12: 1.00 - 2.00 | M12: =Origine!H754 -> 0 | N12: =Origine!I754 -> 1 | O12: =SUM(M12:N12) -> 1 | R12: =G12 -> 5 | S12: 0.041666667 | T12: =E12 -> 2 | U12: =F12 -> 3 | V12: =O12 -> 1 | W12: 0.041666667 | X12: =M12 -> 0 | Y12: =N12 -> 1
C13: 2.00 - 3.00 | E13: =Origine!H299 -> 2 | F13: =Origine!I299 -> 0 | G13: =SUM(E13:F13) -> 2 | K13: 2.00 - 3.00 | M13: =Origine!H755 -> 15 | N13: =Origine!I755 -> 0 | O13: =SUM(M13:N13) -> 15 | R13: =G13 -> 2 | S13: 0.083333333 | T13: =E13 -> 2 | U13: =F13 -> 0 | V13: =O13 -> 15 | W13: 0.083333333 | X13: =M13 -> 15 | Y13: =N13 -> 0 | AA13: Pm | AB13: =MAX(R24:R34) -> 125 | AC13: =VLOOKUP(AB13,R24:S34,2,FALSE) -> 0.66666667 | AD13: =AC13+S12 -> 0.70833333 | AE13: =HOUR(AC13) -> 16 | AF13: =HOUR(AD13) -> 17 | AG13: Pm | AH13: =MAX(V24:V34) -> 183 | AI13: =VLOOKUP(AH13,V24:W34,2,FALSE) -> 0.66666667 | AJ13: =AI13+W12 -> 0.70833333 | AK13: =HOUR(AI13) -> 16 | AL13: =HOUR(AJ13) -> 17
C14: 3.00 - 4.00 | E14: =Origine!H300 -> 2 | F14: =Origine!I300 -> 0 | G14: =SUM(E14:F14) -> 2 | K14: 3.00 - 4.00 | M14: =Origine!H756 -> 0 | N14: =Origine!I756 -> 0 | O14: =SUM(M14:N14) -> 0 | R14: =G14 -> 2 | S14: 0.125 | T14: =E14 -> 2 | U14: =F14 -> 0 | V14: =O14 -> 0 | W14: 0.125 | X14: =M14 -> 0 | Y14: =N14 -> 0 | AA14: Peak | AB14: =VLOOKUP($AC$13,$S$11:$U$34,2,FALSE) -> 111 | AC14: =VLOOKUP($AC$13,$S$11:$U$34,3,FALSE) -> 14 | AG14: Peak | AH14: =VLOOKUP($AI$13,$W$11:$Y$34,2,FALSE) -> 174 | AI14: =VLOOKUP($AI$13,$W$11:$Y$34,3,FALSE) -> 9
C15: 4.00 - 5.00 | E15: =Origine!H301 -> 1 | F15: =Origine!I301 -> 0 | G15: =SUM(E15:F15) -> 1 | K15: 4.00 - 5.00 | M15: =Origine!H757 -> 0 | N15: =Origine!I757 -> 0 | O15: =SUM(M15:N15) -> 0 | R15: =G15 -> 1 | S15: 0.16666667 | T15: =E15 -> 1 | U15: =F15 -> 0 | V15: =O15 -> 0 | W15: 0.16666667 | X15: =M15 -> 0 | Y15: =N15 -> 0
C16: 5.00 - 6.00 | E16: =Origine!H302 -> 16 | F16: =Origine!I302 -> 2 | G16: =SUM(E16:F16) -> 18 | K16: 5.00 - 6.00 | M16: =Origine!H758 -> 0 | N16: =Origine!I758 -> 2 | O16: =SUM(M16:N16) -> 2 | R16: =G16 -> 18 | S16: 0.20833333 | T16: =E16 -> 16 | U16: =F16 -> 2 | V16: =O16 -> 2 | W16: 0.20833333 | X16: =M16 -> 0 | Y16: =N16 -> 2
C17: 6.00 - 7.00 | E17: =Origine!H303 -> 53 | F17: =Origine!I303 -> 6 | G17: =SUM(E17:F17) -> 59 | K17: 6.00 - 7.00 | M17: =Origine!H759 -> 58 | N17: =Origine!I759 -> 9 | O17: =SUM(M17:N17) -> 67 | R17: =G17 -> 59 | S17: 0.25 | T17: =E17 -> 53 | U17: =F17 -> 6 | V17: =O17 -> 67 | W17: 0.25 | X17: =M17 -> 58 | Y17: =N17 -> 9
C18: 7.00 - 8.00 | E18: =Origine!H304 -> 129 | F18: =Origine!I304 -> 13 | G18: =SUM(E18:F18) -> 142 | K18: 7.00 - 8.00 | M18: =Origine!H760 -> 131 | N18: =Origine!I760 -> 14 | O18: =SUM(M18:N18) -> 145 | R18: =G18 -> 142 | S18: 0.29166667 | T18: =E18 -> 129 | U18: =F18 -> 13 | V18: =O18 -> 145 | W18: 0.29166667 | X18: =M18 -> 131 | Y18: =N18 -> 14
C19: 8.00 - 9.00 | E19: =Origine!H305 -> 182 | F19: =Origine!I305 -> 28 | G19: =SUM(E19:F19) -> 210 | K19: 8.00 - 9.00 | M19: =Origine!H761 -> 203 | N19: =Origine!I761 -> 18 | O19: =SUM(M19:N19) -> 221 | R19: =G19 -> 210 | S19: 0.33333333 | T19: =E19 -> 182 | U19: =F19 -> 28 | V19: =O19 -> 221 | W19: 0.33333333 | X19: =M19 -> 203 | Y19: =N19 -> 18
C20: 9.00 - 10.00 | E20: =Origine!H306 -> 118 | F20: =Origine!I306 -> 17 | G20: =SUM(E20:F20) -> 135 | K20: 9.00 - 10.00 | M20: =Origine!H762 -> 174 | N20: =Origine!I762 -> 15 | O20: =SUM(M20:N20) -> 189 | R20: =G20 -> 135 | S20: 0.375 | T20: =E20 -> 118 | U20: =F20 -> 17 | V20: =O20 -> 189 | W20: 0.375 | X20: =M20 -> 174 | Y20: =N20 -> 15
C21: 10.00 - 11.00 | E21: =Origine!H307 -> 125 | F21: =Origine!I307 -> 20 | G21: =SUM(E21:F21) -> 145 | K21: 10.00 - 11.00 | M21: =Origine!H763 -> 145 | N21: =Origine!I763 -> 11 | O21: =SUM(M21:N21) -> 156 | R21: =G21 -> 145 | S21: 0.41666667 | T21: =E21 -> 125 | U21: =F21 -> 20 | V21: =O21 -> 156 | W21: 0.41666667 | X21: =M21 -> 145 | Y21: =N21 -> 11
C22: 11.00 - 12.00 | E22: =Origine!H308 -> 106 | F22: =Origine!I308 -> 15 | G22: =SUM(E22:F22) -> 121 | K22: 11.00 - 12.00 | M22: =Origine!H764 -> 131 | N22: =Origine!I764 -> 10 | O22: =SUM(M22:N22) -> 141 | R22: =G22 -> 121 | S22: 0.45833333 | T22: =E22 -> 106 | U22: =F22 -> 15 | V22: =O22 -> 141 | W22: 0.45833333 | X22: =M22 -> 131 | Y22: =N22 -> 10
C23: 12.00 - 13.00 | E23: =Origine!H309 -> 105 | F23: =Origine!I309 -> 15 | G23: =SUM(E23:F23) -> 120 | K23: 12.00 - 13.00 | M23: =Origine!H765 -> 232 | N23: =Origine!I765 -> 14 | O23: =SUM(M23:N23) -> 246 | R23: =G23 -> 120 | S23: 0.5 | T23: =E23 -> 105 | U23: =F23 -> 15 | V23: =O23 -> 246 | W23: 0.5 | X23: =M23 -> 232 | Y23: =N23 -> 14
C24: 13.00 - 14.00 | E24: =Origine!H310 -> 79 | F24: =Origine!I310 -> 16 | G24: =SUM(E24:F24) -> 95 | K24: 13.00 - 14.00 | M24: =Origine!H766 -> 160 | N24: =Origine!I766 -> 11 | O24: =SUM(M24:N24) -> 171 | R24: =G24 -> 95 | S24: 0.54166667 | T24: =E24 -> 79 | U24: =F24 -> 16 | V24: =O24 -> 171 | W24: 0.54166667 | X24: =M24 -> 160 | Y24: =N24 -> 11
C25: 14.00 - 15.00 | E25: =Origine!H311 -> 73 | F25: =Origine!I311 -> 13 | G25: =SUM(E25:F25) -> 86 | K25: 14.00 - 15.00 | M25: =Origine!H767 -> 0 | N25: =Origine!I767 -> 8 | O25: =SUM(M25:N25) -> 8 | R25: =G25 -> 86 | S25: 0.58333333 | T25: =E25 -> 73 | U25: =F25 -> 13 | V25: =O25 -> 8 | W25: 0.58333333 | X25: =M25 -> 0 | Y25: =N25 -> 8
C26: 15.00 - 16.00 | E26: =Origine!H312 -> 91 | F26: =Origine!I312 -> 10 | G26: =SUM(E26:F26) -> 101 | K26: 15.00 - 16.00 | M26: =Origine!H768 -> 58 | N26: =Origine!I768 -> 6 | O26: =SUM(M26:N26) -> 64 | R26: =G26 -> 101 | S26: 0.625 | T26: =E26 -> 91 | U26: =F26 -> 10 | V26: =O26 -> 64 | W26: 0.625 | X26: =M26 -> 58 | Y26: =N26 -> 6
... C34: 23.00 - 24.00 | E34: =Origine!H320 -> 3 | F34: =Origine!I320 -> 0 | G34: =SUM(E34:F34) -> 3 | K34: 23.00 - 24.00 | M34: =Origine!H776 -> 0 | N34: =Origine!I776 -> 0 | O34: =SUM(M34:N34) -> 0 | R34: =G34 -> 3 | S34: 0.95833333 | T34: =E34 -> 3 | U34: =F34 -> 0 | V34: =O34 -> 0 | W34: 0.95833333 | X34: =M34 -> 0 | Y34: =N34 -> 0
C35: Totale | E35: =SUM(E11:E34) -> 1362 | F35: =SUM(F11:F34) -> 201 | G35: =SUM(G11:G34) -> 1563 | K35: Totale | M35: =SUM(M11:M34) -> 1787 | N35: =SUM(N11:N34) -> 150 | O35: =SUM(O11:O34) -> 1937
C38: Intervallo Orario | E38: Volumi | G38: Totale | K38: Intervallo Orario | M38: Volumi | O38: Totale
E39: Leggeri | F39: Pesanti | M39: Leggeri | N39: Pesanti
C40: Diurno | E40: =SUM(E18:E29) -> 1235 | F40: =SUM(F18:F29) -> 180 | G40: =SUM(E40:F41) -> 1415 | K40: Diurno | M40: =SUM(M18:M29) -> 1612 | N40: =SUM(N18:N29) -> 127 | O40: =SUM(M40:N41) -> 1739
C42: Notturno | E42: =SUM(E11:E17,E30:E34) -> 127 | F42: =SUM(F11:F17,F30:F34) -> 21 | G42: =SUM(E42:F43) -> 148 | K42: Notturno | M42: =SUM(M11:M17,M30:M34) -> 175 | N42: =SUM(N11:N17,N30:N34) -> 23 | O42: =SUM(M42:N43) -> 198
C44: Totale | E44: =SUM(E40:E43) -> 1362 | F44: =SUM(F40:F43) -> 201 | G44: =SUM(E44:F45) -> 1563 | K44: Totale | M44: =SUM(M40:M43) -> 1787 | N44: =SUM(N40:N43) -> 150 | O44: =SUM(M44:N45) -> 1937
C47: Ore di punta | K47: Ore di punta
C49: Intervallo Orario | E49: Volumi | G49: Totale | K49: Intervallo Orario | M49: Volumi | O49: Totale
E50: Leggeri | F50: Pesanti | M50: Leggeri | N50: Pesanti
C51: =CONCATENATE((AE10),".00"," - ",(AF10),".00") -> 8.00 - 9.00 | E51: =AB11 -> 182 | F51: =AC11 -> 28 | G51: =SUM(E51:F51) -> 210 | K51: =CONCATENATE((AK10),".00"," - ",(AL10),".00") -> 12.00 - 13.00 | M51: =AH11 -> 232 | N51: =AI11 -> 14 | O51: =SUM(M51:N51) -> 246
C52: =CONCATENATE((AE13),".00"," - ",(AF13),".00") -> 16.00 - 17.00 | E52: =AB14 -> 111 | F52: =AC14 -> 14 | G52: =SUM(E52:F52) -> 125 | K52: =CONCATENATE((AK13),".00"," - ",(AL13),".00") -> 16.00 - 17.00 | M52: =AH14 -> 174 | N52: =AI14 -> 9 | O52: =SUM(M52:N52) -> 183

Sheet GG14
B1: =+CONCATENATE("Comune di ",Origine!C3) -> Comune di Civitavecchia
B2: Monitoraggio del traffico
C4: Sezione: | D4: =+Origine!C4 -> Calata Principe Tommaso | K4: Data: | L4: =+Origine!B321 -> 45706
C7: =CONCATENATE("Direzione: ",Origine!D9) -> Direzione: Nord | K7: =CONCATENATE("Direzione: ",Origine!D469) -> Direzione: Sud
C9: Intervallo orario | E9: Volumi | G9: Totale | K9: Intervallo orario | M9: Volumi | O9: Totale | R9: =C7 -> Direzione: Nord | V9: =K7 -> Direzione: Sud
E10: Leggeri | F10: Pesanti | M10: Leggeri | N10: Pesanti | R10: Totale Veicoli | S10: HH | T10: Classe 1 | U10: Classe 2 | V10: Totale Veicoli | W10: HH | X10: Classe 1 | Y10: Classe 2 | AA10: Am | AB10: =MAX(R11:R23) -> 160 | AC10: =VLOOKUP(AB10,R11:S23,2,FALSE) -> 0.33333333 | AD10: =AC10+S12 -> 0.375 | AE10: =HOUR(AC10) -> 8 | AF10: =HOUR(AD10) -> 9 | AG10: Am | AH10: =MAX(V11:V23) -> 155 | AI10: =VLOOKUP(AH10,V11:W23,2,FALSE) -> 0.5 | AJ10: =AI10+W12 -> 0.54166667 | AK10: =HOUR(AI10) -> 12 | AL10: =HOUR(AJ10) -> 13
C11: 0.00 - 1.00 | E11: =Origine!H321 -> 1 | F11: =Origine!I321 -> 0 | G11: =SUM(E11:F11) -> 1 | K11: 0.00 - 1.00 | M11: =Origine!H777 -> 0 | N11: =Origine!I777 -> 0 | O11: =SUM(M11:N11) -> 0 | R11: =G11 -> 1 | S11: 0 | T11: =E11 -> 1 | U11: =F11 -> 0 | V11: =O11 -> 0 | W11: 0 | X11: =M11 -> 0 | Y11: =N11 -> 0 | AA11: Peak | AB11: =VLOOKUP($AC$10,$S$11:$U$34,2,FALSE) -> 140 | AC11: =VLOOKUP($AC$10,$S$11:$U$34,3,FALSE) -> 20 | AG11: Peak | AH11: =VLOOKUP($AI$10,$W$11:$Y$34,2,FALSE) -> 145 | AI11: =VLOOKUP($AI$10,$W$11:$Y$34,3,FALSE) -> 10
C12: 1.00 - 2.00 | E12: =Origine!H322 -> 2 | F12: =Origine!I322 -> 0 | G12: =SUM(E12:F12) -> 2 | K12: 1.00 - 2.00 | M12: =Origine!H778 -> 0 | N12: =Origine!I778 -> 0 | O12: =SUM(M12:N12) -> 0 | R12: =G12 -> 2 | S12: 0.041666667 | T12: =E12 -> 2 | U12: =F12 -> 0 | V12: =O12 -> 0 | W12: 0.041666667 | X12: =M12 -> 0 | Y12: =N12 -> 0
C13: 2.00 - 3.00 | E13: =Origine!H323 -> 0 | F13: =Origine!I323 -> 0 | G13: =SUM(E13:F13) -> 0 | K13: 2.00 - 3.00 | M13: =Origine!H779 -> 0 | N13: =Origine!I779 -> 0 | O13: =SUM(M13:N13) -> 0 | R13: =G13 -> 0 | S13: 0.083333333 | T13: =E13 -> 0 | U13: =F13 -> 0 | V13: =O13 -> 0 | W13: 0.083333333 | X13: =M13 -> 0 | Y13: =N13 -> 0 | AA13: Pm | AB13: =MAX(R24:R34) -> 98 | AC13: =VLOOKUP(AB13,R24:S34,2,FALSE) -> 0.70833333 | AD13: =AC13+S12 -> 0.75 | AE13: =HOUR(AC13) -> 17 | AF13: =HOUR(AD13) -> 18 | AG13: Pm | AH13: =MAX(V24:V34) -> 170 | AI13: =VLOOKUP(AH13,V24:W34,2,FALSE) -> 0.70833333 | AJ13: =AI13+W12 -> 0.75 | AK13: =HOUR(AI13) -> 17 | AL13: =HOUR(AJ13) -> 18
C14: 3.00 - 4.00 | E14: =Origine!H324 -> 1 | F14: =Origine!I324 -> 0 | G14: =SUM(E14:F14) -> 1 | K14: 3.00 - 4.00 | M14: =Origine!H780 -> 0 | N14: =Origine!I780 -> 0 | O14: =SUM(M14:N14) -> 0 | R14: =G14 -> 1 | S14: 0.125 | T14: =E14 -> 1 | U14: =F14 -> 0 | V14: =O14 -> 0 | W14: 0.125 | X14: =M14 -> 0 | Y14: =N14 -> 0 | AA14: Peak | AB14: =VLOOKUP($AC$13,$S$11:$U$34,2,FALSE) -> 83 | AC14: =VLOOKUP($AC$13,$S$11:$U$34,3,FALSE) -> 15 | AG14: Peak | AH14: =VLOOKUP($AI$13,$W$11:$Y$34,2,FALSE) -> 160 | AI14: =VLOOKUP($AI$13,$W$11:$Y$34,3,FALSE) -> 10
C15: 4.00 - 5.00 | E15: =Origine!H325 -> 8 | F15: =Origine!I325 -> 0 | G15: =SUM(E15:F15) -> 8 | K15: 4.00 - 5.00 | M15: =Origine!H781 -> 0 | N15: =Origine!I781 -> 1 | O15: =SUM(M15:N15) -> 1 | R15: =G15 -> 8 | S15: 0.16666667 | T15: =E15 -> 8 | U15: =F15 -> 0 | V15: =O15 -> 1 | W15: 0.16666667 | X15: =M15 -> 0 | Y15: =N15 -> 1
C16: 5.00 - 6.00 | E16: =Origine!H326 -> 34 | F16: =Origine!I326 -> 1 | G16: =SUM(E16:F16) -> 35 | K16: 5.00 - 6.00 | M16: =Origine!H782 -> 15 | N16: =Origine!I782 -> 2 | O16: =SUM(M16:N16) -> 17 | R16: =G16 -> 35 | S16: 0.20833333 | T16: =E16 -> 34 | U16: =F16 -> 1 | V16: =O16 -> 17 | W16: 0.20833333 | X16: =M16 -> 15 | Y16: =N16 -> 2
C17: 6.00 - 7.00 | E17: =Origine!H327 -> 48 | F17: =Origine!I327 -> 4 | G17: =SUM(E17:F17) -> 52 | K17: 6.00 - 7.00 | M17: =Origine!H783 -> 44 | N17: =Origine!I783 -> 5 | O17: =SUM(M17:N17) -> 49 | R17: =G17 -> 52 | S17: 0.25 | T17: =E17 -> 48 | U17: =F17 -> 4 | V17: =O17 -> 49 | W17: 0.25 | X17: =M17 -> 44 | Y17: =N17 -> 5
C18: 7.00 - 8.00 | E18: =Origine!H328 -> 114 | F18: =Origine!I328 -> 10 | G18: =SUM(E18:F18) -> 124 | K18: 7.00 - 8.00 | M18: =Origine!H784 -> 131 | N18: =Origine!I784 -> 12 | O18: =SUM(M18:N18) -> 143 | R18: =G18 -> 124 | S18: 0.29166667 | T18: =E18 -> 114 | U18: =F18 -> 10 | V18: =O18 -> 143 | W18: 0.29166667 | X18: =M18 -> 131 | Y18: =N18 -> 12
C19: 8.00 - 9.00 | E19: =Origine!H329 -> 140 | F19: =Origine!I329 -> 20 | G19: =SUM(E19:F19) -> 160 | K19: 8.00 - 9.00 | M19: =Origine!H785 -> 58 | N19: =Origine!I785 -> 12 | O19: =SUM(M19:N19) -> 70 | R19: =G19 -> 160 | S19: 0.33333333 | T19: =E19 -> 140 | U19: =F19 -> 20 | V19: =O19 -> 70 | W19: 0.33333333 | X19: =M19 -> 58 | Y19: =N19 -> 12
C20: 9.00 - 10.00 | E20: =Origine!H330 -> 114 | F20: =Origine!I330 -> 16 | G20: =SUM(E20:F20) -> 130 | K20: 9.00 - 10.00 | M20: =Origine!H786 -> 116 | N20: =Origine!I786 -> 11 | O20: =SUM(M20:N20) -> 127 | R20: =G20 -> 130 | S20: 0.375 | T20: =E20 -> 114 | U20: =F20 -> 16 | V20: =O20 -> 127 | W20: 0.375 | X20: =M20 -> 116 | Y20: =N20 -> 11
C21: 10.00 - 11.00 | E21: =Origine!H331 -> 77 | F21: =Origine!I331 -> 9 | G21: =SUM(E21:F21) -> 86 | K21: 10.00 - 11.00 | M21: =Origine!H787 -> 73 | N21: =Origine!I787 -> 10 | O21: =SUM(M21:N21) -> 83 | R21: =G21 -> 86 | S21: 0.41666667 | T21: =E21 -> 77 | U21: =F21 -> 9 | V21: =O21 -> 83 | W21: 0.41666667 | X21: =M21 -> 73 | Y21: =N21 -> 10
C22: 11.00 - 12.00 | E22: =Origine!H332 -> 102 | F22: =Origine!I332 -> 8 | G22: =SUM(E22:F22) -> 110 | K22: 11.00 - 12.00 | M22: =Origine!H788 -> 58 | N22: =Origine!I788 -> 13 | O22: =SUM(M22:N22) -> 71 | R22: =G22 -> 110 | S22: 0.45833333 | T22: =E22 -> 102 | U22: =F22 -> 8 | V22: =O22 -> 71 | W22: 0.45833333 | X22: =M22 -> 58 | Y22: =N22 -> 13
C23: 12.00 - 13.00 | E23: =Origine!H333 -> 98 | F23: =Origine!I333 -> 9 | G23: =SUM(E23:F23) -> 107 | K23: 12.00 - 13.00 | M23: =Origine!H789 -> 145 | N23: =Origine!I789 -> 10 | O23: =SUM(M23:N23) -> 155 | R23: =G23 -> 107 | S23: 0.5 | T23: =E23 -> 98 | U23: =F23 -> 9 | V23: =O23 -> 155 | W23: 0.5 | X23: =M23 -> 145 | Y23: =N23 -> 10
C24: 13.00 - 14.00 | E24: =Origine!H334 -> 60 | F24: =Origine!I334 -> 12 | G24: =SUM(E24:F24) -> 72 | K24: 13.00 - 14.00 | M24: =Origine!H790 -> 73 | N24: =Origine!I790 -> 9 | O24: =SUM(M24:N24) -> 82 | R24: =G24 -> 72 | S24: 0.54166667 | T24: =E24 -> 60 | U24: =F24 -> 12 | V24: =O24 -> 82 | W24: 0.54166667 | X24: =M24 -> 73 | Y24: =N24 -> 9
C25: 14.00 - 15.00 | E25: =Origine!H335 -> 73 | F25: =Origine!I335 -> 5 | G25: =SUM(E25:F25) -> 78 | K25: 14.00 - 15.00 | M25: =Origine!H791 -> 73 | N25: =Origine!I791 -> 6 | O25: =SUM(M25:N25) -> 79 | R25: =G25 -> 78 | S25: 0.58333333 | T25: =E25 -> 73 | U25: =F25 -> 5 | V25: =O25 -> 79 | W25: 0.58333333 | X25: =M25 -> 73 | Y25: =N25 -> 6
C26: 15.00 - 16.00 | E26: =Origine!H336 -> 70 | F26: =Origine!I336 -> 8 | G26: =SUM(E26:F26) -> 78 | K26: 15.00 - 16.00 | M26: =Origine!H792 -> 102 | N26: =Origine!I792 -> 7 | O26: =SUM(M26:N26) -> 109 | R26: =G26 -> 78 | S26: 0.625 | T26: =E26 -> 70 | U26: =F26 -> 8 | V26: =O26 -> 109 | W26: 0.625 | X26: =M26 -> 102 | Y26: =N26 -> 7
... C34: 23.00 - 24.00 | E34: =Origine!H344 -> 6 | F34: =Origine!I344 -> 0 | G34: =SUM(E34:F34) -> 6 | K34: 23.00 - 24.00 | M34: =Origine!H800 -> 0 | N34: =Origine!I800 -> 1 | O34: =SUM(M34:N34) -> 1 | R34: =G34 -> 6 | S34: 0.95833333 | T34: =E34 -> 6 | U34: =F34 -> 0 | V34: =O34 -> 1 | W34: 0.95833333 | X34: =M34 -> 0 | Y34: =N34 -> 1
C35: Totale | E35: =SUM(E11:E34) -> 1208 | F35: =SUM(F11:F34) -> 139 | G35: =SUM(G11:G34) -> 1347 | K35: Totale | M35: =SUM(M11:M34) -> 1412 | N35: =SUM(N11:N34) -> 137 | O35: =SUM(O11:O34) -> 1549
C38: Intervallo Orario | E38: Volumi | G38: Totale | K38: Intervallo Orario | M38: Volumi | O38: Totale
E39: Leggeri | F39: Pesanti | M39: Leggeri | N39: Pesanti
C40: Diurno | E40: =SUM(E18:E29) -> 1062 | F40: =SUM(F18:F29) -> 123 | G40: =SUM(E40:F41) -> 1185 | K40: Diurno | M40: =SUM(M18:M29) -> 1208 | N40: =SUM(N18:N29) -> 116 | O40: =SUM(M40:N41) -> 1324
C42: Notturno | E42: =SUM(E11:E17,E30:E34) -> 146 | F42: =SUM(F11:F17,F30:F34) -> 16 | G42: =SUM(E42:F43) -> 162 | K42: Notturno | M42: =SUM(M11:M17,M30:M34) -> 204 | N42: =SUM(N11:N17,N30:N34) -> 21 | O42: =SUM(M42:N43) -> 225
C44: Totale | E44: =SUM(E40:E43) -> 1208 | F44: =SUM(F40:F43) -> 139 | G44: =SUM(E44:F45) -> 1347 | K44: Totale | M44: =SUM(M40:M43) -> 1412 | N44: =SUM(N40:N43) -> 137 | O44: =SUM(M44:N45) -> 1549
C47: Ore di punta | K47: Ore di punta
C49: Intervallo Orario | E49: Volumi | G49: Totale | K49: Intervallo Orario | M49: Volumi | O49: Totale
E50: Leggeri | F50: Pesanti | M50: Leggeri | N50: Pesanti
C51: =CONCATENATE((AE10),".00"," - ",(AF10),".00") -> 8.00 - 9.00 | E51: =AB11 -> 140 | F51: =AC11 -> 20 | G51: =SUM(E51:F51) -> 160 | K51: =CONCATENATE((AK10),".00"," - ",(AL10),".00") -> 12.00 - 13.00 | M51: =AH11 -> 145 | N51: =AI11 -> 10 | O51: =SUM(M51:N51) -> 155
C52: =CONCATENATE((AE13),".00"," - ",(AF13),".00") -> 17.00 - 18.00 | E52: =AB14 -> 83 | F52: =AC14 -> 15 | G52: =SUM(E52:F52) -> 98 | K52: =CONCATENATE((AK13),".00"," - ",(AL13),".00") -> 17.00 - 18.00 | M52: =AH14 -> 160 | N52: =AI14 -> 10 | O52: =SUM(M52:N52) -> 170

Sheet GG15
B1: =+CONCATENATE("Comune di ",Origine!C3) -> Comune di Civitavecchia
B2: Monitoraggio del traffico
C4: Sezione: | D4: =+Origine!C4 -> Calata Principe Tommaso | K4: Data: | L4: =+Origine!B345 -> 45707
C7: =CONCATENATE("Direzione: ",Origine!D9) -> Direzione: Nord | K7: =CONCATENATE("Direzione: ",Origine!D469) -> Direzione: Sud
C9: Intervallo orario | E9: Volumi | G9: Totale | K9: Intervallo orario | M9: Volumi | O9: Totale | R9: =C7 -> Direzione: Nord | V9: =K7 -> Direzione: Sud
E10: Leggeri | F10: Pesanti | M10: Leggeri | N10: Pesanti | R10: Totale Veicoli | S10: HH | T10: Classe 1 | U10: Classe 2 | V10: Totale Veicoli | W10: HH | X10: Classe 1 | Y10: Classe 2 | AA10: Am | AB10: =MAX(R11:R23) -> 133 | AC10: =VLOOKUP(AB10,R11:S23,2,FALSE) -> 0.33333333 | AD10: =AC10+S12 -> 0.375 | AE10: =HOUR(AC10) -> 8 | AF10: =HOUR(AD10) -> 9 | AG10: Am | AH10: =MAX(V11:V23) -> 286 | AI10: =VLOOKUP(AH10,V11:W23,2,FALSE) -> 0.5 | AJ10: =AI10+W12 -> 0.54166667 | AK10: =HOUR(AI10) -> 12 | AL10: =HOUR(AJ10) -> 13
C11: 0.00 - 1.00 | E11: =Origine!H345 -> 2 | F11: =Origine!I345 -> 0 | G11: =SUM(E11:F11) -> 2 | K11: 0.00 - 1.00 | M11: =Origine!H801 -> 0 | N11: =Origine!I801 -> 0 | O11: =SUM(M11:N11) -> 0 | R11: =G11 -> 2 | S11: 0 | T11: =E11 -> 2 | U11: =F11 -> 0 | V11: =O11 -> 0 | W11: 0 | X11: =M11 -> 0 | Y11: =N11 -> 0 | AA11: Peak | AB11: =VLOOKUP($AC$10,$S$11:$U$34,2,FALSE) -> 130 | AC11: =VLOOKUP($AC$10,$S$11:$U$34,3,FALSE) -> 3 | AG11: Peak | AH11: =VLOOKUP($AI$10,$W$11:$Y$34,2,FALSE) -> 276 | AI11: =VLOOKUP($AI$10,$W$11:$Y$34,3,FALSE) -> 10
C12: 1.00 - 2.00 | E12: =Origine!H346 -> 1 | F12: =Origine!I346 -> 0 | G12: =SUM(E12:F12) -> 1 | K12: 1.00 - 2.00 | M12: =Origine!H802 -> 0 | N12: =Origine!I802 -> 0 | O12: =SUM(M12:N12) -> 0 | R12: =G12 -> 1 | S12: 0.041666667 | T12: =E12 -> 1 | U12: =F12 -> 0 | V12: =O12 -> 0 | W12: 0.041666667 | X12: =M12 -> 0 | Y12: =N12 -> 0
C13: 2.00 - 3.00 | E13: =Origine!H347 -> 1 | F13: =Origine!I347 -> 0 | G13: =SUM(E13:F13) -> 1 | K13: 2.00 - 3.00 | M13: =Origine!H803 -> 0 | N13: =Origine!I803 -> 0 | O13: =SUM(M13:N13) -> 0 | R13: =G13 -> 1 | S13: 0.083333333 | T13: =E13 -> 1 | U13: =F13 -> 0 | V13: =O13 -> 0 | W13: 0.083333333 | X13: =M13 -> 0 | Y13: =N13 -> 0 | AA13: Pm | AB13: =MAX(R24:R34) -> 76 | AC13: =VLOOKUP(AB13,R24:S34,2,FALSE) -> 0.66666667 | AD13: =AC13+S12 -> 0.70833333 | AE13: =HOUR(AC13) -> 16 | AF13: =HOUR(AD13) -> 17 | AG13: Pm | AH13: =MAX(V24:V34) -> 242 | AI13: =VLOOKUP(AH13,V24:W34,2,FALSE) -> 0.54166667 | AJ13: =AI13+W12 -> 0.58333333 | AK13: =HOUR(AI13) -> 13 | AL13: =HOUR(AJ13) -> 14
C14: 3.00 - 4.00 | E14: =Origine!H348 -> 4 | F14: =Origine!I348 -> 0 | G14: =SUM(E14:F14) -> 4 | K14: 3.00 - 4.00 | M14: =Origine!H804 -> 0 | N14: =Origine!I804 -> 0 | O14: =SUM(M14:N14) -> 0 | R14: =G14 -> 4 | S14: 0.125 | T14: =E14 -> 4 | U14: =F14 -> 0 | V14: =O14 -> 0 | W14: 0.125 | X14: =M14 -> 0 | Y14: =N14 -> 0 | AA14: Peak | AB14: =VLOOKUP($AC$13,$S$11:$U$34,2,FALSE) -> 69 | AC14: =VLOOKUP($AC$13,$S$11:$U$34,3,FALSE) -> 7 | AG14: Peak | AH14: =VLOOKUP($AI$13,$W$11:$Y$34,2,FALSE) -> 233 | AI14: =VLOOKUP($AI$13,$W$11:$Y$34,3,FALSE) -> 9
C15: 4.00 - 5.00 | E15: =Origine!H349 -> 5 | F15: =Origine!I349 -> 0 | G15: =SUM(E15:F15) -> 5 | K15: 4.00 - 5.00 | M15: =Origine!H805 -> 15 | N15: =Origine!I805 -> 0 | O15: =SUM(M15:N15) -> 15 | R15: =G15 -> 5 | S15: 0.16666667 | T15: =E15 -> 5 | U15: =F15 -> 0 | V15: =O15 -> 15 | W15: 0.16666667 | X15: =M15 -> 15 | Y15: =N15 -> 0
C16: 5.00 - 6.00 | E16: =Origine!H350 -> 20 | F16: =Origine!I350 -> 1 | G16: =SUM(E16:F16) -> 21 | K16: 5.00 - 6.00 | M16: =Origine!H806 -> 15 | N16: =Origine!I806 -> 1 | O16: =SUM(M16:N16) -> 16 | R16: =G16 -> 21 | S16: 0.20833333 | T16: =E16 -> 20 | U16: =F16 -> 1 | V16: =O16 -> 16 | W16: 0.20833333 | X16: =M16 -> 15 | Y16: =N16 -> 1
C17: 6.00 - 7.00 | E17: =Origine!H351 -> 55 | F17: =Origine!I351 -> 1 | G17: =SUM(E17:F17) -> 56 | K17: 6.00 - 7.00 | M17: =Origine!H807 -> 29 | N17: =Origine!I807 -> 3 | O17: =SUM(M17:N17) -> 32 | R17: =G17 -> 56 | S17: 0.25 | T17: =E17 -> 55 | U17: =F17 -> 1 | V17: =O17 -> 32 | W17: 0.25 | X17: =M17 -> 29 | Y17: =N17 -> 3
C18: 7.00 - 8.00 | E18: =Origine!H352 -> 113 | F18: =Origine!I352 -> 4 | G18: =SUM(E18:F18) -> 117 | K18: 7.00 - 8.00 | M18: =Origine!H808 -> 29 | N18: =Origine!I808 -> 8 | O18: =SUM(M18:N18) -> 37 | R18: =G18 -> 117 | S18: 0.29166667 | T18: =E18 -> 113 | U18: =F18 -> 4 | V18: =O18 -> 37 | W18: 0.29166667 | X18: =M18 -> 29 | Y18: =N18 -> 8
C19: 8.00 - 9.00 | E19: =Origine!H353 -> 130 | F19: =Origine!I353 -> 3 | G19: =SUM(E19:F19) -> 133 | K19: 8.00 - 9.00 | M19: =Origine!H809 -> 87 | N19: =Origine!I809 -> 7 | O19: =SUM(M19:N19) -> 94 | R19: =G19 -> 133 | S19: 0.33333333 | T19: =E19 -> 130 | U19: =F19 -> 3 | V19: =O19 -> 94 | W19: 0.33333333 | X19: =M19 -> 87 | Y19: =N19 -> 7
C20: 9.00 - 10.00 | E20: =Origine!H354 -> 86 | F20: =Origine!I354 -> 12 | G20: =SUM(E20:F20) -> 98 | K20: 9.00 - 10.00 | M20: =Origine!H810 -> 73 | N20: =Origine!I810 -> 8 | O20: =SUM(M20:N20) -> 81 | R20: =G20 -> 98 | S20: 0.375 | T20: =E20 -> 86 | U20: =F20 -> 12 | V20: =O20 -> 81 | W20: 0.375 | X20: =M20 -> 73 | Y20: =N20 -> 8
C21: 10.00 - 11.00 | E21: =Origine!H355 -> 76 | F21: =Origine!I355 -> 5 | G21: =SUM(E21:F21) -> 81 | K21: 10.00 - 11.00 | M21: =Origine!H811 -> 44 | N21: =Origine!I811 -> 9 | O21: =SUM(M21:N21) -> 53 | R21: =G21 -> 81 | S21: 0.41666667 | T21: =E21 -> 76 | U21: =F21 -> 5 | V21: =O21 -> 53 | W21: 0.41666667 | X21: =M21 -> 44 | Y21: =N21 -> 9
C22: 11.00 - 12.00 | E22: =Origine!H356 -> 76 | F22: =Origine!I356 -> 7 | G22: =SUM(E22:F22) -> 83 | K22: 11.00 - 12.00 | M22: =Origine!H812 -> 29 | N22: =Origine!I812 -> 6 | O22: =SUM(M22:N22) -> 35 | R22: =G22 -> 83 | S22: 0.45833333 | T22: =E22 -> 76 | U22: =F22 -> 7 | V22: =O22 -> 35 | W22: 0.45833333 | X22: =M22 -> 29 | Y22: =N22 -> 6
C23: 12.00 - 13.00 | E23: =Origine!H357 -> 87 | F23: =Origine!I357 -> 7 | G23: =SUM(E23:F23) -> 94 | K23: 12.00 - 13.00 | M23: =Origine!H813 -> 276 | N23: =Origine!I813 -> 10 | O23: =SUM(M23:N23) -> 286 | R23: =G23 -> 94 | S23: 0.5 | T23: =E23 -> 87 | U23: =F23 -> 7 | V23: =O23 -> 286 | W23: 0.5 | X23: =M23 -> 276 | Y23: =N23 -> 10
C24: 13.00 - 14.00 | E24: =Origine!H358 -> 69 | F24: =Origine!I358 -> 4 | G24: =SUM(E24:F24) -> 73 | K24: 13.00 - 14.00 | M24: =Origine!H814 -> 233 | N24: =Origine!I814 -> 9 | O24: =SUM(M24:N24) -> 242 | R24: =G24 -> 73 | S24: 0.54166667 | T24: =E24 -> 69 | U24: =F24 -> 4 | V24: =O24 -> 242 | W24: 0.54166667 | X24: =M24 -> 233 | Y24: =N24 -> 9
C25: 14.00 - 15.00 | E25: =Origine!H359 -> 59 | F25: =Origine!I359 -> 9 | G25: =SUM(E25:F25) -> 68 | K25: 14.00 - 15.00 | M25: =Origine!H815 -> 15 | N25: =Origine!I815 -> 6 | O25: =SUM(M25:N25) -> 21 | R25: =G25 -> 68 | S25: 0.58333333 | T25: =E25 -> 59 | U25: =F25 -> 9 | V25: =O25 -> 21 | W25: 0.58333333 | X25: =M25 -> 15 | Y25: =N25 -> 6
C26: 15.00 - 16.00 | E26: =Origine!H360 -> 45 | F26: =Origine!I360 -> 4 | G26: =SUM(E26:F26) -> 49 | K26: 15.00 - 16.00 | M26: =Origine!H816 -> 29 | N26: =Origine!I816 -> 5 | O26: =SUM(M26:N26) -> 34 | R26: =G26 -> 49 | S26: 0.625 | T26: =E26 -> 45 | U26: =F26 -> 4 | V26: =O26 -> 34 | W26: 0.625 | X26: =M26 -> 29 | Y26: =N26 -> 5
... C34: 23.00 - 24.00 | E34: =Origine!H368 -> 3 | F34: =Origine!I368 -> 0 | G34: =SUM(E34:F34) -> 3 | K34: 23.00 - 24.00 | M34: =Origine!H824 -> 0 | N34: =Origine!I824 -> 1 | O34: =SUM(M34:N34) -> 1 | R34: =G34 -> 3 | S34: 0.95833333 | T34: =E34 -> 3 | U34: =F34 -> 0 | V34: =O34 -> 1 | W34: 0.95833333 | X34: =M34 -> 0 | Y34: =N34 -> 1
C35: Totale | E35: =SUM(E11:E34) -> 1034 | F35: =SUM(F11:F34) -> 81 | G35: =SUM(G11:G34) -> 1115 | K35: Totale | M35: =SUM(M11:M34) -> 1225 | N35: =SUM(N11:N34) -> 106 | O35: =SUM(O11:O34) -> 1331
C38: Intervallo Orario | E38: Volumi | G38: Totale | K38: Intervallo Orario | M38: Volumi | O38: Totale
E39: Leggeri | F39: Pesanti | M39: Leggeri | N39: Pesanti
C40: Diurno | E40: =SUM(E18:E29) -> 892 | F40: =SUM(F18:F29) -> 71 | G40: =SUM(E40:F41) -> 963 | K40: Diurno | M40: =SUM(M18:M29) -> 1048 | N40: =SUM(N18:N29) -> 91 | O40: =SUM(M40:N41) -> 1139
C42: Notturno | E42: =SUM(E11:E17,E30:E34) -> 142 | F42: =SUM(F11:F17,F30:F34) -> 10 | G42: =SUM(E42:F43) -> 152 | K42: Notturno | M42: =SUM(M11:M17,M30:M34) -> 177 | N42: =SUM(N11:N17,N30:N34) -> 15 | O42: =SUM(M42:N43) -> 192
C44: Totale | E44: =SUM(E40:E43) -> 1034 | F44: =SUM(F40:F43) -> 81 | G44: =SUM(E44:F45) -> 1115 | K44: Totale | M44: =SUM(M40:M43) -> 1225 | N44: =SUM(N40:N43) -> 106 | O44: =SUM(M44:N45) -> 1331
C47: Ore di punta | K47: Ore di punta
C49: Intervallo Orario | E49: Volumi | G49: Totale | K49: Intervallo Orario | M49: Volumi | O49: Totale
E50: Leggeri | F50: Pesanti | M50: Leggeri | N50: Pesanti
C51: =CONCATENATE((AE10),".00"," - ",(AF10),".00") -> 8.00 - 9.00 | E51: =AB11 -> 130 | F51: =AC11 -> 3 | G51: =SUM(E51:F51) -> 133 | K51: =CONCATENATE((AK10),".00"," - ",(AL10),".00") -> 12.00 - 13.00 | M51: =AH11 -> 276 | N51: =AI11 -> 10 | O51: =SUM(M51:N51) -> 286
C52: =CONCATENATE((AE13),".00"," - ",(AF13),".00") -> 16.00 - 17.00 | E52: =AB14 -> 69 | F52: =AC14 -> 7 | G52: =SUM(E52:F52) -> 76 | K52: =CONCATENATE((AK13),".00"," - ",(AL13),".00") -> 13.00 - 14.00 | M52: =AH14 -> 233 | N52: =AI14 -> 9 | O52: =SUM(M52:N52) -> 242

Sheet GG16
B1: =+CONCATENATE("Comune di ",Origine!C3) -> Comune di Civitavecchia
B2: Monitoraggio del traffico
C4: Sezione: | D4: =+Origine!C4 -> Calata Principe Tommaso | K4: Data: | L4: =+Origine!B369 -> 45708
C7: =CONCATENATE("Direzione: ",Origine!D9) -> Direzione: Nord | K7: =CONCATENATE("Direzione: ",Origine!D469) -> Direzione: Sud
C9: Intervallo orario | E9: Volumi | G9: Totale | K9: Intervallo orario | M9: Volumi | O9: Totale | R9: =C7 -> Direzione: Nord | V9: =K7 -> Direzione: Sud
E10: Leggeri | F10: Pesanti | M10: Leggeri | N10: Pesanti | R10: Totale Veicoli | S10: HH | T10: Classe 1 | U10: Classe 2 | V10: Totale Veicoli | W10: HH | X10: Classe 1 | Y10: Classe 2 | AA10: Am | AB10: =MAX(R11:R23) -> 142 | AC10: =VLOOKUP(AB10,R11:S23,2,FALSE) -> 0.33333333 | AD10: =AC10+S12 -> 0.375 | AE10: =HOUR(AC10) -> 8 | AF10: =HOUR(AD10) -> 9 | AG10: Am | AH10: =MAX(V11:V23) -> 156 | AI10: =VLOOKUP(AH10,V11:W23,2,FALSE) -> 0.5 | AJ10: =AI10+W12 -> 0.54166667 | AK10: =HOUR(AI10) -> 12 | AL10: =HOUR(AJ10) -> 13
C11: 0.00 - 1.00 | E11: =Origine!H369 -> 1 | F11: =Origine!I369 -> 0 | G11: =SUM(E11:F11) -> 1 | K11: 0.00 - 1.00 | M11: =Origine!H825 -> 15 | N11: =Origine!I825 -> 0 | O11: =SUM(M11:N11) -> 15 | R11: =G11 -> 1 | S11: 0 | T11: =E11 -> 1 | U11: =F11 -> 0 | V11: =O11 -> 15 | W11: 0 | X11: =M11 -> 15 | Y11: =N11 -> 0 | AA11: Peak | AB11: =VLOOKUP($AC$10,$S$11:$U$34,2,FALSE) -> 137 | AC11: =VLOOKUP($AC$10,$S$11:$U$34,3,FALSE) -> 5 | AG11: Peak | AH11: =VLOOKUP($AI$10,$W$11:$Y$34,2,FALSE) -> 145 | AI11: =VLOOKUP($AI$10,$W$11:$Y$34,3,FALSE) -> 11
C12: 1.00 - 2.00 | E12: =Origine!H370 -> 3 | F12: =Origine!I370 -> 0 | G12: =SUM(E12:F12) -> 3 | K12: 1.00 - 2.00 | M12: =Origine!H826 -> 15 | N12: =Origine!I826 -> 0 | O12: =SUM(M12:N12) -> 15 | R12: =G12 -> 3 | S12: 0.041666667 | T12: =E12 -> 3 | U12: =F12 -> 0 | V12: =O12 -> 15 | W12: 0.041666667 | X12: =M12 -> 15 | Y12: =N12 -> 0
C13: 2.00 - 3.00 | E13: =Origine!H371 -> 0 | F13: =Origine!I371 -> 0 | G13: =SUM(E13:F13) -> 0 | K13: 2.00 - 3.00 | M13: =Origine!H827 -> 0 | N13: =Origine!I827 -> 0 | O13: =SUM(M13:N13) -> 0 | R13: =G13 -> 0 | S13: 0.083333333 | T13: =E13 -> 0 | U13: =F13 -> 0 | V13: =O13 -> 0 | W13: 0.083333333 | X13: =M13 -> 0 | Y13: =N13 -> 0 | AA13: Pm | AB13: =MAX(R24:R34) -> 72 | AC13: =VLOOKUP(AB13,R24:S34,2,FALSE) -> 0.58333333 | AD13: =AC13+S12 -> 0.625 | AE13: =HOUR(AC13) -> 14 | AF13: =HOUR(AD13) -> 15 | AG13: Pm | AH13: =MAX(V24:V34) -> 150 | AI13: =VLOOKUP(AH13,V24:W34,2,FALSE) -> 0.66666667 | AJ13: =AI13+W12 -> 0.70833333 | AK13: =HOUR(AI13) -> 16 | AL13: =HOUR(AJ13) -> 17
C14: 3.00 - 4.00 | E14: =Origine!H372 -> 3 | F14: =Origine!I372 -> 0 | G14: =SUM(E14:F14) -> 3 | K14: 3.00 - 4.00 | M14: =Origine!H828 -> 0 | N14: =Origine!I828 -> 0 | O14: =SUM(M14:N14) -> 0 | R14: =G14 -> 3 | S14: 0.125 | T14: =E14 -> 3 | U14: =F14 -> 0 | V14: =O14 -> 0 | W14: 0.125 | X14: =M14 -> 0 | Y14: =N14 -> 0 | AA14: Peak | AB14: =VLOOKUP($AC$13,$S$11:$U$34,2,FALSE) -> 68 | AC14: =VLOOKUP($AC$13,$S$11:$U$34,3,FALSE) -> 4 | AG14: Peak | AH14: =VLOOKUP($AI$13,$W$11:$Y$34,2,FALSE) -> 145 | AI14: =VLOOKUP($AI$13,$W$11:$Y$34,3,FALSE) -> 5
C15: 4.00 - 5.00 | E15: =Origine!H373 -> 3 | F15: =Origine!I373 -> 0 | G15: =SUM(E15:F15) -> 3 | K15: 4.00 - 5.00 | M15: =Origine!H829 -> 0 | N15: =Origine!I829 -> 0 | O15: =SUM(M15:N15) -> 0 | R15: =G15 -> 3 | S15: 0.16666667 | T15: =E15 -> 3 | U15: =F15 -> 0 | V15: =O15 -> 0 | W15: 0.16666667 | X15: =M15 -> 0 | Y15: =N15 -> 0
C16: 5.00 - 6.00 | E16: =Origine!H374 -> 16 | F16: =Origine!I374 -> 2 | G16: =SUM(E16:F16) -> 18 | K16: 5.00 - 6.00 | M16: =Origine!H830 -> 0 | N16: =Origine!I830 -> 1 | O16: =SUM(M16:N16) -> 1 | R16: =G16 -> 18 | S16: 0.20833333 | T16: =E16 -> 16 | U16: =F16 -> 2 | V16: =O16 -> 1 | W16: 0.20833333 | X16: =M16 -> 0 | Y16: =N16 -> 1
C17: 6.00 - 7.00 | E17: =Origine!H375 -> 39 | F17: =Origine!I375 -> 5 | G17: =SUM(E17:F17) -> 44 | K17: 6.00 - 7.00 | M17: =Origine!H831 -> 29 | N17: =Origine!I831 -> 4 | O17: =SUM(M17:N17) -> 33 | R17: =G17 -> 44 | S17: 0.25 | T17: =E17 -> 39 | U17: =F17 -> 5 | V17: =O17 -> 33 | W17: 0.25 | X17: =M17 -> 29 | Y17: =N17 -> 4
C18: 7.00 - 8.00 | E18: =Origine!H376 -> 105 | F18: =Origine!I376 -> 7 | G18: =SUM(E18:F18) -> 112 | K18: 7.00 - 8.00 | M18: =Origine!H832 -> 73 | N18: =Origine!I832 -> 9 | O18: =SUM(M18:N18) -> 82 | R18: =G18 -> 112 | S18: 0.29166667 | T18: =E18 -> 105 | U18: =F18 -> 7 | V18: =O18 -> 82 | W18: 0.29166667 | X18: =M18 -> 73 | Y18: =N18 -> 9
C19: 8.00 - 9.00 | E19: =Origine!H377 -> 137 | F19: =Origine!I377 -> 5 | G19: =SUM(E19:F19) -> 142 | K19: 8.00 - 9.00 | M19: =Origine!H833 -> 73 | N19: =Origine!I833 -> 7 | O19: =SUM(M19:N19) -> 80 | R19: =G19 -> 142 | S19: 0.33333333 | T19: =E19 -> 137 | U19: =F19 -> 5 | V19: =O19 -> 80 | W19: 0.33333333 | X19: =M19 -> 73 | Y19: =N19 -> 7
C20: 9.00 - 10.00 | E20: =Origine!H378 -> 89 | F20: =Origine!I378 -> 4 | G20: =SUM(E20:F20) -> 93 | K20: 9.00 - 10.00 | M20: =Origine!H834 -> 116 | N20: =Origine!I834 -> 8 | O20: =SUM(M20:N20) -> 124 | R20: =G20 -> 93 | S20: 0.375 | T20: =E20 -> 89 | U20: =F20 -> 4 | V20: =O20 -> 124 | W20: 0.375 | X20: =M20 -> 116 | Y20: =N20 -> 8
C21: 10.00 - 11.00 | E21: =Origine!H379 -> 73 | F21: =Origine!I379 -> 8 | G21: =SUM(E21:F21) -> 81 | K21: 10.00 - 11.00 | M21: =Origine!H835 -> 87 | N21: =Origine!I835 -> 6 | O21: =SUM(M21:N21) -> 93 | R21: =G21 -> 81 | S21: 0.41666667 | T21: =E21 -> 73 | U21: =F21 -> 8 | V21: =O21 -> 93 | W21: 0.41666667 | X21: =M21 -> 87 | Y21: =N21 -> 6
C22: 11.00 - 12.00 | E22: =Origine!H380 -> 76 | F22: =Origine!I380 -> 11 | G22: =SUM(E22:F22) -> 87 | K22: 11.00 - 12.00 | M22: =Origine!H836 -> 117 | N22: =Origine!I836 -> 9 | O22: =SUM(M22:N22) -> 126 | R22: =G22 -> 87 | S22: 0.45833333 | T22: =E22 -> 76 | U22: =F22 -> 11 | V22: =O22 -> 126 | W22: 0.45833333 | X22: =M22 -> 117 | Y22: =N22 -> 9
C23: 12.00 - 13.00 | E23: =Origine!H381 -> 64 | F23: =Origine!I381 -> 8 | G23: =SUM(E23:F23) -> 72 | K23: 12.00 - 13.00 | M23: =Origine!H837 -> 145 | N23: =Origine!I837 -> 11 | O23: =SUM(M23:N23) -> 156 | R23: =G23 -> 72 | S23: 0.5 | T23: =E23 -> 64 | U23: =F23 -> 8 | V23: =O23 -> 156 | W23: 0.5 | X23: =M23 -> 145 | Y23: =N23 -> 11
C24: 13.00 - 14.00 | E24: =Origine!H382 -> 57 | F24: =Origine!I382 -> 7 | G24: =SUM(E24:F24) -> 64 | K24: 13.00 - 14.00 | M24: =Origine!H838 -> 117 | N24: =Origine!I838 -> 9 | O24: =SUM(M24:N24) -> 126 | R24: =G24 -> 64 | S24: 0.54166667 | T24: =E24 -> 57 | U24: =F24 -> 7 | V24: =O24 -> 126 | W24: 0.54166667 | X24: =M24 -> 117 | Y24: =N24 -> 9
C25: 14.00 - 15.00 | E25: =Origine!H383 -> 68 | F25: =Origine!I383 -> 4 | G25: =SUM(E25:F25) -> 72 | K25: 14.00 - 15.00 | M25: =Origine!H839 -> 58 | N25: =Origine!I839 -> 6 | O25: =SUM(M25:N25) -> 64 | R25: =G25 -> 72 | S25: 0.58333333 | T25: =E25 -> 68 | U25: =F25 -> 4 | V25: =O25 -> 64 | W25: 0.58333333 | X25: =M25 -> 58 | Y25: =N25 -> 6
C26: 15.00 - 16.00 | E26: =Origine!H384 -> 59 | F26: =Origine!I384 -> 7 | G26: =SUM(E26:F26) -> 66 | K26: 15.00 - 16.00 | M26: =Origine!H840 -> 58 | N26: =Origine!I840 -> 6 | O26: =SUM(M26:N26) -> 64 | R26: =G26 -> 66 | S26: 0.625 | T26: =E26 -> 59 | U26: =F26 -> 7 | V26: =O26 -> 64 | W26: 0.625 | X26: =M26 -> 58 | Y26: =N26 -> 6
... C34: 23.00 - 24.00 | E34: =Origine!H392 -> 2 | F34: =Origine!I392 -> 0 | G34: =SUM(E34:F34) -> 2 | K34: 23.00 - 24.00 | M34: =Origine!H848 -> 0 | N34: =Origine!I848 -> 0 | O34: =SUM(M34:N34) -> 0 | R34: =G34 -> 2 | S34: 0.95833333 | T34: =E34 -> 2 | U34: =F34 -> 0 | V34: =O34 -> 0 | W34: 0.95833333 | X34: =M34 -> 0 | Y34: =N34 -> 0
C35: Totale | E35: =SUM(E11:E34) -> 985 | F35: =SUM(F11:F34) -> 91 | G35: =SUM(G11:G34) -> 1076 | K35: Totale | M35: =SUM(M11:M34) -> 1371 | N35: =SUM(N11:N34) -> 102 | O35: =SUM(O11:O34) -> 1473
C38: Intervallo Orario | E38: Volumi | G38: Totale | K38: Intervallo Orario | M38: Volumi | O38: Totale
E39: Leggeri | F39: Pesanti | M39: Leggeri | N39: Pesanti
C40: Diurno | E40: =SUM(E18:E29) -> 867 | F40: =SUM(F18:F29) -> 74 | G40: =SUM(E40:F41) -> 941 | K40: Diurno | M40: =SUM(M18:M29) -> 1208 | N40: =SUM(N18:N29) -> 87 | O40: =SUM(M40:N41) -> 1295
C42: Notturno | E42: =SUM(E11:E17,E30:E34) -> 118 | F42: =SUM(F11:F17,F30:F34) -> 17 | G42: =SUM(E42:F43) -> 135 | K42: Notturno | M42: =SUM(M11:M17,M30:M34) -> 163 | N42: =SUM(N11:N17,N30:N34) -> 15 | O42: =SUM(M42:N43) -> 178
C44: Totale | E44: =SUM(E40:E43) -> 985 | F44: =SUM(F40:F43) -> 91 | G44: =SUM(E44:F45) -> 1076 | K44: Totale | M44: =SUM(M40:M43) -> 1371 | N44: =SUM(N40:N43) -> 102 | O44: =SUM(M44:N45) -> 1473
C47: Ore di punta | K47: Ore di punta
C49: Intervallo Orario | E49: Volumi | G49: Totale | K49: Intervallo Orario | M49: Volumi | O49: Totale
E50: Leggeri | F50: Pesanti | M50: Leggeri | N50: Pesanti
C51: =CONCATENATE((AE10),".00"," - ",(AF10),".00") -> 8.00 - 9.00 | E51: =AB11 -> 137 | F51: =AC11 -> 5 | G51: =SUM(E51:F51) -> 142 | K51: =CONCATENATE((AK10),".00"," - ",(AL10),".00") -> 12.00 - 13.00 | M51: =AH11 -> 145 | N51: =AI11 -> 11 | O51: =SUM(M51:N51) -> 156
C52: =CONCATENATE((AE13),".00"," - ",(AF13),".00") -> 14.00 - 15.00 | E52: =AB14 -> 68 | F52: =AC14 -> 4 | G52: =SUM(E52:F52) -> 72 | K52: =CONCATENATE((AK13),".00"," - ",(AL13),".00") -> 16.00 - 17.00 | M52: =AH14 -> 145 | N52: =AI14 -> 5 | O52: =SUM(M52:N52) -> 150

Sheet GG17
B1: =+CONCATENATE("Comune di ",Origine!C3) -> Comune di Civitavecchia
B2: Monitoraggio del traffico
C4: Sezione: | D4: =+Origine!C4 -> Calata Principe Tommaso | K4: Data: | L4: =+Origine!B393 -> 45709
C7: =CONCATENATE("Direzione: ",Origine!D9) -> Direzione: Nord | K7: =CONCATENATE("Direzione: ",Origine!D469) -> Direzione: Sud
C9: Intervallo orario | E9: Volumi | G9: Totale | K9: Intervallo orario | M9: Volumi | O9: Totale | R9: =C7 -> Direzione: Nord | V9: =K7 -> Direzione: Sud
E10: Leggeri | F10: Pesanti | M10: Leggeri | N10: Pesanti | R10: Totale Veicoli | S10: HH | T10: Classe 1 | U10: Classe 2 | V10: Totale Veicoli | W10: HH | X10: Classe 1 | Y10: Classe 2 | AA10: Am | AB10: =MAX(R11:R23) -> 180 | AC10: =VLOOKUP(AB10,R11:S23,2,FALSE) -> 0.375 | AD10: =AC10+S12 -> 0.41666667 | AE10: =HOUR(AC10) -> 9 | AF10: =HOUR(AD10) -> 10 | AG10: Am | AH10: =MAX(V11:V23) -> 292 | AI10: =VLOOKUP(AH10,V11:W23,2,FALSE) -> 0.29166667 | AJ10: =AI10+W12 -> 0.33333333 | AK10: =HOUR(AI10) -> 7 | AL10: =HOUR(AJ10) -> 8
C11: 0.00 - 1.00 | E11: =Origine!H393 -> 0 | F11: =Origine!I393 -> 0 | G11: =SUM(E11:F11) -> 0 | K11: 0.00 - 1.00 | M11: =Origine!H849 -> 0 | N11: =Origine!I849 -> 0 | O11: =SUM(M11:N11) -> 0 | R11: =G11 -> 0 | S11: 0 | T11: =E11 -> 0 | U11: =F11 -> 0 | V11: =O11 -> 0 | W11: 0 | X11: =M11 -> 0 | Y11: =N11 -> 0 | AA11: Peak | AB11: =VLOOKUP($AC$10,$S$11:$U$34,2,FALSE) -> 145 | AC11: =VLOOKUP($AC$10,$S$11:$U$34,3,FALSE) -> 35 | AG11: Peak | AH11: =VLOOKUP($AI$10,$W$11:$Y$34,2,FALSE) -> 276 | AI11: =VLOOKUP($AI$10,$W$11:$Y$34,3,FALSE) -> 16
C12: 1.00 - 2.00 | E12: =Origine!H394 -> 1 | F12: =Origine!I394 -> 0 | G12: =SUM(E12:F12) -> 1 | K12: 1.00 - 2.00 | M12: =Origine!H850 -> 0 | N12: =Origine!I850 -> 0 | O12: =SUM(M12:N12) -> 0 | R12: =G12 -> 1 | S12: 0.041666667 | T12: =E12 -> 1 | U12: =F12 -> 0 | V12: =O12 -> 0 | W12: 0.041666667 | X12: =M12 -> 0 | Y12: =N12 -> 0
C13: 2.00 - 3.00 | E13: =Origine!H395 -> 2 | F13: =Origine!I395 -> 0 | G13: =SUM(E13:F13) -> 2 | K13: 2.00 - 3.00 | M13: =Origine!H851 -> 0 | N13: =Origine!I851 -> 0 | O13: =SUM(M13:N13) -> 0 | R13: =G13 -> 2 | S13: 0.083333333 | T13: =E13 -> 2 | U13: =F13 -> 0 | V13: =O13 -> 0 | W13: 0.083333333 | X13: =M13 -> 0 | Y13: =N13 -> 0 | AA13: Pm | AB13: =MAX(R24:R34) -> 0 | AC13: =VLOOKUP(AB13,R24:S34,2,FALSE) -> 0.54166667 | AD13: =AC13+S12 -> 0.58333333 | AE13: =HOUR(AC13) -> 13 | AF13: =HOUR(AD13) -> 14 | AG13: Pm | AH13: =MAX(V24:V34) -> 0 | AI13: =VLOOKUP(AH13,V24:W34,2,FALSE) -> 0.54166667 | AJ13: =AI13+W12 -> 0.58333333 | AK13: =HOUR(AI13) -> 13 | AL13: =HOUR(AJ13) -> 14
C14: 3.00 - 4.00 | E14: =Origine!H396 -> 2 | F14: =Origine!I396 -> 0 | G14: =SUM(E14:F14) -> 2 | K14: 3.00 - 4.00 | M14: =Origine!H852 -> 0 | N14: =Origine!I852 -> 0 | O14: =SUM(M14:N14) -> 0 | R14: =G14 -> 2 | S14: 0.125 | T14: =E14 -> 2 | U14: =F14 -> 0 | V14: =O14 -> 0 | W14: 0.125 | X14: =M14 -> 0 | Y14: =N14 -> 0 | AA14: Peak | AB14: =VLOOKUP($AC$13,$S$11:$U$34,2,FALSE) -> 0 | AC14: =VLOOKUP($AC$13,$S$11:$U$34,3,FALSE) -> 0 | AG14: Peak | AH14: =VLOOKUP($AI$13,$W$11:$Y$34,2,FALSE) -> 0 | AI14: =VLOOKUP($AI$13,$W$11:$Y$34,3,FALSE) -> 0
C15: 4.00 - 5.00 | E15: =Origine!H397 -> 1 | F15: =Origine!I397 -> 0 | G15: =SUM(E15:F15) -> 1 | K15: 4.00 - 5.00 | M15: =Origine!H853 -> 0 | N15: =Origine!I853 -> 0 | O15: =SUM(M15:N15) -> 0 | R15: =G15 -> 1 | S15: 0.16666667 | T15: =E15 -> 1 | U15: =F15 -> 0 | V15: =O15 -> 0 | W15: 0.16666667 | X15: =M15 -> 0 | Y15: =N15 -> 0
C16: 5.00 - 6.00 | E16: =Origine!H398 -> 20 | F16: =Origine!I398 -> 2 | G16: =SUM(E16:F16) -> 22 | K16: 5.00 - 6.00 | M16: =Origine!H854 -> 0 | N16: =Origine!I854 -> 1 | O16: =SUM(M16:N16) -> 1 | R16: =G16 -> 22 | S16: 0.20833333 | T16: =E16 -> 20 | U16: =F16 -> 2 | V16: =O16 -> 1 | W16: 0.20833333 | X16: =M16 -> 0 | Y16: =N16 -> 1
C17: 6.00 - 7.00 | E17: =Origine!H399 -> 43 | F17: =Origine!I399 -> 1 | G17: =SUM(E17:F17) -> 44 | K17: 6.00 - 7.00 | M17: =Origine!H855 -> 30 | N17: =Origine!I855 -> 3 | O17: =SUM(M17:N17) -> 33 | R17: =G17 -> 44 | S17: 0.25 | T17: =E17 -> 43 | U17: =F17 -> 1 | V17: =O17 -> 33 | W17: 0.25 | X17: =M17 -> 30 | Y17: =N17 -> 3
C18: 7.00 - 8.00 | E18: =Origine!H400 -> 122 | F18: =Origine!I400 -> 9 | G18: =SUM(E18:F18) -> 131 | K18: 7.00 - 8.00 | M18: =Origine!H856 -> 276 | N18: =Origine!I856 -> 16 | O18: =SUM(M18:N18) -> 292 | R18: =G18 -> 131 | S18: 0.29166667 | T18: =E18 -> 122 | U18: =F18 -> 9 | V18: =O18 -> 292 | W18: 0.29166667 | X18: =M18 -> 276 | Y18: =N18 -> 16
C19: 8.00 - 9.00 | E19: =Origine!H401 -> 160 | F19: =Origine!I401 -> 11 | G19: =SUM(E19:F19) -> 171 | K19: 8.00 - 9.00 | M19: =Origine!H857 -> 160 | N19: =Origine!I857 -> 19 | O19: =SUM(M19:N19) -> 179 | R19: =G19 -> 171 | S19: 0.33333333 | T19: =E19 -> 160 | U19: =F19 -> 11 | V19: =O19 -> 179 | W19: 0.33333333 | X19: =M19 -> 160 | Y19: =N19 -> 19
C20: 9.00 - 10.00 | E20: =Origine!H402 -> 145 | F20: =Origine!I402 -> 35 | G20: =SUM(E20:F20) -> 180 | K20: 9.00 - 10.00 | M20: =Origine!H858 -> 131 | N20: =Origine!I858 -> 9 | O20: =SUM(M20:N20) -> 140 | R20: =G20 -> 180 | S20: 0.375 | T20: =E20 -> 145 | U20: =F20 -> 35 | V20: =O20 -> 140 | W20: 0.375 | X20: =M20 -> 131 | Y20: =N20 -> 9
C21: 10.00 - 11.00 | E21: =Origine!H403 -> 63 | F21: =Origine!I403 -> 11 | G21: =SUM(E21:F21) -> 74 | K21: 10.00 - 11.00 | M21: =Origine!H859 -> 88 | N21: =Origine!I859 -> 4 | O21: =SUM(M21:N21) -> 92 | R21: =G21 -> 74 | S21: 0.41666667 | T21: =E21 -> 63 | U21: =F21 -> 11 | V21: =O21 -> 92 | W21: 0.41666667 | X21: =M21 -> 88 | Y21: =N21 -> 4
C22: 11.00 - 12.00 | E22: =Origine!H404 -> 0 | F22: =Origine!I404 -> 0 | G22: =SUM(E22:F22) -> 0 | K22: 11.00 - 12.00 | M22: =Origine!H860 -> 0 | N22: =Origine!I860 -> 0 | O22: =SUM(M22:N22) -> 0 | R22: =G22 -> 0 | S22: 0.45833333 | T22: =E22 -> 0 | U22: =F22 -> 0 | V22: =O22 -> 0 | W22: 0.45833333 | X22: =M22 -> 0 | Y22: =N22 -> 0
C23: 12.00 - 13.00 | E23: =Origine!H405 -> 0 | F23: =Origine!I405 -> 0 | G23: =SUM(E23:F23) -> 0 | K23: 12.00 - 13.00 | M23: =Origine!H861 -> 0 | N23: =Origine!I861 -> 0 | O23: =SUM(M23:N23) -> 0 | R23: =G23 -> 0 | S23: 0.5 | T23: =E23 -> 0 | U23: =F23 -> 0 | V23: =O23 -> 0 | W23: 0.5 | X23: =M23 -> 0 | Y23: =N23 -> 0 | AD23: MEZZI LEGGERI
C24: 13.00 - 14.00 | E24: =Origine!H406 -> 0 | F24: =Origine!I406 -> 0 | G24: =SUM(E24:F24) -> 0 | K24: 13.00 - 14.00 | M24: =Origine!H862 -> 0 | N24: =Origine!I862 -> 0 | O24: =SUM(M24:N24) -> 0 | R24: =G24 -> 0 | S24: 0.54166667 | T24: =E24 -> 0 | U24: =F24 -> 0 | V24: =O24 -> 0 | W24: 0.54166667 | X24: =M24 -> 0 | Y24: =N24 -> 0
C25: 14.00 - 15.00 | E25: =Origine!H407 -> 0 | F25: =Origine!I407 -> 0 | G25: =SUM(E25:F25) -> 0 | K25: 14.00 - 15.00 | M25: =Origine!H863 -> 0 | N25: =Origine!I863 -> 0 | O25: =SUM(M25:N25) -> 0 | R25: =G25 -> 0 | S25: 0.58333333 | T25: =E25 -> 0 | U25: =F25 -> 0 | V25: =O25 -> 0 | W25: 0.58333333 | X25: =M25 -> 0 | Y25: =N25 -> 0
C26: 15.00 - 16.00 | E26: =Origine!H408 -> 0 | F26: =Origine!I408 -> 0 | G26: =SUM(E26:F26) -> 0 | K26: 15.00 - 16.00 | M26: =Origine!H864 -> 0 | N26: =Origine!I864 -> 0 | O26: =SUM(M26:N26) -> 0 | R26: =G26 -> 0 | S26: 0.625 | T26: =E26 -> 0 | U26: =F26 -> 0 | V26: =O26 -> 0 | W26: 0.625 | X26: =M26 -> 0 | Y26: =N26 -> 0
C27: 16.00 - 17.00 | E27: =Origine!H409 -> 0 | F27: =Origine!I409 -> 0 | G27: =SUM(E27:F27) -> 0 | K27: 16.00 - 17.00 | M27: =Origine!H865 -> 0 | N27: =Origine!I865 -> 0 | O27: =SUM(M27:N27) -> 0 | R27: =G27 -> 0 | S27: 0.66666667 | T27: =E27 -> 0 | U27: =F27 -> 0 | V27: =O27 -> 0 | W27: 0.66666667 | X27: =M27 -> 0 | Y27: =N27 -> 0
C28: 17.00 - 18.00 | E28: =Origine!H410 -> 0 | F28: =Origine!I410 -> 0 | G28: =SUM(E28:F28) -> 0 | K28: 17.00 - 18.00 | M28: =Origine!H866 -> 0 | N28: =Origine!I866 -> 0 | O28: =SUM(M28:N28) -> 0 | R28: =G28 -> 0 | S28: 0.70833333 | T28: =E28 -> 0 | U28: =F28 -> 0 | V28: =O28 -> 0 | W28: 0.70833333 | X28: =M28 -> 0 | Y28: =N28 -> 0
C29: 18.00 - 19.00 | E29: =Origine!H411 -> 0 | F29: =Origine!I411 -> 0 | G29: =SUM(E29:F29) -> 0 | K29: 18.00 - 19.00 | M29: =Origine!H867 -> 0 | N29: =Origine!I867 -> 0 | O29: =SUM(M29:N29) -> 0 | R29: =G29 -> 0 | S29: 0.75 | T29: =E29 -> 0 | U29: =F29 -> 0 | V29: =O29 -> 0 | W29: 0.75 | X29: =M29 -> 0 | Y29: =N29 -> 0
C30: 19.00 - 20.00 | E30: =Origine!H412 -> 0 | F30: =Origine!I412 -> 0 | G30: =SUM(E30:F30) -> 0 | K30: 19.00 - 20.00 | M30: =Origine!H868 -> 0 | N30: =Origine!I868 -> 0 | O30: =SUM(M30:N30) -> 0 | R30: =G30 -> 0 | S30: 0.79166667 | T30: =E30 -> 0 | U30: =F30 -> 0 | V30: =O30 -> 0 | W30: 0.79166667 | X30: =M30 -> 0 | Y30: =N30 -> 0
C31: 20.00 - 21.00 | E31: =Origine!H413 -> 0 | F31: =Origine!I413 -> 0 | G31: =SUM(E31:F31) -> 0 | K31: 20.00 - 21.00 | M31: =Origine!H869 -> 0 | N31: =Origine!I869 -> 0 | O31: =SUM(M31:N31) -> 0 | R31: =G31 -> 0 | S31: 0.83333333 | T31: =E31 -> 0 | U31: =F31 -> 0 | V31: =O31 -> 0 | W31: 0.83333333 | X31: =M31 -> 0 | Y31: =N31 -> 0
C32: 21.00 - 22.00 | E32: =Origine!H414 -> 0 | F32: =Origine!I414 -> 0 | G32: =SUM(E32:F32) -> 0 | K32: 21.00 - 22.00 | M32: =Origine!H870 -> 0 | N32: =Origine!I870 -> 0 | O32: =SUM(M32:N32) -> 0 | R32: =G32 -> 0 | S32: 0.875 | T32: =E32 -> 0 | U32: =F32 -> 0 | V32: =O32 -> 0 | W32: 0.875 | X32: =M32 -> 0 | Y32: =N32 -> 0
C33: 22.00 - 23.00 | E33: =Origine!H415 -> 0 | F33: =Origine!I415 -> 0 | G33: =SUM(E33:F33) -> 0 | K33: 22.00 - 23.00 | M33: =Origine!H871 -> 0 | N33: =Origine!I871 -> 0 | O33: =SUM(M33:N33) -> 0 | R33: =G33 -> 0 | S33: 0.91666667 | T33: =E33 -> 0 | U33: =F33 -> 0 | V33: =O33 -> 0 | W33: 0.91666667 | X33: =M33 -> 0 | Y33: =N33 -> 0
C34: 23.00 - 24.00 | E34: =Origine!H416 -> 0 | F34: =Origine!I416 -> 0 | G34: =SUM(E34:F34) -> 0 | K34: 23.00 - 24.00 | M34: =Origine!H872 -> 0 | N34: =Origine!I872 -> 0 | O34: =SUM(M34:N34) -> 0 | R34: =G34 -> 0 | S34: 0.95833333 | T34: =E34 -> 0 | U34: =F34 -> 0 | V34: =O34 -> 0 | W34: 0.95833333 | X34: =M34 -> 0 | Y34: =N34 -> 0
C35: Totale | E35: =SUM(E11:E34) -> 559 | F35: =SUM(F11:F34) -> 69 | G35: =SUM(G11:G34) -> 628 | K35: Totale | M35: =SUM(M11:M34) -> 685 | N35: =SUM(N11:N34) -> 52 | O35: =SUM(O11:O34) -> 737
C38: Intervallo Orario | E38: Volumi | G38: Totale | K38: Intervallo Orario | M38: Volumi | O38: Totale
E39: Leggeri | F39: Pesanti | M39: Leggeri | N39: Pesanti
C40: Diurno | E40: =SUM(E18:E29) -> 490 | F40: =SUM(F18:F29) -> 66 | G40: =SUM(E40:F41) -> 556 | K40: Diurno | M40: =SUM(M18:M29) -> 655 | N40: =SUM(N18:N29) -> 48 | O40: =SUM(M40:N41) -> 703
C42: Notturno | E42: =SUM(E11:E17,E30:E34) -> 69 | F42: =SUM(F11:F17,F30:F34) -> 3 | G42: =SUM(E42:F43) -> 72 | K42: Notturno | M42: =SUM(M11:M17,M30:M34) -> 30 | N42: =SUM(N11:N17,N30:N34) -> 4 | O42: =SUM(M42:N43) -> 34
C44: Totale | E44: =SUM(E40:E43) -> 559 | F44: =SUM(F40:F43) -> 69 | G44: =SUM(E44:F45) -> 628 | K44: Totale | M44: =SUM(M40:M43) -> 685 | N44: =SUM(N40:N43) -> 52 | O44: =SUM(M44:N45) -> 737
C47: Ore di punta | K47: Ore di punta | AD47: Mezzi pesanti
C49: Intervallo Orario | E49: Volumi | G49: Totale | K49: Intervallo Orario | M49: Volumi | O49: Totale
E50: Leggeri | F50: Pesanti | M50: Leggeri | N50: Pesanti
C51: =CONCATENATE((AE10),".00"," - ",(AF10),".00") -> 9.00 - 10.00 | E51: =AB11 -> 145 | F51: =AC11 -> 35 | G51: =SUM(E51:F51) -> 180 | K51: =CONCATENATE((AK10),".00"," - ",(AL10),".00") -> 7.00 - 8.00 | M51: =AH11 -> 276 | N51: =AI11 -> 16 | O51: =SUM(M51:N51) -> 292
C52: =CONCATENATE((AE13),".00"," - ",(AF13),".00") -> 13.00 - 14.00 | E52: =AB14 -> 0 | F52: =AC14 -> 0 | G52: =SUM(E52:F52) -> 0 | K52: =CONCATENATE((AK13),".00"," - ",(AL13),".00") -> 13.00 - 14.00 | M52: =AH14 -> 0 | N52: =AI14 -> 0 | O52: =SUM(M52:N52) -> 0

Sheet Totali
B1: Comune di Civitavecchia
B2: Monitoraggio del traffico
C4: Sezione: | D4: Calata Principe Tommaso | K4: Data: | L4: Totali
C7: Direzione: Nord | K7: Direzione: Sud
C9: Intervallo orario | E9: Volumi | G9: Totale | K9: Intervallo orario | M9: Volumi | O9: Totale
E10: Leggeri | F10: Pesanti | M10: Leggeri | N10: Pesanti
C11: 45693 | E11: =SUM('GG1'!E11:E34) -> 575 | F11: =SUM('GG1'!F11:F34) -> 65 | G11: =SUM(E11:F11) -> 640 | K11: 45693 | M11: =SUM('GG1'!M11:M34) -> 861 | N11: =SUM('GG1'!N11:N34) -> 60 | O11: =SUM(M11:N11) -> 921
C12: 45694 | E12: =SUM('GG2'!E11:E34) -> 936 | F12: =SUM('GG2'!F11:F34) -> 71 | G12: =SUM(E12:F12) -> 1007 | K12: 45694 | M12: =SUM('GG2'!M11:M34) -> 1227 | N12: =SUM('GG2'!N11:N34) -> 90 | O12: =SUM(M12:N12) -> 1317
C13: 45695 | E13: =SUM('GG3'!E11:E34) -> 1348 | F13: =SUM('GG3'!F11:F34) -> 201 | G13: =SUM(E13:F13) -> 1549 | K13: 45695 | M13: =SUM('GG3'!M11:M34) -> 1647 | N13: =SUM('GG3'!N11:N34) -> 141 | O13: =SUM(M13:N13) -> 1788
C14: 45696 | E14: =SUM('GG4'!E11:E34) -> 545 | F14: =SUM('GG4'!F11:F34) -> 50 | G14: =SUM(E14:F14) -> 595 | K14: 45696 | M14: =SUM('GG4'!M11:M34) -> 717 | N14: =SUM('GG4'!N11:N34) -> 38 | O14: =SUM(M14:N14) -> 755
C15: 45697 | E15: =SUM('GG5'!E11:E34) -> 407 | F15: =SUM('GG5'!F11:F34) -> 37 | G15: =SUM(E15:F15) -> 444 | K15: 45697 | M15: =SUM('GG5'!M11:M34) -> 528 | N15: =SUM('GG5'!N11:N34) -> 24 | O15: =SUM(M15:N15) -> 552
C16: 45698 | E16: =SUM('GG6'!E11:E34) -> 1459 | F16: =SUM('GG6'!F11:F34) -> 226 | G16: =SUM(E16:F16) -> 1685 | K16: 45698 | M16: =SUM('GG6'!M11:M34) -> 1938 | N16: =SUM('GG6'!N11:N34) -> 138 | O16: =SUM(M16:N16) -> 2076
C17: 45699 | E17: =SUM('GG7'!E11:E34) -> 1121 | F17: =SUM('GG7'!F11:F34) -> 151 | G17: =SUM(E17:F17) -> 1272 | K17: 45699 | M17: =SUM('GG7'!M11:M34) -> 1517 | N17: =SUM('GG7'!N11:N34) -> 115 | O17: =SUM(M17:N17) -> 1632
C18: 45700 | E18: =SUM('GG8'!E11:E34) -> 967 | F18: =SUM('GG8'!F11:F34) -> 98 | G18: =SUM(E18:F18) -> 1065 | K18: 45700 | M18: =SUM('GG8'!M11:M34) -> 1166 | N18: =SUM('GG8'!N11:N34) -> 110 | O18: =SUM(M18:N18) -> 1276
C19: 45701 | E19: =SUM('GG9'!E11:E34) -> 1312 | F19: =SUM('GG9'!F11:F34) -> 153 | G19: =SUM(E19:F19) -> 1465 | K19: 45701 | M19: =SUM('GG9'!M11:M34) -> 2096 | N19: =SUM('GG9'!N11:N34) -> 118 | O19: =SUM(M19:N19) -> 2214
C20: 45702 | E20: =SUM('GG10'!E11:E34) -> 954 | F20: =SUM('GG10'!F11:F34) -> 86 | G20: =SUM(E20:F20) -> 1040 | K20: 45702 | M20: =SUM('GG10'!M11:M34) -> 1094 | N20: =SUM('GG10'!N11:N34) -> 88 | O20: =SUM(M20:N20) -> 1182
C21: 45703 | E21: =SUM('GG11'!E11:E34) -> 680 | F21: =SUM('GG11'!F11:F34) -> 112 | G21: =SUM(E21:F21) -> 792 | K21: 45703 | M21: =SUM('GG11'!M11:M34) -> 703 | N21: =SUM('GG11'!N11:N34) -> 90 | O21: =SUM(M21:N21) -> 793
C22: 45704 | E22: =SUM('GG12'!E11:E34) -> 413 | F22: =SUM('GG12'!F11:F34) -> 47 | G22: =SUM(E22:F22) -> 460 | K22: 45704 | M22: =SUM('GG12'!M11:M34) -> 294 | N22: =SUM('GG12'!N11:N34) -> 44 | O22: =SUM(M22:N22) -> 338
C23: 45705 | E23: =SUM('GG13'!E11:E34) -> 1362 | F23: =SUM('GG13'!F11:F34) -> 201 | G23: =SUM(E23:F23) -> 1563 | K23: 45705 | M23: =SUM('GG13'!M11:M34) -> 1787 | N23: =SUM('GG13'!N11:N34) -> 150 | O23: =SUM(M23:N23) -> 1937
C24: 45706 | E24: =SUM('GG14'!E11:E34) -> 1208 | F24: =SUM('GG14'!F11:F34) -> 139 | G24: =SUM(E24:F24) -> 1347 | K24: 45706 | M24: =SUM('GG14'!M11:M34) -> 1412 | N24: =SUM('GG14'!N11:N34) -> 137 | O24: =SUM(M24:N24) -> 1549
C25: 45707 | E25: =SUM('GG15'!E11:E34) -> 1034 | F25: =SUM('GG15'!F11:F34) -> 81 | G25: =SUM(E25:F25) -> 1115 | K25: 45707 | M25: =SUM('GG15'!M11:M34) -> 1225 | N25: =SUM('GG15'!N11:N34) -> 106 | O25: =SUM(M25:N25) -> 1331
C26: 45708 | E26: =SUM('GG16'!E11:E34) -> 985 | F26: =SUM('GG16'!F11:F34) -> 91 | G26: =SUM(E26:F26) -> 1076 | K26: 45708 | M26: =SUM('GG16'!M11:M34) -> 1371 | N26: =SUM('GG16'!N11:N34) -> 102 | O26: =SUM(M26:N26) -> 1473
C27: 45709 | E27: =SUM('GG17'!E11:E34) -> 559 | F27: =SUM('GG17'!F11:F34) -> 69 | G27: =SUM(E27:F27) -> 628 | K27: 45709 | M27: =SUM('GG17'!M11:M34) -> 685 | N27: =SUM('GG17'!N11:N34) -> 52 | O27: =SUM(M27:N27) -> 737
C28: Totale | E28: =SUM(E11:E27) -> 15865 | F28: =SUM(F11:F27) -> 1878 | G28: =SUM(G11:G27) -> 17743 | K28: Totale | M28: =SUM(M11:M27) -> 20268 | N28: =SUM(N11:N27) -> 1603 | O28: =SUM(O11:O27) -> 21871
K31: Direzione sud | M31: Direzione nord
K32: Pesanti | L32: Leggeri | M32: Pesanti | N32: Leggeri
K33: =N28 -> 1603 | L33: =M28 -> 20268 | M33: =F28 -> 1878 | N33: =E28 -> 15865 | O33: =SUM(K33:N33) -> 39614
C40: Totali
C95: MEZZI LEGGERI
C154: MEZZI PESANTI
