Workbook

Sheet Origine
B2: GG1 | C2: 45693
B3: Comune | C3: Civitavecchia
B4: Sezione | C4: Calata Principe Tommaso
B5: Dir. AB | C5: Nord | H5: =SUM(H9:H464)/SUM($G$9:$G$464) -> 0.89415544 | I5: =SUM(I9:I440)/SUM($G$9:$G$464) -> 0.10584456
B6: Dir. BA | C6: Sud | H6: =SUM(H441:H896)/SUM($G$465:$G$896) -> 0.9267066 | I6: =SUM(I441:I776)/SUM($G$465:$G$896) -> 0.055141512
B8: Data | C8: Sezione | D8: Direzione | E8: Ora_Da | F8: Ora_A | G8: Vol_Totale | H8: L1 | I8: L2
A9: =WEEKDAY(B9) -> 4 | B9: 45693 | C9: 'Calata Principe Tommaso | D9: Nord | E9: 0 | F9: 0.041666667 | G9: 0 | H9: 0 | I9: 0
A10: =WEEKDAY(B10) -> 4 | B10: 45693 | C10: 'Calata Principe Tommaso | D10: Nord | E10: 0.041666667 | F10: 0.083333333 | G10: 0 | H10: 0 | I10: 0
A11: =WEEKDAY(B11) -> 4 | B11: 45693 | C11: 'Calata Principe Tommaso | D11: Nord | E11: 0.083333333 | F11: 0.125 | G11: 0 | H11: 0 | I11: 0
A12: =WEEKDAY(B12) -> 4 | B12: 45693 | C12: 'Calata Principe Tommaso | D12: Nord | E12: 0.125 | F12: 0.16666667 | G12: 0 | H12: 0 | I12: 0
A13: =WEEKDAY(B13) -> 4 | B13: 45693 | C13: 'Calata Principe Tommaso | D13: Nord | E13: 0.16666667 | F13: 0.20833333 | G13: 0 | H13: 0 | I13: 0
A14: =WEEKDAY(B14) -> 4 | B14: 45693 | C14: 'Calata Principe Tommaso | D14: Nord | E14: 0.20833333 | F14: 0.25 | G14: 0 | H14: 0 | I14: 0
A15: =WEEKDAY(B15) -> 4 | B15: 45693 | C15: 'Calata Principe Tommaso | D15: Nord | E15: 0.25 | F15: 0.29166667 | G15: 0 | H15: 0 | I15: 0
A16: =WEEKDAY(B16) -> 4 | B16: 45693 | C16: 'Calata Principe Tommaso | D16: Nord | E16: 0.29166667 | F16: 0.33333333 | G16: 0 | H16: 0 | I16: 0
A17: =WEEKDAY(B17) -> 4 | B17: 45693 | C17: 'Calata Principe Tommaso | D17: Nord | E17: 0.33333333 | F17: 0.375 | G17: 0 | H17: 0 | I17: 0
A18: =WEEKDAY(B18) -> 4 | B18: 45693 | C18: 'Calata Principe Tommaso | D18: Nord | E18: 0.375 | F18: 0.41666667 | G18: =H18+I18 -> 37 | H18: 33 | I18: 4
A19: =WEEKDAY(B19) -> 4 | B19: 45693 | C19: 'Calata Principe Tommaso | D19: Nord | E19: 0.41666667 | F19: 0.45833333 | G19: =H19+I19 -> 55 | H19: 52 | I19: 3
A20: =WEEKDAY(B20) -> 4 | B20: 45693 | C20: 'Calata Principe Tommaso | D20: Nord | E20: 0.45833333 | F20: 0.5 | G20: =H20+I20 -> 62 | H20: 52 | I20: 10
A21: =WEEKDAY(B21) -> 4 | B21: 45693 | C21: 'Calata Principe Tommaso | D21: Nord | E21: 0.5 | F21: 0.54166667 | G21: =H21+I21 -> 81 | H21: 75 | I21: 6
A22: =WEEKDAY(B22) -> 4 | B22: 45693 | C22: 'Calata Principe Tommaso | D22: Nord | E22: 0.54166667 | F22: 0.58333333 | G22: =H22+I22 -> 65 | H22: 57 | I22: 8
A23: =WEEKDAY(B23) -> 4 | B23: 45693 | C23: 'Calata Principe Tommaso | D23: Nord | E23: 0.58333333 | F23: 0.625 | G23: =H23+I23 -> 58 | H23: 52 | I23: 6
A24: =WEEKDAY(B24) -> 4 | B24: 45693 | C24: 'Calata Principe Tommaso | D24: Nord | E24: 0.625 | F24: 0.66666667 | G24: =H24+I24 -> 62 | H24: 56 | I24: 6
A25: =WEEKDAY(B25) -> 4 | B25: 45693 | C25: 'Calata Principe Tommaso | D25: Nord | E25: 0.66666667 | F25: 0.70833333 | G25: =H25+I25 -> 69 | H25: 64 | I25: 5
A26: =WEEKDAY(B26) -> 4 | B26: 45693 | C26: 'Calata Principe Tommaso | D26: Nord | E26: 0.70833333 | F26: 0.75 | G26: =H26+I26 -> 51 | H26: 47 | I26: 4
A27: =WEEKDAY(B27) -> 4 | B27: 45693 | C27: 'Calata Principe Tommaso | D27: Nord | E27: 0.75 | F27: 0.79166667 | G27: =H27+I27 -> 39 | H27: 35 | I27: 4
A28: =WEEKDAY(B28) -> 4 | B28: 45693 | C28: 'Calata Principe Tommaso | D28: Nord | E28: 0.79166667 | F28: 0.83333333 | G28: =H28+I28 -> 26 | H28: 22 | I28: 4
A29: =WEEKDAY(B29) -> 4 | B29: 45693 | C29: 'Calata Principe Tommaso | D29: Nord | E29: 0.83333333 | F29: 0.875 | G29: =H29+I29 -> 12 | H29: 10 | I29: 2
... A416: =WEEKDAY(B416) -> 6 | B416: 45709 | C416: 'Calata Principe Tommaso | D416: Nord | E416: 0.95833333 | F416: 0 | G416: =H416+I416 -> 0 | H416: 0 | I416: 0
A417: =WEEKDAY(B417) -> 7 | B417: 45710 | C417: 'Calata Principe Tommaso
A418: =WEEKDAY(B418) -> 7 | B418: 45710 | C418: 'Calata Principe Tommaso
A419: =WEEKDAY(B419) -> 7 | B419: 45710 | C419: 'Calata Principe Tommaso
A420: =WEEKDAY(B420) -> 7 | B420: 45710 | C420: 'Calata Principe Tommaso
A421: =WEEKDAY(B421) -> 7 | B421: 45710 | C421: 'Calata Principe Tommaso
A422: =WEEKDAY(B422) -> 7 | B422: 45710 | C422: 'Calata Principe Tommaso
A423: =WEEKDAY(B423) -> 7 | B423: 45710 | C423: 'Calata Principe Tommaso
A424: =WEEKDAY(B424) -> 7 | B424: 45710 | C424: 'Calata Principe Tommaso
A425: =WEEKDAY(B425) -> 7 | B425: 45710 | C425: 'Calata Principe Tommaso
A426: =WEEKDAY(B426) -> 7 | B426: 45710 | C426: 'Calata Principe Tommaso
A427: =WEEKDAY(B427) -> 7 | B427: 45710 | C427: 'Calata Principe Tommaso
A428: =WEEKDAY(B428) -> 7 | B428: 45710 | C428: 'Calata Principe Tommaso
...

Sheet Confronto
C2: =+Origine!C5 -> Nord | G2: =+Origine!C6 -> Sud
C3: L1 | D3: L2 | E3: Tot | G3: L1 | H3: L2 | I3: Tot
A4: 1 | B4: =+'GG1'!$L$4 -> 45693 | C4: =+'GG1'!$E$35 -> 575 | D4: =+'GG1'!$F$35 -> 65 | E4: =+SUM(C4:D4) -> 640 | G4: =+'GG1'!$M$35 -> 861 | H4: =+'GG1'!$N$35 -> 60 | I4: =+SUM(G4:H4) -> 921
A5: =+A4+1 -> 2 | B5: =+'GG2'!$L$4 -> 45694 | C5: =+'GG2'!$E$35 -> 936 | D5: =+'GG2'!$F$35 -> 71 | E5: =+SUM(C5:D5) -> 1007 | G5: =+'GG2'!$M$35 -> 1227 | H5: =+'GG2'!$N$35 -> 90 | I5: =+SUM(G5:H5) -> 1317
A6: =+A5+1 -> 3 | B6: =+'GG3'!$L$4 -> 45695 | C6: =+'GG3'!$E$35 -> 1348 | D6: =+'GG3'!$F$35 -> 201 | E6: =+SUM(C6:D6) -> 1549 | G6: =+'GG3'!$M$35 -> 1647 | H6: =+'GG3'!$N$35 -> 141 | I6: =+SUM(G6:H6) -> 1788
A7: =+A6+1 -> 4 | B7: =+'GG4'!$L$4 -> 45696 | C7: =+'GG4'!$E$35 -> 545 | D7: =+'GG4'!$F$35 -> 50 | E7: =+SUM(C7:D7) -> 595 | G7: =+'GG4'!$M$35 -> 717 | H7: =+'GG4'!$N$35 -> 38 | I7: =+SUM(G7:H7) -> 755
A8: =+A7+1 -> 5 | B8: =+'GG5'!$L$4 -> 45697 | C8: =+'GG5'!$E$35 -> 407 | D8: =+'GG5'!$F$35 -> 37 | E8: =+SUM(C8:D8) -> 444 | G8: =+'GG5'!$M$35 -> 528 | H8: =+'GG5'!$N$35 -> 24 | I8: =+SUM(G8:H8) -> 552
A9: =+A8+1 -> 6 | B9: =+'GG6'!$L$4 -> 45698 | C9: =+'GG6'!$E$35 -> 1459 | D9: =+'GG6'!$F$35 -> 226 | E9: =+SUM(C9:D9) -> 1685 | G9: =+'GG6'!$M$35 -> 1938 | H9: =+'GG6'!$N$35 -> 138 | I9: =+SUM(G9:H9) -> 2076
A10: =+A9+1 -> 7 | B10: =+'GG7'!$L$4 -> 45699 | C10: =+'GG7'!$E$35 -> 1121 | D10: =+'GG7'!$F$35 -> 151 | E10: =+SUM(C10:D10) -> 1272 | G10: =+'GG7'!$M$35 -> 1517 | H10: =+'GG7'!$N$35 -> 115 | I10: =+SUM(G10:H10) -> 1632
A11: =+A10+1 -> 8 | B11: =+'GG8'!$L$4 -> 45700 | C11: =+'GG8'!$E$35 -> 967 | D11: =+'GG8'!$F$35 -> 98 | E11: =+SUM(C11:D11) -> 1065 | G11: =+'GG8'!$M$35 -> 1166 | H11: =+'GG8'!$N$35 -> 110 | I11: =+SUM(G11:H11) -> 1276
A12: =+A11+1 -> 9 | B12: =+'GG9'!$L$4 -> 45701 | C12: =+'GG9'!$E$35 -> 1312 | D12: =+'GG9'!$F$35 -> 153 | E12: =+SUM(C12:D12) -> 1465 | G12: =+'GG9'!$M$35 -> 2096 | H12: =+'GG9'!$N$35 -> 118 | I12: =+SUM(G12:H12) -> 2214
A13: =+A12+1 -> 10 | B13: =+'GG10'!$L$4 -> 45702 | C13: =+'GG10'!$E$35 -> 954 | D13: =+'GG10'!$F$35 -> 86 | E13: =+SUM(C13:D13) -> 1040 | G13: =+'GG10'!$M$35 -> 1094 | H13: =+'GG10'!$N$35 -> 88 | I13: =+SUM(G13:H13) -> 1182
A14: =+A13+1 -> 11 | B14: =+'GG11'!$L$4 -> 45703 | C14: =+'GG11'!$E$35 -> 680 | D14: =+'GG11'!$F$35 -> 112 | E14: =+SUM(C14:D14) -> 792 | G14: =+'GG11'!$M$35 -> 703 | H14: =+'GG11'!$N$35 -> 90 | I14: =+SUM(G14:H14) -> 793
A15: =+A14+1 -> 12 | B15: =+'GG12'!$L$4 -> 45704 | C15: =+'GG12'!$E$35 -> 413 | D15: =+'GG12'!$F$35 -> 47 | E15: =+SUM(C15:D15) -> 460 | G15: =+'GG12'!$M$35 -> 294 | H15: =+'GG12'!$N$35 -> 44 | I15: =+SUM(G15:H15) -> 338
A16: =+A15+1 -> 13 | B16: =+'GG13'!$L$4 -> 45705 | C16: =+'GG13'!$E$35 -> 1362 | D16: =+'GG13'!$F$35 -> 201 | E16: =+SUM(C16:D16) -> 1563 | G16: =+'GG13'!$M$35 -> 1787 | H16: =+'GG13'!$N$35 -> 150 | I16: =+SUM(G16:H16) -> 1937
A17: =+A16+1 -> 14 | B17: =+'GG14'!$L$4 -> 45706 | C17: =+'GG14'!$E$35 -> 1208 | D17: =+'GG14'!$F$35 -> 139 | E17: =+SUM(C17:D17) -> 1347 | G17: =+'GG14'!$M$35 -> 1412 | H17: =+'GG14'!$N$35 -> 137 | I17: =+SUM(G17:H17) -> 1549
A18: =+A17+1 -> 15 | B18: =+'GG15'!$L$4 -> 45707 | C18: =+'GG15'!$E$35 -> 1034 | D18: =+'GG15'!$F$35 -> 81 | E18: =+SUM(C18:D18) -> 1115 | G18: =+'GG15'!$M$35 -> 1225 | H18: =+'GG15'!$N$35 -> 106 | I18: =+SUM(G18:H18) -> 1331
A19: =+A18+1 -> 16 | B19: =+'GG16'!$L$4 -> 45708 | C19: =+'GG16'!$E$35 -> 985 | D19: =+'GG16'!$F$35 -> 91 | E19: =+SUM(C19:D19) -> 1076 | G19: =+'GG16'!$M$35 -> 1371 | H19: =+'GG16'!$N$35 -> 102 | I19: =+SUM(G19:H19) -> 1473
A20: =+A19+1 -> 17 | B20: =+#REF! -> #REF! | C20: =+#REF! -> #REF! | D20: =+#REF! -> #REF! | E20: =+SUM(C20:D20) -> #REF! | G20: =+#REF! -> #REF! | H20: =+#REF! -> #REF! | I20: =+SUM(G20:H20) -> #REF!
C22: =+SUM(C4:C20) -> #REF! | D22: =+SUM(D4:D20) -> #REF! | E22: =+SUM(E4:E20) -> #REF! | G22: =+SUM(G4:G20) -> #REF! | H22: =+SUM(H4:H20) -> #REF! | I22: =+SUM(I4:I20) -> #REF!
B24: =+'GG1'!$L$4 -> 45693 | C24: =+C4/$E4 -> 0.8984375 | D24: =+D4/$E4 -> 0.1015625 | E24: =+C24+D24 -> 1 | G24: =+G4/$I4 -> 0.93485342 | H24: =+H4/$I4 -> 0.06514658 | I24: =+G24+H24 -> 1
B25: =+'GG2'!$L$4 -> 45694 | C25: =+C5/$E5 -> 0.92949355 | D25: =+D5/$E5 -> 0.070506455 | E25: =+C25+D25 -> 1 | G25: =+G5/$I5 -> 0.93166287 | H25: =+H5/$I5 -> 0.06833713 | I25: =+G25+H25 -> 1
B26: =+'GG3'!$L$4 -> 45695 | C26: =+C6/$E6 -> 0.87023886 | D26: =+D6/$E6 -> 0.12976114 | E26: =+C26+D26 -> 1 | G26: =+G6/$I6 -> 0.92114094 | H26: =+H6/$I6 -> 0.07885906 | I26: =+G26+H26 -> 1
B27: =+'GG4'!$L$4 -> 45696 | C27: =+C7/$E7 -> 0.91596639 | D27: =+D7/$E7 -> 0.084033613 | E27: =+C27+D27 -> 1 | G27: =+G7/$I7 -> 0.94966887 | H27: =+H7/$I7 -> 0.050331126 | I27: =+G27+H27 -> 1
B28: =+'GG5'!$L$4 -> 45697 | C28: =+C8/$E8 -> 0.91666667 | D28: =+D8/$E8 -> 0.083333333 | E28: =+C28+D28 -> 1 | G28: =+G8/$I8 -> 0.95652174 | H28: =+H8/$I8 -> 0.043478261 | I28: =+G28+H28 -> 1
B29: =+'GG6'!$L$4 -> 45698 | C29: =+C9/$E9 -> 0.86587537 | D29: =+D9/$E9 -> 0.13412463 | E29: =+C29+D29 -> 1 | G29: =+G9/$I9 -> 0.93352601 | H29: =+H9/$I9 -> 0.066473988 | I29: =+G29+H29 -> 1
B30: =+'GG7'!$L$4 -> 45699 | C30: =+C10/$E10 -> 0.88128931 | D30: =+D10/$E10 -> 0.11871069 | E30: =+C30+D30 -> 1 | G30: =+G10/$I10 -> 0.92953431 | H30: =+H10/$I10 -> 0.070465686 | I30: =+G30+H30 -> 1
B31: =+'GG8'!$L$4 -> 45700 | C31: =+C11/$E11 -> 0.90798122 | D31: =+D11/$E11 -> 0.092018779 | E31: =+C31+D31 -> 1 | G31: =+G11/$I11 -> 0.9137931 | H31: =+H11/$I11 -> 0.086206897 | I31: =+G31+H31 -> 1
B32: =+'GG9'!$L$4 -> 45701 | C32: =+C12/$E12 -> 0.89556314 | D32: =+D12/$E12 -> 0.10443686 | E32: =+C32+D32 -> 1 | G32: =+G12/$I12 -> 0.9467028 | H32: =+H12/$I12 -> 0.0532972 | I32: =+G32+H32 -> 1
B33: =+'GG10'!$L$4 -> 45702 | C33: =+C13/$E13 -> 0.91730769 | D33: =+D13/$E13 -> 0.082692308 | E33: =+C33+D33 -> 1 | G33: =+G13/$I13 -> 0.92554992 | H33: =+H13/$I13 -> 0.074450085 | I33: =+G33+H33 -> 1
B34: =+'GG11'!$L$4 -> 45703 | C34: =+C14/$E14 -> 0.85858586 | D34: =+D14/$E14 -> 0.14141414 | E34: =+C34+D34 -> 1 | G34: =+G14/$I14 -> 0.88650694 | H34: =+H14/$I14 -> 0.11349306 | I34: =+G34+H34 -> 1
B35: =+'GG12'!$L$4 -> 45704 | C35: =+C15/$E15 -> 0.89782609 | D35: =+D15/$E15 -> 0.10217391 | E35: =+C35+D35 -> 1 | G35: =+G15/$I15 -> 0.86982249 | H35: =+H15/$I15 -> 0.13017751 | I35: =+G35+H35 -> 1
B36: =+'GG13'!$L$4 -> 45705 | C36: =+C16/$E16 -> 0.87140115 | D36: =+D16/$E16 -> 0.12859885 | E36: =+C36+D36 -> 1 | G36: =+G16/$I16 -> 0.92256066 | H36: =+H16/$I16 -> 0.077439339 | I36: =+G36+H36 -> 1
B37: =+'GG14'!$L$4 -> 45706 | C37: =+C17/$E17 -> 0.89680772 | D37: =+D17/$E17 -> 0.10319228 | E37: =+C37+D37 -> 1 | G37: =+G17/$I17 -> 0.91155584 | H37: =+H17/$I17 -> 0.088444158 | I37: =+G37+H37 -> 1
B38: =+'GG15'!$L$4 -> 45707 | C38: =+C18/$E18 -> 0.92735426 | D38: =+D18/$E18 -> 0.07264574 | E38: =+C38+D38 -> 1 | G38: =+G18/$I18 -> 0.92036063 | H38: =+H18/$I18 -> 0.079639369 | I38: =+G38+H38 -> 1
B39: =+'GG16'!$L$4 -> 45708 | C39: =+C19/$E19 -> 0.91542751 | D39: =+D19/$E19 -> 0.084572491 | E39: =+C39+D39 -> 1 | G39: =+G19/$I19 -> 0.93075356 | H39: =+H19/$I19 -> 0.069246436 | I39: =+G39+H39 -> 1

Sheet GG1
B1: =+CONCATENATE("Comune di ",Origine!C3) -> Comune di Civitavecchia
B2: Monitoraggio del traffico
C4: Sezione: | D4: =+Origine!C4 -> Calata Principe Tommaso | K4: Data: | L4: =+Origine!B9 -> 45693
C7: =CONCATENATE("Direzione: ",Origine!D9) -> Direzione: Nord | K7: =CONCATENATE("Direzione: ",Origine!D465) -> Direzione: Sud
C9: Intervallo orario | E9: Volumi | G9: Totale | K9: Intervallo orario | M9: Volumi | O9: Totale | R9: =C7 -> Direzione: Nord | V9: =K7 -> Direzione: Sud
E10: Leggeri | F10: Pesanti | M10: Leggeri | N10: Pesanti | R10: Totale Veicoli | S10: HH | T10: Classe 1 | U10: Classe 2 | V10: Totale Veicoli | W10: HH | X10: Classe 1 | Y10: Classe 2 | AA10: Am | AB10: =MAX(R11:R23) -> 81 | AC10: =VLOOKUP(AB10,R11:S23,2,FALSE) -> 0.5 | AD10: =AC10+S12 -> 0.54166667 | AE10: =HOUR(AC10) -> 12 | AF10: =HOUR(AD10) -> 13 | AG10: Am | AH10: =MAX(V11:V23) -> 212 | AI10: =VLOOKUP(AH10,V11:W23,2,FALSE) -> 0.5 | AJ10: =AI10+W12 -> 0.54166667 | AK10: =HOUR(AI10) -> 12 | AL10: =HOUR(AJ10) -> 13
C11: 0.00 - 1.00 | E11: =Origine!H9 -> 0 | F11: =Origine!I9 -> 0 | G11: =SUM(E11:F11) -> 0 | K11: 0.00 - 1.00 | M11: =Origine!H465 -> 0 | N11: =Origine!I465 -> 0 | O11: =SUM(M11:N11) -> 0 | R11: =G11 -> 0 | S11: 0 | T11: =E11 -> 0 | U11: =F11 -> 0 | V11: =O11 -> 0 | W11: 0 | X11: =M11 -> 0 | Y11: =N11 -> 0 | AA11: Peak | AB11: =VLOOKUP($AC$10,$S$11:$U$34,2,FALSE) -> 75 | AC11: =VLOOKUP($AC$10,$S$11:$U$34,3,FALSE) -> 6 | AG11: Peak | AH11: =VLOOKUP($AI$10,$W$11:$Y$34,2,FALSE) -> 204 | AI11: =VLOOKUP($AI$10,$W$11:$Y$34,3,FALSE) -> 8
C12: 1.00 - 2.00 | E12: =Origine!H10 -> 0 | F12: =Origine!I10 -> 0 | G12: =SUM(E12:F12) -> 0 | K12: 1.00 - 2.00 | M12: =Origine!H466 -> 0 | N12: =Origine!I466 -> 0 | O12: =SUM(M12:N12) -> 0 | R12: =G12 -> 0 | S12: 0.041666667 | T12: =E12 -> 0 | U12: =F12 -> 0 | V12: =O12 -> 0 | W12: 0.041666667 | X12: =M12 -> 0 | Y12: =N12 -> 0
C13: 2.00 - 3.00 | E13: =Origine!H11 -> 0 | F13: =Origine!I11 -> 0 | G13: =SUM(E13:F13) -> 0 | K13: 2.00 - 3.00 | M13: =Origine!H467 -> 0 | N13: =Origine!I467 -> 0 | O13: =SUM(M13:N13) -> 0 | R13: =G13 -> 0 | S13: 0.083333333 | T13: =E13 -> 0 | U13: =F13 -> 0 | V13: =O13 -> 0 | W13: 0.083333333 | X13: =M13 -> 0 | Y13: =N13 -> 0 | AA13: Pm | AB13: =MAX(R24:R34) -> 69 | AC13: =VLOOKUP(AB13,R24:S34,2,FALSE) -> 0.66666667 | AD13: =AC13+S12 -> 0.70833333 | AE13: =HOUR(AC13) -> 16 | AF13: =HOUR(AD13) -> 17 | AG13: Pm | AH13: =MAX(V24:V34) -> 137 | AI13: =VLOOKUP(AH13,V24:W34,2,FALSE) -> 0.54166667 | AJ13: =AI13+W12 -> 0.58333333 | AK13: =HOUR(AI13) -> 13 | AL13: =HOUR(AJ13) -> 14
C14: 3.00 - 4.00 | E14: =Origine!H12 -> 0 | F14: =Origine!I12 -> 0 | G14: =SUM(E14:F14) -> 0 | K14: 3.00 - 4.00 | M14: =Origine!H468 -> 0 | N14: =Origine!I468 -> 0 | O14: =SUM(M14:N14) -> 0 | R14: =G14 -> 0 | S14: 0.125 | T14: =E14 -> 0 | U14: =F14 -> 0 | V14: =O14 -> 0 | W14: 0.125 | X14: =M14 -> 0 | Y14: =N14 -> 0 | AA14: Peak | AB14: =VLOOKUP($AC$13,$S$11:$U$34,2,FALSE) -> 64 | AC14: =VLOOKUP($AC$13,$S$11:$U$34,3,FALSE) -> 5 | AG14: Peak | AH14: =VLOOKUP($AI$13,$W$11:$Y$34,2,FALSE) -> 131 | AI14: =VLOOKUP($AI$13,$W$11:$Y$34,3,FALSE) -> 6
C15: 4.00 - 5.00 | E15: =Origine!H13 -> 0 | F15: =Origine!I13 -> 0 | G15: =SUM(E15:F15) -> 0 | K15: 4.00 - 5.00 | M15: =Origine!H469 -> 0 | N15: =Origine!I469 -> 0 | O15: =SUM(M15:N15) -> 0 | R15: =G15 -> 0 | S15: 0.16666667 | T15: =E15 -> 0 | U15: =F15 -> 0 | V15: =O15 -> 0 | W15: 0.16666667 | X15: =M15 -> 0 | Y15: =N15 -> 0
C16: 5.00 - 6.00 | E16: =Origine!H14 -> 0 | F16: =Origine!I14 -> 0 | G16: =SUM(E16:F16) -> 0 | K16: 5.00 - 6.00 | M16: =Origine!H470 -> 0 | N16: =Origine!I470 -> 0 | O16: =SUM(M16:N16) -> 0 | R16: =G16 -> 0 | S16: 0.20833333 | T16: =E16 -> 0 | U16: =F16 -> 0 | V16: =O16 -> 0 | W16: 0.20833333 | X16: =M16 -> 0 | Y16: =N16 -> 0
C17: 6.00 - 7.00 | E17: =Origine!H15 -> 0 | F17: =Origine!I15 -> 0 | G17: =SUM(E17:F17) -> 0 | K17: 6.00 - 7.00 | M17: =Origine!H471 -> 0 | N17: =Origine!I471 -> 0 | O17: =SUM(M17:N17) -> 0 | R17: =G17 -> 0 | S17: 0.25 | T17: =E17 -> 0 | U17: =F17 -> 0 | V17: =O17 -> 0 | W17: 0.25 | X17: =M17 -> 0 | Y17: =N17 -> 0
C18: 7.00 - 8.00 | E18: =Origine!H16 -> 0 | F18: =Origine!I16 -> 0 | G18: =SUM(E18:F18) -> 0 | K18: 7.00 - 8.00 | M18: =Origine!H472 -> 0 | N18: =Origine!I472 -> 0 | O18: =SUM(M18:N18) -> 0 | R18: =G18 -> 0 | S18: 0.29166667 | T18: =E18 -> 0 | U18: =F18 -> 0 | V18: =O18 -> 0 | W18: 0.29166667 | X18: =M18 -> 0 | Y18: =N18 -> 0
C19: 8.00 - 9.00 | E19: =Origine!H17 -> 0 | F19: =Origine!I17 -> 0 | G19: =SUM(E19:F19) -> 0 | K19: 8.00 - 9.00 | M19: =Origine!H473 -> 0 | N19: =Origine!I473 -> 0 | O19: =SUM(M19:N19) -> 0 | R19: =G19 -> 0 | S19: 0.33333333 | T19: =E19 -> 0 | U19: =F19 -> 0 | V19: =O19 -> 0 | W19: 0.33333333 | X19: =M19 -> 0 | Y19: =N19 -> 0
C20: 9.00 - 10.00 | E20: =Origine!H18 -> 33 | F20: =Origine!I18 -> 4 | G20: =SUM(E20:F20) -> 37 | K20: 9.00 - 10.00 | M20: =Origine!H474 -> 29 | N20: =Origine!I474 -> 2 | O20: =SUM(M20:N20) -> 31 | R20: =G20 -> 37 | S20: 0.375 | T20: =E20 -> 33 | U20: =F20 -> 4 | V20: =O20 -> 31 | W20: 0.375 | X20: =M20 -> 29 | Y20: =N20 -> 2
C21: 10.00 - 11.00 | E21: =Origine!H19 -> 52 | F21: =Origine!I19 -> 3 | G21: =SUM(E21:F21) -> 55 | K21: 10.00 - 11.00 | M21: =Origine!H475 -> 15 | N21: =Origine!I475 -> 3 | O21: =SUM(M21:N21) -> 18 | R21: =G21 -> 55 | S21: 0.41666667 | T21: =E21 -> 52 | U21: =F21 -> 3 | V21: =O21 -> 18 | W21: 0.41666667 | X21: =M21 -> 15 | Y21: =N21 -> 3
C22: 11.00 - 12.00 | E22: =Origine!H20 -> 52 | F22: =Origine!I20 -> 10 | G22: =SUM(E22:F22) -> 62 | K22: 11.00 - 12.00 | M22: =Origine!H476 -> 44 | N22: =Origine!I476 -> 5 | O22: =SUM(M22:N22) -> 49 | R22: =G22 -> 62 | S22: 0.45833333 | T22: =E22 -> 52 | U22: =F22 -> 10 | V22: =O22 -> 49 | W22: 0.45833333 | X22: =M22 -> 44 | Y22: =N22 -> 5
C23: 12.00 - 13.00 | E23: =Origine!H21 -> 75 | F23: =Origine!I21 -> 6 | G23: =SUM(E23:F23) -> 81 | K23: 12.00 - 13.00 | M23: =Origine!H477 -> 204 | N23: =Origine!I477 -> 8 | O23: =SUM(M23:N23) -> 212 | R23: =G23 -> 81 | S23: 0.5 | T23: =E23 -> 75 | U23: =F23 -> 6 | V23: =O23 -> 212 | W23: 0.5 | X23: =M23 -> 204 | Y23: =N23 -> 8
C24: 13.00 - 14.00 | E24: =Origine!H22 -> 57 | F24: =Origine!I22 -> 8 | G24: =SUM(E24:F24) -> 65 | K24: 13.00 - 14.00 | M24: =Origine!H478 -> 131 | N24: =Origine!I478 -> 6 | O24: =SUM(M24:N24) -> 137 | R24: =G24 -> 65 | S24: 0.54166667 | T24: =E24 -> 57 | U24: =F24 -> 8 | V24: =O24 -> 137 | W24: 0.54166667 | X24: =M24 -> 131 | Y24: =N24 -> 6
C25: 14.00 - 15.00 | E25: =Origine!H23 -> 52 | F25: =Origine!I23 -> 6 | G25: =SUM(E25:F25) -> 58 | K25: 14.00 - 15.00 | M25: =Origine!H479 -> 29 | N25: =Origine!I479 -> 5 | O25: =SUM(M25:N25) -> 34 | R25: =G25 -> 58 | S25: 0.58333333 | T25: =E25 -> 52 | U25: =F25 -> 6 | V25: =O25 -> 34 | W25: 0.58333333 | X25: =M25 -> 29 | Y25: =N25 -> 5
C26: 15.00 - 16.00 | E26: =Origine!H24 -> 56 | F26: =Origine!I24 -> 6 | G26: =SUM(E26:F26) -> 62 | K26: 15.00 - 16.00 | M26: =Origine!H480 -> 73 | N26: =Origine!I480 -> 2 | O26: =SUM(M26:N26) -> 75 | R26: =G26 -> 62 | S26: 0.625 | T26: =E26 -> 56 | U26: =F26 -> 6 | V26: =O26 -> 75 | W26: 0.625 | X26: =M26 -> 73 | Y26: =N26 -> 2
... C34: 23.00 - 24.00 | E34: =Origine!H32 -> 6 | F34: =Origine!I32 -> 0 | G34: =SUM(E34:F34) -> 6 | K34: 23.00 - 24.00 | M34: =Origine!H488 -> 44 | N34: =Origine!I488 -> 3 | O34: =SUM(M34:N34) -> 47 | R34: =G34 -> 6 | S34: 0.95833333 | T34: =E34 -> 6 | U34: =F34 -> 0 | V34: =O34 -> 47 | W34: 0.95833333 | X34: =M34 -> 44 | Y34: =N34 -> 3
C35: Totale | E35: =SUM(E11:E34) -> 575 | F35: =SUM(F11:F34) -> 65 | G35: =SUM(G11:G34) -> 640 | K35: Totale | M35: =SUM(M11:M34) -> 861 | N35: =SUM(N11:N34) -> 60 | O35: =SUM(O11:O34) -> 921
C38: Intervallo Orario | E38: Volumi | G38: Totale | K38: Intervallo Orario | M38: Volumi | O38: Totale
E39: Leggeri | F39: Pesanti | M39: Leggeri | N39: Pesanti
C40: Diurno | E40: =SUM(E18:E29) -> 523 | F40: =SUM(F18:F29) -> 56 | G40: =SUM(E40:F41) -> 579 | K40: Diurno | M40: =SUM(M18:M29) -> 758 | N40: =SUM(N18:N29) -> 46 | O40: =SUM(M40:N41) -> 804
C42: Notturno | E42: =SUM(E11:E17,E30:E34) -> 52 | F42: =SUM(F11:F17,F30:F34) -> 9 | G42: =SUM(E42:F43) -> 61 | K42: Notturno | M42: =SUM(M11:M17,M30:M34) -> 103 | N42: =SUM(N11:N17,N30:N34) -> 14 | O42: =SUM(M42:N43) -> 117
C44: Totale | E44: =SUM(E40:E43) -> 575 | F44: =SUM(F40:F43) -> 65 | G44: =SUM(E44:F45) -> 640 | K44: Totale | M44: =SUM(M40:M43) -> 861 | N44: =SUM(N40:N43) -> 60 | O44: =SUM(M44:N45) -> 921
C47: Ore di punta | K47: Ore di punta
C49: Intervallo Orario | E49: Volumi | G49: Totale | K49: Intervallo Orario | M49: Volumi | O49: Totale
E50: Leggeri | F50: Pesanti | M50: Leggeri | N50: Pesanti
C51: =CONCATENATE((AE10),".00"," - ",(AF10),".00") -> 12.00 - 13.00 | E51: =AB11 -> 75 | F51: =AC11 -> 6 | G51: =SUM(E51:F51) -> 81 | K51: =CONCATENATE((AK10),".00"," - ",(AL10),".00") -> 12.00 - 13.00 | M51: =AH11 -> 204 | N51: =AI11 -> 8 | O51: =SUM(M51:N51) -> 212
C52: =CONCATENATE((AE13),".00"," - ",(AF13),".00") -> 16.00 - 17.00 | E52: =AB14 -> 64 | F52: =AC14 -> 5 | G52: =SUM(E52:F52) -> 69 | K52: =CONCATENATE((AK13),".00"," - ",(AL13),".00") -> 13.00 - 14.00 | M52: =AH14 -> 131 | N52: =AI14 -> 6 | O52: =SUM(M52:N52) -> 137

Sheet GG2
B1: =+CONCATENATE("Comune di ",Origine!C3) -> Comune di Civitavecchia
B2: Monitoraggio del traffico
C4: Sezione: | D4: =+Origine!C4 -> Calata Principe Tommaso | K4: Data: | L4: =+Origine!B33 -> 45694
C7: =CONCATENATE("Direzione: ",Origine!D9) -> Direzione: Nord | K7: =CONCATENATE("Direzione: ",Origine!D465) -> Direzione: Sud
C9: Intervallo orario | E9: Volumi | G9: Totale | K9: Intervallo orario | M9: Volumi | O9: Totale | R9: =C7 -> Direzione: Nord | V9: =K7 -> Direzione: Sud
E10: Leggeri | F10: Pesanti | M10: Leggeri | N10: Pesanti | R10: Totale Veicoli | S10: HH | T10: Classe 1 | U10: Classe 2 | V10: Totale Veicoli | W10: HH | X10: Classe 1 | Y10: Classe 2 | AA10: Am | AB10: =MAX(R11:R23) -> 127 | AC10: =VLOOKUP(AB10,R11:S23,2,FALSE) -> 0.33333333 | AD10: =AC10+S12 -> 0.375 | AE10: =HOUR(AC10) -> 8 | AF10: =HOUR(AD10) -> 9 | AG10: Am | AH10: =MAX(V11:V23) -> 240 | AI10: =VLOOKUP(AH10,V11:W23,2,FALSE) -> 0.5 | AJ10: =AI10+W12 -> 0.54166667 | AK10: =HOUR(AI10) -> 12 | AL10: =HOUR(AJ10) -> 13
C11: 0.00 - 1.00 | E11: =Origine!H33 -> 3 | F11: =Origine!I33 -> 0 | G11: =SUM(E11:F11) -> 3 | K11: 0.00 - 1.00 | M11: =Origine!H489 -> 0 | N11: =Origine!I489 -> 1 | O11: =SUM(M11:N11) -> 1 | R11: =G11 -> 3 | S11: 0 | T11: =E11 -> 3 | U11: =F11 -> 0 | V11: =O11 -> 1 | W11: 0 | X11: =M11 -> 0 | Y11: =N11 -> 1 | AA11: Peak | AB11: =VLOOKUP($AC$10,$S$11:$U$34,2,FALSE) -> 124 | AC11: =VLOOKUP($AC$10,$S$11:$U$34,3,FALSE) -> 3 | AG11: Peak | AH11: =VLOOKUP($AI$10,$W$11:$Y$34,2,FALSE) -> 233 | AI11: =VLOOKUP($AI$10,$W$11:$Y$34,3,FALSE) -> 7
C12: 1.00 - 2.00 | E12: =Origine!H34 -> 0 | F12: =Origine!I34 -> 0 | G12: =SUM(E12:F12) -> 0 | K12: 1.00 - 2.00 | M12: =Origine!H490 -> 0 | N12: =Origine!I490 -> 0 | O12: =SUM(M12:N12) -> 0 | R12: =G12 -> 0 | S12: 0.041666667 | T12: =E12 -> 0 | U12: =F12 -> 0 | V12: =O12 -> 0 | W12: 0.041666667 | X12: =M12 -> 0 | Y12: =N12 -> 0
C13: 2.00 - 3.00 | E13: =Origine!H35 -> 1 | F13: =Origine!I35 -> 0 | G13: =SUM(E13:F13) -> 1 | K13: 2.00 - 3.00 | M13: =Origine!H491 -> 15 | N13: =Origine!I491 -> 0 | O13: =SUM(M13:N13) -> 15 | R13: =G13 -> 1 | S13: 0.083333333 | T13: =E13 -> 1 | U13: =F13 -> 0 | V13: =O13 -> 15 | W13: 0.083333333 | X13: =M13 -> 15 | Y13: =N13 -> 0 | AA13: Pm | AB13: =MAX(R24:R34) -> 68 | AC13: =VLOOKUP(AB13,R24:S34,2,FALSE) -> 0.54166667 | AD13: =AC13+S12 -> 0.58333333 | AE13: =HOUR(AC13) -> 13 | AF13: =HOUR(AD13) -> 14 | AG13: Pm | AH13: =MAX(V24:V34) -> 182 | AI13: =VLOOKUP(AH13,V24:W34,2,FALSE) -> 0.70833333 | AJ13: =AI13+W12 -> 0.75 | AK13: =HOUR(AI13) -> 17 | AL13: =HOUR(AJ13) -> 18
C14: 3.00 - 4.00 | E14: =Origine!H36 -> 2 | F14: =Origine!I36 -> 0 | G14: =SUM(E14:F14) -> 2 | K14: 3.00 - 4.00 | M14: =Origine!H492 -> 0 | N14: =Origine!I492 -> 0 | O14: =SUM(M14:N14) -> 0 | R14: =G14 -> 2 | S14: 0.125 | T14: =E14 -> 2 | U14: =F14 -> 0 | V14: =O14 -> 0 | W14: 0.125 | X14: =M14 -> 0 | Y14: =N14 -> 0 | AA14: Peak | AB14: =VLOOKUP($AC$13,$S$11:$U$34,2,FALSE) -> 66 | AC14: =VLOOKUP($AC$13,$S$11:$U$34,3,FALSE) -> 2 | AG14: Peak | AH14: =VLOOKUP($AI$13,$W$11:$Y$34,2,FALSE) -> 175 | AI14: =VLOOKUP($AI$13,$W$11:$Y$34,3,FALSE) -> 7
C15: 4.00 - 5.00 | E15: =Origine!H37 -> 3 | F15: =Origine!I37 -> 0 | G15: =SUM(E15:F15) -> 3 | K15: 4.00 - 5.00 | M15: =Origine!H493 -> 0 | N15: =Origine!I493 -> 1 | O15: =SUM(M15:N15) -> 1 | R15: =G15 -> 3 | S15: 0.16666667 | T15: =E15 -> 3 | U15: =F15 -> 0 | V15: =O15 -> 1 | W15: 0.16666667 | X15: =M15 -> 0 | Y15: =N15 -> 1
C16: 5.00 - 6.00 | E16: =Origine!H38 -> 30 | F16: =Origine!I38 -> 2 | G16: =SUM(E16:F16) -> 32 | K16: 5.00 - 6.00 | M16: =Origine!H494 -> 15 | N16: =Origine!I494 -> 2 | O16: =SUM(M16:N16) -> 17 | R16: =G16 -> 32 | S16: 0.20833333 | T16: =E16 -> 30 | U16: =F16 -> 2 | V16: =O16 -> 17 | W16: 0.20833333 | X16: =M16 -> 15 | Y16: =N16 -> 2
C17: 6.00 - 7.00 | E17: =Origine!H39 -> 60 | F17: =Origine!I39 -> 3 | G17: =SUM(E17:F17) -> 63 | K17: 6.00 - 7.00 | M17: =Origine!H495 -> 44 | N17: =Origine!I495 -> 3 | O17: =SUM(M17:N17) -> 47 | R17: =G17 -> 63 | S17: 0.25 | T17: =E17 -> 60 | U17: =F17 -> 3 | V17: =O17 -> 47 | W17: 0.25 | X17: =M17 -> 44 | Y17: =N17 -> 3
C18: 7.00 - 8.00 | E18: =Origine!H40 -> 106 | F18: =Origine!I40 -> 10 | G18: =SUM(E18:F18) -> 116 | K18: 7.00 - 8.00 | M18: =Origine!H496 -> 73 | N18: =Origine!I496 -> 8 | O18: =SUM(M18:N18) -> 81 | R18: =G18 -> 116 | S18: 0.29166667 | T18: =E18 -> 106 | U18: =F18 -> 10 | V18: =O18 -> 81 | W18: 0.29166667 | X18: =M18 -> 73 | Y18: =N18 -> 8
C19: 8.00 - 9.00 | E19: =Origine!H41 -> 124 | F19: =Origine!I41 -> 3 | G19: =SUM(E19:F19) -> 127 | K19: 8.00 - 9.00 | M19: =Origine!H497 -> 73 | N19: =Origine!I497 -> 8 | O19: =SUM(M19:N19) -> 81 | R19: =G19 -> 127 | S19: 0.33333333 | T19: =E19 -> 124 | U19: =F19 -> 3 | V19: =O19 -> 81 | W19: 0.33333333 | X19: =M19 -> 73 | Y19: =N19 -> 8
C20: 9.00 - 10.00 | E20: =Origine!H42 -> 66 | F20: =Origine!I42 -> 3 | G20: =SUM(E20:F20) -> 69 | K20: 9.00 - 10.00 | M20: =Origine!H498 -> 73 | N20: =Origine!I498 -> 6 | O20: =SUM(M20:N20) -> 79 | R20: =G20 -> 69 | S20: 0.375 | T20: =E20 -> 66 | U20: =F20 -> 3 | V20: =O20 -> 79 | W20: 0.375 | X20: =M20 -> 73 | Y20: =N20 -> 6
C21: 10.00 - 11.00 | E21: =Origine!H43 -> 68 | F21: =Origine!I43 -> 4 | G21: =SUM(E21:F21) -> 72 | K21: 10.00 - 11.00 | M21: =Origine!H499 -> 15 | N21: =Origine!I499 -> 5 | O21: =SUM(M21:N21) -> 20 | R21: =G21 -> 72 | S21: 0.41666667 | T21: =E21 -> 68 | U21: =F21 -> 4 | V21: =O21 -> 20 | W21: 0.41666667 | X21: =M21 -> 15 | Y21: =N21 -> 5
C22: 11.00 - 12.00 | E22: =Origine!H44 -> 62 | F22: =Origine!I44 -> 7 | G22: =SUM(E22:F22) -> 69 | K22: 11.00 - 12.00 | M22: =Origine!H500 -> 87 | N22: =Origine!I500 -> 8 | O22: =SUM(M22:N22) -> 95 | R22: =G22 -> 69 | S22: 0.45833333 | T22: =E22 -> 62 | U22: =F22 -> 7 | V22: =O22 -> 95 | W22: 0.45833333 | X22: =M22 -> 87 | Y22: =N22 -> 8
C23: 12.00 - 13.00 | E23: =Origine!H45 -> 75 | F23: =Origine!I45 -> 10 | G23: =SUM(E23:F23) -> 85 | K23: 12.00 - 13.00 | M23: =Origine!H501 -> 233 | N23: =Origine!I501 -> 7 | O23: =SUM(M23:N23) -> 240 | R23: =G23 -> 85 | S23: 0.5 | T23: =E23 -> 75 | U23: =F23 -> 10 | V23: =O23 -> 240 | W23: 0.5 | X23: =M23 -> 233 | Y23: =N23 -> 7
C24: 13.00 - 14.00 | E24: =Origine!H46 -> 66 | F24: =Origine!I46 -> 2 | G24: =SUM(E24:F24) -> 68 | K24: 13.00 - 14.00 | M24: =Origine!H502 -> 58 | N24: =Origine!I502 -> 7 | O24: =SUM(M24:N24) -> 65 | R24: =G24 -> 68 | S24: 0.54166667 | T24: =E24 -> 66 | U24: =F24 -> 2 | V24: =O24 -> 65 | W24: 0.54166667 | X24: =M24 -> 58 | Y24: =N24 -> 7
C25: 14.00 - 15.00 | E25: =Origine!H47 -> 58 | F25: =Origine!I47 -> 4 | G25: =SUM(E25:F25) -> 62 | K25: 14.00 - 15.00 | M25: =Origine!H503 -> 73 | N25: =Origine!I503 -> 5 | O25: =SUM(M25:N25) -> 78 | R25: =G25 -> 62 | S25: 0.58333333 | T25: =E25 -> 58 | U25: =F25 -> 4 | V25: =O25 -> 78 | W25: 0.58333333 | X25: =M25 -> 73 | Y25: =N25 -> 5
C26: 15.00 - 16.00 | E26: =Origine!H48 -> 45 | F26: =Origine!I48 -> 3 | G26: =SUM(E26:F26) -> 48 | K26: 15.00 - 16.00 | M26: =Origine!H504 -> 59 | N26: =Origine!I504 -> 4 | O26: =SUM(M26:N26) -> 63 | R26: =G26 -> 48 | S26: 0.625 | T26: =E26 -> 45 | U26: =F26 -> 3 | V26: =O26 -> 63 | W26: 0.625 | X26: =M26 -> 59 | Y26: =N26 -> 4
... C34: 23.00 - 24.00 | E34: =Origine!H56 -> 2 | F34: =Origine!I56 -> 0 | G34: =SUM(E34:F34) -> 2 | K34: 23.00 - 24.00 | M34: =Origine!H512 -> 0 | N34: =Origine!I512 -> 0 | O34: =SUM(M34:N34) -> 0 | R34: =G34 -> 2 | S34: 0.95833333 | T34: =E34 -> 2 | U34: =F34 -> 0 | V34: =O34 -> 0 | W34: 0.95833333 | X34: =M34 -> 0 | Y34: =N34 -> 0
C35: Totale | E35: =SUM(E11:E34) -> 936 | F35: =SUM(F11:F34) -> 71 | G35: =SUM(G11:G34) -> 1007 | K35: Totale | M35: =SUM(M11:M34) -> 1227 | N35: =SUM(N11:N34) -> 90 | O35: =SUM(O11:O34) -> 1317
C38: Intervallo Orario | E38: Volumi | G38: Totale | K38: Intervallo Orario | M38: Volumi | O38: Totale
E39: Leggeri | F39: Pesanti | M39: Leggeri | N39: Pesanti
C40: Diurno | E40: =SUM(E18:E29) -> 793 | F40: =SUM(F18:F29) -> 58 | G40: =SUM(E40:F41) -> 851 | K40: Diurno | M40: =SUM(M18:M29) -> 1050 | N40: =SUM(N18:N29) -> 75 | O40: =SUM(M40:N41) -> 1125
C42: Notturno | E42: =SUM(E11:E17,E30:E34) -> 143 | F42: =SUM(F11:F17,F30:F34) -> 13 | G42: =SUM(E42:F43) -> 156 | K42: Notturno | M42: =SUM(M11:M17,M30:M34) -> 177 | N42: =SUM(N11:N17,N30:N34) -> 15 | O42: =SUM(M42:N43) -> 192
C44: Totale | E44: =SUM(E40:E43) -> 936 | F44: =SUM(F40:F43) -> 71 | G44: =SUM(E44:F45) -> 1007 | K44: Totale | M44: =SUM(M40:M43) -> 1227 | N44: =SUM(N40:N43) -> 90 | O44: =SUM(M44:N45) -> 1317
C47: Ore di punta | K47: Ore di punta
C49: Intervallo Orario | E49: Volumi | G49: Totale | K49: Intervallo Orario | M49: Volumi | O49: Totale
E50: Leggeri | F50: Pesanti | M50: Leggeri | N50: Pesanti
C51: =CONCATENATE((AE10),".00"," - ",(AF10),".00") -> 8.00 - 9.00 | E51: =AB11 -> 124 | F51: =AC11 -> 3 | G51: =SUM(E51:F51) -> 127 | K51: =CONCATENATE((AK10),".00"," - ",(AL10),".00") -> 12.00 - 13.00 | M51: =AH11 -> 233 | N51: =AI11 -> 7 | O51: =SUM(M51:N51) -> 240
C52: =CONCATENATE((AE13),".00"," - ",(AF13),".00") -> 13.00 - 14.00 | E52: =AB14 -> 66 | F52: =AC14 -> 2 | G52: =SUM(E52:F52) -> 68 | K52: =CONCATENATE((AK13),".00"," - ",(AL13),".00") -> 17.00 - 18.00 | M52: =AH14 -> 175 | N52: =AI14 -> 7 | O52: =SUM(M52:N52) -> 182

Sheet GG3
B1: =+CONCATENATE("Comune di ",Origine!C3) -> Comune di Civitavecchia
B2: Monitoraggio del traffico
C4: Sezione: | D4: =+Origine!C4 -> Calata Principe Tommaso | K4: Data: | L4: =+Origine!B57 -> 45695
C7: =CONCATENATE("Direzione: ",Origine!D9) -> Direzione: Nord | K7: =CONCATENATE("Direzione: ",Origine!D469) -> Direzione: Sud
C9: Intervallo orario | E9: Volumi | G9: Totale | K9: Intervallo orario | M9: Volumi | O9: Totale | R9: =C7 -> Direzione: Nord | V9: =K7 -> Direzione: Sud
E10: Leggeri | F10: Pesanti | M10: Leggeri | N10: Pesanti | R10: Totale Veicoli | S10: HH | T10: Classe 1 | U10: Classe 2 | V10: Totale Veicoli | W10: HH | X10: Classe 1 | Y10: Classe 2 | AA10: Am | AB10: =MAX(R11:R23) -> 172 | AC10: =VLOOKUP(AB10,R11:S23,2,FALSE) -> 0.375 | AD10: =AC10+S12 -> 0.41666667 | AE10: =HOUR(AC10) -> 9 | AF10: =HOUR(AD10) -> 10 | AG10: Am | AH10: =MAX(V11:V23) -> 175 | AI10: =VLOOKUP(AH10,V11:W23,2,FALSE) -> 0.33333333 | AJ10: =AI10+W12 -> 0.375 | AK10: =HOUR(AI10) -> 8 | AL10: =HOUR(AJ10) -> 9
C11: 0.00 - 1.00 | E11: =Origine!H57 -> 1 | F11: =Origine!I57 -> 0 | G11: =SUM(E11:F11) -> 1 | K11: 0.00 - 1.00 | M11: =Origine!H513 -> 15 | N11: =Origine!I513 -> 0 | O11: =SUM(M11:N11) -> 15 | R11: =G11 -> 1 | S11: 0 | T11: =E11 -> 1 | U11: =F11 -> 0 | V11: =O11 -> 15 | W11: 0 | X11: =M11 -> 15 | Y11: =N11 -> 0 | AA11: Peak | AB11: =VLOOKUP($AC$10,$S$11:$U$34,2,FALSE) -> 135 | AC11: =VLOOKUP($AC$10,$S$11:$U$34,3,FALSE) -> 37 | AG11: Peak | AH11: =VLOOKUP($AI$10,$W$11:$Y$34,2,FALSE) -> 160 | AI11: =VLOOKUP($AI$10,$W$11:$Y$34,3,FALSE) -> 15
C12: 1.00 - 2.00 | E12: =Origine!H58 -> 3 | F12: =Origine!I58 -> 0 | G12: =SUM(E12:F12) -> 3 | K12: 1.00 - 2.00 | M12: =Origine!H514 -> 0 | N12: =Origine!I514 -> 0 | O12: =SUM(M12:N12) -> 0 | R12: =G12 -> 3 | S12: 0.041666667 | T12: =E12 -> 3 | U12: =F12 -> 0 | V12: =O12 -> 0 | W12: 0.041666667 | X12: =M12 -> 0 | Y12: =N12 -> 0
C13: 2.00 - 3.00 | E13: =Origine!H59 -> 1 | F13: =Origine!I59 -> 0 | G13: =SUM(E13:F13) -> 1 | K13: 2.00 - 3.00 | M13: =Origine!H515 -> 0 | N13: =Origine!I515 -> 0 | O13: =SUM(M13:N13) -> 0 | R13: =G13 -> 1 | S13: 0.083333333 | T13: =E13 -> 1 | U13: =F13 -> 0 | V13: =O13 -> 0 | W13: 0.083333333 | X13: =M13 -> 0 | Y13: =N13 -> 0 | AA13: Pm | AB13: =MAX(R24:R34) -> 108 | AC13: =VLOOKUP(AB13,R24:S34,2,FALSE) -> 0.54166667 | AD13: =AC13+S12 -> 0.58333333 | AE13: =HOUR(AC13) -> 13 | AF13: =HOUR(AD13) -> 14 | AG13: Pm | AH13: =MAX(V24:V34) -> 216 | AI13: =VLOOKUP(AH13,V24:W34,2,FALSE) -> 0.54166667 | AJ13: =AI13+W12 -> 0.58333333 | AK13: =HOUR(AI13) -> 13 | AL13: =HOUR(AJ13) -> 14
C14: 3.00 - 4.00 | E14: =Origine!H60 -> 4 | F14: =Origine!I60 -> 0 | G14: =SUM(E14:F14) -> 4 | K14: 3.00 - 4.00 | M14: =Origine!H516 -> 0 | N14: =Origine!I516 -> 0 | O14: =SUM(M14:N14) -> 0 | R14: =G14 -> 4 | S14: 0.125 | T14: =E14 -> 4 | U14: =F14 -> 0 | V14: =O14 -> 0 | W14: 0.125 | X14: =M14 -> 0 | Y14: =N14 -> 0 | AA14: Peak | AB14: =VLOOKUP($AC$13,$S$11:$U$34,2,FALSE) -> 94 | AC14: =VLOOKUP($AC$13,$S$11:$U$34,3,FALSE) -> 14 | AG14: Peak | AH14: =VLOOKUP($AI$13,$W$11:$Y$34,2,FALSE) -> 203 | AI14: =VLOOKUP($AI$13,$W$11:$Y$34,3,FALSE) -> 13
C15: 4.00 - 5.00 | E15: =Origine!H61 -> 3 | F15: =Origine!I61 -> 0 | G15: =SUM(E15:F15) -> 3 | K15: 4.00 - 5.00 | M15: =Origine!H517 -> 0 | N15: =Origine!I517 -> 0 | O15: =SUM(M15:N15) -> 0 | R15: =G15 -> 3 | S15: 0.16666667 | T15: =E15 -> 3 | U15: =F15 -> 0 | V15: =O15 -> 0 | W15: 0.16666667 | X15: =M15 -> 0 | Y15: =N15 -> 0
C16: 5.00 - 6.00 | E16: =Origine!H62 -> 22 | F16: =Origine!I62 -> 2 | G16: =SUM(E16:F16) -> 24 | K16: 5.00 - 6.00 | M16: =Origine!H518 -> 15 | N16: =Origine!I518 -> 1 | O16: =SUM(M16:N16) -> 16 | R16: =G16 -> 24 | S16: 0.20833333 | T16: =E16 -> 22 | U16: =F16 -> 2 | V16: =O16 -> 16 | W16: 0.20833333 | X16: =M16 -> 15 | Y16: =N16 -> 1
C17: 6.00 - 7.00 | E17: =Origine!H63 -> 51 | F17: =Origine!I63 -> 4 | G17: =SUM(E17:F17) -> 55 | K17: 6.00 - 7.00 | M17: =Origine!H519 -> 30 | N17: =Origine!I519 -> 6 | O17: =SUM(M17:N17) -> 36 | R17: =G17 -> 55 | S17: 0.25 | T17: =E17 -> 51 | U17: =F17 -> 4 | V17: =O17 -> 36 | W17: 0.25 | X17: =M17 -> 30 | Y17: =N17 -> 6
C18: 7.00 - 8.00 | E18: =Origine!H64 -> 109 | F18: =Origine!I64 -> 3 | G18: =SUM(E18:F18) -> 112 | K18: 7.00 - 8.00 | M18: =Origine!H520 -> 87 | N18: =Origine!I520 -> 11 | O18: =SUM(M18:N18) -> 98 | R18: =G18 -> 112 | S18: 0.29166667 | T18: =E18 -> 109 | U18: =F18 -> 3 | V18: =O18 -> 98 | W18: 0.29166667 | X18: =M18 -> 87 | Y18: =N18 -> 11
C19: 8.00 - 9.00 | E19: =Origine!H65 -> 140 | F19: =Origine!I65 -> 18 | G19: =SUM(E19:F19) -> 158 | K19: 8.00 - 9.00 | M19: =Origine!H521 -> 160 | N19: =Origine!I521 -> 15 | O19: =SUM(M19:N19) -> 175 | R19: =G19 -> 158 | S19: 0.33333333 | T19: =E19 -> 140 | U19: =F19 -> 18 | V19: =O19 -> 175 | W19: 0.33333333 | X19: =M19 -> 160 | Y19: =N19 -> 15
C20: 9.00 - 10.00 | E20: =Origine!H66 -> 135 | F20: =Origine!I66 -> 37 | G20: =SUM(E20:F20) -> 172 | K20: 9.00 - 10.00 | M20: =Origine!H522 -> 87 | N20: =Origine!I522 -> 13 | O20: =SUM(M20:N20) -> 100 | R20: =G20 -> 172 | S20: 0.375 | T20: =E20 -> 135 | U20: =F20 -> 37 | V20: =O20 -> 100 | W20: 0.375 | X20: =M20 -> 87 | Y20: =N20 -> 13
C21: 10.00 - 11.00 | E21: =Origine!H67 -> 113 | F21: =Origine!I67 -> 23 | G21: =SUM(E21:F21) -> 136 | K21: 10.00 - 11.00 | M21: =Origine!H523 -> 88 | N21: =Origine!I523 -> 8 | O21: =SUM(M21:N21) -> 96 | R21: =G21 -> 136 | S21: 0.41666667 | T21: =E21 -> 113 | U21: =F21 -> 23 | V21: =O21 -> 96 | W21: 0.41666667 | X21: =M21 -> 88 | Y21: =N21 -> 8
C22: 11.00 - 12.00 | E22: =Origine!H68 -> 104 | F22: =Origine!I68 -> 12 | G22: =SUM(E22:F22) -> 116 | K22: 11.00 - 12.00 | M22: =Origine!H524 -> 117 | N22: =Origine!I524 -> 9 | O22: =SUM(M22:N22) -> 126 | R22: =G22 -> 116 | S22: 0.45833333 | T22: =E22 -> 104 | U22: =F22 -> 12 | V22: =O22 -> 126 | W22: 0.45833333 | X22: =M22 -> 117 | Y22: =N22 -> 9
C23: 12.00 - 13.00 | E23: =Origine!H69 -> 127 | F23: =Origine!I69 -> 18 | G23: =SUM(E23:F23) -> 145 | K23: 12.00 - 13.00 | M23: =Origine!H525 -> 160 | N23: =Origine!I525 -> 15 | O23: =SUM(M23:N23) -> 175 | R23: =G23 -> 145 | S23: 0.5 | T23: =E23 -> 127 | U23: =F23 -> 18 | V23: =O23 -> 175 | W23: 0.5 | X23: =M23 -> 160 | Y23: =N23 -> 15
C24: 13.00 - 14.00 | E24: =Origine!H70 -> 94 | F24: =Origine!I70 -> 14 | G24: =SUM(E24:F24) -> 108 | K24: 13.00 - 14.00 | M24: =Origine!H526 -> 203 | N24: =Origine!I526 -> 13 | O24: =SUM(M24:N24) -> 216 | R24: =G24 -> 108 | S24: 0.54166667 | T24: =E24 -> 94 | U24: =F24 -> 14 | V24: =O24 -> 216 | W24: 0.54166667 | X24: =M24 -> 203 | Y24: =N24 -> 13
C25: 14.00 - 15.00 | E25: =Origine!H71 -> 91 | F25: =Origine!I71 -> 10 | G25: =SUM(E25:F25) -> 101 | K25: 14.00 - 15.00 | M25: =Origine!H527 -> 175 | N25: =Origine!I527 -> 7 | O25: =SUM(M25:N25) -> 182 | R25: =G25 -> 101 | S25: 0.58333333 | T25: =E25 -> 91 | U25: =F25 -> 10 | V25: =O25 -> 182 | W25: 0.58333333 | X25: =M25 -> 175 | Y25: =N25 -> 7
C26: 15.00 - 16.00 | E26: =Origine!H72 -> 76 | F26: =Origine!I72 -> 10 | G26: =SUM(E26:F26) -> 86 | K26: 15.00 - 16.00 | M26: =Origine!H528 -> 73 | N26: =Origine!I528 -> 8 | O26: =SUM(M26:N26) -> 81 | R26: =G26 -> 86 | S26: 0.625 | T26: =E26 -> 76 | U26: =F26 -> 10 | V26: =O26 -> 81 | W26: 0.625 | X26: =M26 -> 73 | Y26: =N26 -> 8
... C34: 23.00 - 24.00 | E34: =Origine!H80 -> 5 | F34: =Origine!I80 -> 0 | G34: =SUM(E34:F34) -> 5 | K34: 23.00 - 24.00 | M34: =Origine!H536 -> 15 | N34: =Origine!I536 -> 1 | O34: =SUM(M34:N34) -> 16 | R34: =G34 -> 5 | S34: 0.95833333 | T34: =E34 -> 5 | U34: =F34 -> 0 | V34: =O34 -> 16 | W34: 0.95833333 | X34: =M34 -> 15 | Y34: =N34 -> 1
C35: Totale | E35: =SUM(E11:E34) -> 1348 | F35: =SUM(F11:F34) -> 201 | G35: =SUM(G11:G34) -> 1549 | K35: Totale | M35: =SUM(M11:M34) -> 1647 | N35: =SUM(N11:N34) -> 141 | O35: =SUM(O11:O34) -> 1788
C38: Intervallo Orario | E38: Volumi | G38: Totale | K38: Intervallo Orario | M38: Volumi | O38: Totale
E39: Leggeri | F39: Pesanti | M39: Leggeri | N39: Pesanti
C40: Diurno | E40: =SUM(E18:E29) -> 1200 | F40: =SUM(F18:F29) -> 188 | G40: =SUM(E40:F41) -> 1388 | K40: Diurno | M40: =SUM(M18:M29) -> 1499 | N40: =SUM(N18:N29) -> 122 | O40: =SUM(M40:N41) -> 1621
C42: Notturno | E42: =SUM(E11:E17,E30:E34) -> 148 | F42: =SUM(F11:F17,F30:F34) -> 13 | G42: =SUM(E42:F43) -> 161 | K42: Notturno | M42: =SUM(M11:M17,M30:M34) -> 148 | N42: =SUM(N11:N17,N30:N34) -> 19 | O42: =SUM(M42:N43) -> 167
C44: Totale | E44: =SUM(E40:E43) -> 1348 | F44: =SUM(F40:F43) -> 201 | G44: =SUM(E44:F45) -> 1549 | K44: Totale | M44: =SUM(M40:M43) -> 1647 | N44: =SUM(N40:N43) -> 141 | O44: =SUM(M44:N45) -> 1788
C47: Ore di punta | K47: Ore di punta
C49: Intervallo Orario | E49: Volumi | G49: Totale | K49: Intervallo Orario | M49: Volumi | O49: Totale
E50: Leggeri | F50: Pesanti | M50: Leggeri | N50: Pesanti
C51: =CONCATENATE((AE10),".00"," - ",(AF10),".00") -> 9.00 - 10.00 | E51: =AB11 -> 135 | F51: =AC11 -> 37 | G51: =SUM(E51:F51) -> 172 | K51: =CONCATENATE((AK10),".00"," - ",(AL10),".00") -> 8.00 - 9.00 | M51: =AH11 -> 160 | N51: =AI11 -> 15 | O51: =SUM(M51:N51) -> 175
C52: =CONCATENATE((AE13),".00"," - ",(AF13),".00") -> 13.00 - 14.00 | E52: =AB14 -> 94 | F52: =AC14 -> 14 | G52: =SUM(E52:F52) -> 108 | K52: =CONCATENATE((AK13),".00"," - ",(AL13),".00") -> 13.00 - 14.00 | M52: =AH14 -> 203 | N52: =AI14 -> 13 | O52: =SUM(M52:N52) -> 216

Sheet GG4
B1: =+CONCATENATE("Comune di ",Origine!C3) -> Comune di Civitavecchia
B2: Monitoraggio del traffico
C4: Sezione: | D4: =+Origine!C4 -> Calata Principe Tommaso | K4: Data: | L4: =+Origine!B81 -> 45696
C7: =CONCATENATE("Direzione: ",Origine!D9) -> Direzione: Nord | K7: =CONCATENATE("Direzione: ",Origine!D469) -> Direzione: Sud
C9: Intervallo orario | E9: Volumi | G9: Totale | K9: Intervallo orario | M9: Volumi | O9: Totale | R9: =C7 -> Direzione: Nord | V9: =K7 -> Direzione: Sud
E10: Leggeri | F10: Pesanti | M10: Leggeri | N10: Pesanti | R10: Totale Veicoli | S10: HH | T10: Classe 1 | U10: Classe 2 | V10: Totale Veicoli | W10: HH | X10: Classe 1 | Y10: Classe 2 | AA10: Am | AB10: =MAX(R11:R23) -> 54 | AC10: =VLOOKUP(AB10,R11:S23,2,FALSE) -> 0.29166667 | AD10: =AC10+S12 -> 0.33333333 | AE10: =HOUR(AC10) -> 7 | AF10: =HOUR(AD10) -> 8 | AG10: Am | AH10: =MAX(V11:V23) -> 90 | AI10: =VLOOKUP(AH10,V11:W23,2,FALSE) -> 0.45833333 | AJ10: =AI10+W12 -> 0.5 | AK10: =HOUR(AI10) -> 11 | AL10: =HOUR(AJ10) -> 12
C11: 0.00 - 1.00 | E11: =Origine!H81 -> 1 | F11: =Origine!I81 -> 0 | G11: =SUM(E11:F11) -> 1 | K11: 0.00 - 1.00 | M11: =Origine!H537 -> 0 | N11: =Origine!I537 -> 0 | O11: =SUM(M11:N11) -> 0 | R11: =G11 -> 1 | S11: 0 | T11: =E11 -> 1 | U11: =F11 -> 0 | V11: =O11 -> 0 | W11: 0 | X11: =M11 -> 0 | Y11: =N11 -> 0 | AA11: Peak | AB11: =VLOOKUP($AC$10,$S$11:$U$34,2,FALSE) -> 52 | AC11: =VLOOKUP($AC$10,$S$11:$U$34,3,FALSE) -> 2 | AG11: Peak | AH11: =VLOOKUP($AI$10,$W$11:$Y$34,2,FALSE) -> 87 | AI11: =VLOOKUP($AI$10,$W$11:$Y$34,3,FALSE) -> 3
C12: 1.00 - 2.00 | E12: =Origine!H82 -> 3 | F12: =Origine!I82 -> 0 | G12: =SUM(E12:F12) -> 3 | K12: 1.00 - 2.00 | M12: =Origine!H538 -> 0 | N12: =Origine!I538 -> 0 | O12: =SUM(M12:N12) -> 0 | R12: =G12 -> 3 | S12: 0.041666667 | T12: =E12 -> 3 | U12: =F12 -> 0 | V12: =O12 -> 0 | W12: 0.041666667 | X12: =M12 -> 0 | Y12: =N12 -> 0
C13: 2.00 - 3.00 | E13: =Origine!H83 -> 3 | F13: =Origine!I83 -> 0 | G13: =SUM(E13:F13) -> 3 | K13: 2.00 - 3.00 | M13: =Origine!H539 -> 0 | N13: =Origine!I539 -> 1 | O13: =SUM(M13:N13) -> 1 | R13: =G13 -> 3 | S13: 0.083333333 | T13: =E13 -> 3 | U13: =F13 -> 0 | V13: =O13 -> 1 | W13: 0.083333333 | X13: =M13 -> 0 | Y13: =N13 -> 1 | AA13: Pm | AB13: =MAX(R24:R34) -> 35 | AC13: =VLOOKUP(AB13,R24:S34,2,FALSE) -> 0.79166667 | AD13: =AC13+S12 -> 0.83333333 | AE13: =HOUR(AC13) -> 19 | AF13: =HOUR(AD13) -> 20 | AG13: Pm | AH13: =MAX(V24:V34) -> 147 | AI13: =VLOOKUP(AH13,V24:W34,2,FALSE) -> 0.66666667 | AJ13: =AI13+W12 -> 0.70833333 | AK13: =HOUR(AI13) -> 16 | AL13: =HOUR(AJ13) -> 17
C14: 3.00 - 4.00 | E14: =Origine!H84 -> 2 | F14: =Origine!I84 -> 0 | G14: =SUM(E14:F14) -> 2 | K14: 3.00 - 4.00 | M14: =Origine!H540 -> 0 | N14: =Origine!I540 -> 0 | O14: =SUM(M14:N14) -> 0 | R14: =G14 -> 2 | S14: 0.125 | T14: =E14 -> 2 | U14: =F14 -> 0 | V14: =O14 -> 0 | W14: 0.125 | X14: =M14 -> 0 | Y14: =N14 -> 0 | AA14: Peak | AB14: =VLOOKUP($AC$13,$S$11:$U$34,2,FALSE) -> 32 | AC14: =VLOOKUP($AC$13,$S$11:$U$34,3,FALSE) -> 3 | AG14: Peak | AH14: =VLOOKUP($AI$13,$W$11:$Y$34,2,FALSE) -> 145 | AI14: =VLOOKUP($AI$13,$W$11:$Y$34,3,FALSE) -> 2
C15: 4.00 - 5.00 | E15: =Origine!H85 -> 6 | F15: =Origine!I85 -> 0 | G15: =SUM(E15:F15) -> 6 | K15: 4.00 - 5.00 | M15: =Origine!H541 -> 0 | N15: =Origine!I541 -> 0 | O15: =SUM(M15:N15) -> 0 | R15: =G15 -> 6 | S15: 0.16666667 | T15: =E15 -> 6 | U15: =F15 -> 0 | V15: =O15 -> 0 | W15: 0.16666667 | X15: =M15 -> 0 | Y15: =N15 -> 0
C16: 5.00 - 6.00 | E16: =Origine!H86 -> 27 | F16: =Origine!I86 -> 1 | G16: =SUM(E16:F16) -> 28 | K16: 5.00 - 6.00 | M16: =Origine!H542 -> 0 | N16: =Origine!I542 -> 1 | O16: =SUM(M16:N16) -> 1 | R16: =G16 -> 28 | S16: 0.20833333 | T16: =E16 -> 27 | U16: =F16 -> 1 | V16: =O16 -> 1 | W16: 0.20833333 | X16: =M16 -> 0 | Y16: =N16 -> 1
C17: 6.00 - 7.00 | E17: =Origine!H87 -> 29 | F17: =Origine!I87 -> 4 | G17: =SUM(E17:F17) -> 33 | K17: 6.00 - 7.00 | M17: =Origine!H543 -> 30 | N17: =Origine!I543 -> 3 | O17: =SUM(M17:N17) -> 33 | R17: =G17 -> 33 | S17: 0.25 | T17: =E17 -> 29 | U17: =F17 -> 4 | V17: =O17 -> 33 | W17: 0.25 | X17: =M17 -> 30 | Y17: =N17 -> 3
C18: 7.00 - 8.00 | E18: =Origine!H88 -> 52 | F18: =Origine!I88 -> 2 | G18: =SUM(E18:F18) -> 54 | K18: 7.00 - 8.00 | M18: =Origine!H544 -> 44 | N18: =Origine!I544 -> 5 | O18: =SUM(M18:N18) -> 49 | R18: =G18 -> 54 | S18: 0.29166667 | T18: =E18 -> 52 | U18: =F18 -> 2 | V18: =O18 -> 49 | W18: 0.29166667 | X18: =M18 -> 44 | Y18: =N18 -> 5
C19: 8.00 - 9.00 | E19: =Origine!H89 -> 28 | F19: =Origine!I89 -> 2 | G19: =SUM(E19:F19) -> 30 | K19: 8.00 - 9.00 | M19: =Origine!H545 -> 59 | N19: =Origine!I545 -> 3 | O19: =SUM(M19:N19) -> 62 | R19: =G19 -> 30 | S19: 0.33333333 | T19: =E19 -> 28 | U19: =F19 -> 2 | V19: =O19 -> 62 | W19: 0.33333333 | X19: =M19 -> 59 | Y19: =N19 -> 3
C20: 9.00 - 10.00 | E20: =Origine!H90 -> 46 | F20: =Origine!I90 -> 5 | G20: =SUM(E20:F20) -> 51 | K20: 9.00 - 10.00 | M20: =Origine!H546 -> 59 | N20: =Origine!I546 -> 2 | O20: =SUM(M20:N20) -> 61 | R20: =G20 -> 51 | S20: 0.375 | T20: =E20 -> 46 | U20: =F20 -> 5 | V20: =O20 -> 61 | W20: 0.375 | X20: =M20 -> 59 | Y20: =N20 -> 2
C21: 10.00 - 11.00 | E21: =Origine!H91 -> 35 | F21: =Origine!I91 -> 3 | G21: =SUM(E21:F21) -> 38 | K21: 10.00 - 11.00 | M21: =Origine!H547 -> 0 | N21: =Origine!I547 -> 3 | O21: =SUM(M21:N21) -> 3 | R21: =G21 -> 38 | S21: 0.41666667 | T21: =E21 -> 35 | U21: =F21 -> 3 | V21: =O21 -> 3 | W21: 0.41666667 | X21: =M21 -> 0 | Y21: =N21 -> 3
C22: 11.00 - 12.00 | E22: =Origine!H92 -> 43 | F22: =Origine!I92 -> 3 | G22: =SUM(E22:F22) -> 46 | K22: 11.00 - 12.00 | M22: =Origine!H548 -> 87 | N22: =Origine!I548 -> 3 | O22: =SUM(M22:N22) -> 90 | R22: =G22 -> 46 | S22: 0.45833333 | T22: =E22 -> 43 | U22: =F22 -> 3 | V22: =O22 -> 90 | W22: 0.45833333 | X22: =M22 -> 87 | Y22: =N22 -> 3
C23: 12.00 - 13.00 | E23: =Origine!H93 -> 38 | F23: =Origine!I93 -> 2 | G23: =SUM(E23:F23) -> 40 | K23: 12.00 - 13.00 | M23: =Origine!H549 -> 44 | N23: =Origine!I549 -> 6 | O23: =SUM(M23:N23) -> 50 | R23: =G23 -> 40 | S23: 0.5 | T23: =E23 -> 38 | U23: =F23 -> 2 | V23: =O23 -> 50 | W23: 0.5 | X23: =M23 -> 44 | Y23: =N23 -> 6
C24: 13.00 - 14.00 | E24: =Origine!H94 -> 32 | F24: =Origine!I94 -> 2 | G24: =SUM(E24:F24) -> 34 | K24: 13.00 - 14.00 | M24: =Origine!H550 -> 58 | N24: =Origine!I550 -> 4 | O24: =SUM(M24:N24) -> 62 | R24: =G24 -> 34 | S24: 0.54166667 | T24: =E24 -> 32 | U24: =F24 -> 2 | V24: =O24 -> 62 | W24: 0.54166667 | X24: =M24 -> 58 | Y24: =N24 -> 4
C25: 14.00 - 15.00 | E25: =Origine!H95 -> 28 | F25: =Origine!I95 -> 6 | G25: =SUM(E25:F25) -> 34 | K25: 14.00 - 15.00 | M25: =Origine!H551 -> 30 | N25: =Origine!I551 -> 2 | O25: =SUM(M25:N25) -> 32 | R25: =G25 -> 34 | S25: 0.58333333 | T25: =E25 -> 28 | U25: =F25 -> 6 | V25: =O25 -> 32 | W25: 0.58333333 | X25: =M25 -> 30 | Y25: =N25 -> 2
C26: 15.00 - 16.00 | E26: =Origine!H96 -> 25 | F26: =Origine!I96 -> 5 | G26: =SUM(E26:F26) -> 30 | K26: 15.00 - 16.00 | M26: =Origine!H552 -> 73 | N26: =Origine!I552 -> 0 | O26: =SUM(M26:N26) -> 73 | R26: =G26 -> 30 | S26: 0.625 | T26: =E26 -> 25 | U26: =F26 -> 5 | V26: =O26 -> 73 | W26: 0.625 | X26: =M26 -> 73 | Y26: =N26 -> 0
... C34: 23.00 - 24.00 | E34: =Origine!H104 -> 6 | F34: =Origine!I104 -> 0 | G34: =SUM(E34:F34) -> 6 | K34: 23.00 - 24.00 | M34: =Origine!H560 -> 0 | N34: =Origine!I560 -> 1 | O34: =SUM(M34:N34) -> 1 | R34: =G34 -> 6 | S34: 0.95833333 | T34: =E34 -> 6 | U34: =F34 -> 0 | V34: =O34 -> 1 | W34: 0.95833333 | X34: =M34 -> 0 | Y34: =N34 -> 1
C35: Totale | E35: =SUM(E11:E34) -> 545 | F35: =SUM(F11:F34) -> 50 | G35: =SUM(G11:G34) -> 595 | K35: Totale | M35: =SUM(M11:M34) -> 717 | N35: =SUM(N11:N34) -> 38 | O35: =SUM(O11:O34) -> 755
C38: Intervallo Orario | E38: Volumi | G38: Totale | K38: Intervallo Orario | M38: Volumi | O38: Totale
E39: Leggeri | F39: Pesanti | M39: Leggeri | N39: Pesanti
C40: Diurno | E40: =SUM(E18:E29) -> 384 | F40: =SUM(F18:F29) -> 37 | G40: =SUM(E40:F41) -> 421 | K40: Diurno | M40: =SUM(M18:M29) -> 643 | N40: =SUM(N18:N29) -> 30 | O40: =SUM(M40:N41) -> 673
C42: Notturno | E42: =SUM(E11:E17,E30:E34) -> 161 | F42: =SUM(F11:F17,F30:F34) -> 13 | G42: =SUM(E42:F43) -> 174 | K42: Notturno | M42: =SUM(M11:M17,M30:M34) -> 74 | N42: =SUM(N11:N17,N30:N34) -> 8 | O42: =SUM(M42:N43) -> 82
C44: Totale | E44: =SUM(E40:E43) -> 545 | F44: =SUM(F40:F43) -> 50 | G44: =SUM(E44:F45) -> 595 | K44: Totale | M44: =SUM(M40:M43) -> 717 | N44: =SUM(N40:N43) -> 38 | O44: =SUM(M44:N45) -> 755
C47: Ore di punta | K47: Ore di punta
C49: Intervallo Orario | E49: Volumi | G49: Totale | K49: Intervallo Orario | M49: Volumi | O49: Totale
E50: Leggeri | F50: Pesanti | M50: Leggeri | N50: Pesanti
C51: =CONCATENATE((AE10),".00"," - ",(AF10),".00") -> 7.00 - 8.00 | E51: =AB11 -> 52 | F51: =AC11 -> 2 | G51: =SUM(E51:F51) -> 54 | K51: =CONCATENATE((AK10),".00"," - ",(AL10),".00") -> 11.00 - 12.00 | M51: =AH11 -> 87 | N51: =AI11 -> 3 | O51: =SUM(M51:N51) -> 90
C52: =CONCATENATE((AE13),".00"," - ",(AF13),".00") -> 19.00 - 20.00 | E52: =AB14 -> 32 | F52: =AC14 -> 3 | G52: =SUM(E52:F52) -> 35 | K52: =CONCATENATE((AK13),".00"," - ",(AL13),".00") -> 16.00 - 17.00 | M52: =AH14 -> 145 | N52: =AI14 -> 2 | O52: =SUM(M52:N52) -> 147

Sheet GG5
B1: =+CONCATENATE("Comune di ",Origine!C3) -> Comune di Civitavecchia
B2: Monitoraggio del traffico
C4: Sezione: | D4: =+Origine!C4 -> Calata Principe Tommaso | K4: Data: | L4: =+Origine!B105 -> 45697
C7: =CONCATENATE("Direzione: ",Origine!D9) -> Direzione: Nord | K7: =CONCATENATE("Direzione: ",Origine!D469) -> Direzione: Sud
C9: Intervallo orario | E9: Volumi | G9: Totale | K9: Intervallo orario | M9: Volumi | O9: Totale | R9: =C7 -> Direzione: Nord | V9: =K7 -> Direzione: Sud
E10: Leggeri | F10: Pesanti | M10: Leggeri | N10: Pesanti | R10: Totale Veicoli | S10: HH | T10: Classe 1 | U10: Classe 2 | V10: Totale Veicoli | W10: HH | X10: Classe 1 | Y10: Classe 2 | AA10: Am | AB10: =MAX(R11:R23) -> 31 | AC10: =VLOOKUP(AB10,R11:S23,2,FALSE) -> 0.375 | AD10: =AC10+S12 -> 0.41666667 | AE10: =HOUR(AC10) -> 9 | AF10: =HOUR(AD10) -> 10 | AG10: Am | AH10: =MAX(V11:V23) -> 76 | AI10: =VLOOKUP(AH10,V11:W23,2,FALSE) -> 0.375 | AJ10: =AI10+W12 -> 0.41666667 | AK10: =HOUR(AI10) -> 9 | AL10: =HOUR(AJ10) -> 10
C11: 0.00 - 1.00 | E11: =Origine!H105 -> 24 | F11: =Origine!I105 -> 0 | G11: =SUM(E11:F11) -> 24 | K11: 0.00 - 1.00 | M11: =Origine!H561 -> 44 | N11: =Origine!I561 -> 0 | O11: =SUM(M11:N11) -> 44 | R11: =G11 -> 24 | S11: 0 | T11: =E11 -> 24 | U11: =F11 -> 0 | V11: =O11 -> 44 | W11: 0 | X11: =M11 -> 44 | Y11: =N11 -> 0 | AA11: Peak | AB11: =VLOOKUP($AC$10,$S$11:$U$34,2,FALSE) -> 26 | AC11: =VLOOKUP($AC$10,$S$11:$U$34,3,FALSE) -> 5 | AG11: Peak | AH11: =VLOOKUP($AI$10,$W$11:$Y$34,2,FALSE) -> 73 | AI11: =VLOOKUP($AI$10,$W$11:$Y$34,3,FALSE) -> 3
C12: 1.00 - 2.00 | E12: =Origine!H106 -> 4 | F12: =Origine!I106 -> 0 | G12: =SUM(E12:F12) -> 4 | K12: 1.00 - 2.00 | M12: =Origine!H562 -> 15 | N12: =Origine!I562 -> 0 | O12: =SUM(M12:N12) -> 15 | R12: =G12 -> 4 | S12: 0.041666667 | T12: =E12 -> 4 | U12: =F12 -> 0 | V12: =O12 -> 15 | W12: 0.041666667 | X12: =M12 -> 15 | Y12: =N12 -> 0
C13: 2.00 - 3.00 | E13: =Origine!H107 -> 17 | F13: =Origine!I107 -> 0 | G13: =SUM(E13:F13) -> 17 | K13: 2.00 - 3.00 | M13: =Origine!H563 -> 15 | N13: =Origine!I563 -> 0 | O13: =SUM(M13:N13) -> 15 | R13: =G13 -> 17 | S13: 0.083333333 | T13: =E13 -> 17 | U13: =F13 -> 0 | V13: =O13 -> 15 | W13: 0.083333333 | X13: =M13 -> 15 | Y13: =N13 -> 0 | AA13: Pm | AB13: =MAX(R24:R34) -> 30 | AC13: =VLOOKUP(AB13,R24:S34,2,FALSE) -> 0.75 | AD13: =AC13+S12 -> 0.79166667 | AE13: =HOUR(AC13) -> 18 | AF13: =HOUR(AD13) -> 19 | AG13: Pm | AH13: =MAX(V24:V34) -> 45 | AI13: =VLOOKUP(AH13,V24:W34,2,FALSE) -> 0.83333333 | AJ13: =AI13+W12 -> 0.875 | AK13: =HOUR(AI13) -> 20 | AL13: =HOUR(AJ13) -> 21
C14: 3.00 - 4.00 | E14: =Origine!H108 -> 2 | F14: =Origine!I108 -> 0 | G14: =SUM(E14:F14) -> 2 | K14: 3.00 - 4.00 | M14: =Origine!H564 -> 29 | N14: =Origine!I564 -> 0 | O14: =SUM(M14:N14) -> 29 | R14: =G14 -> 2 | S14: 0.125 | T14: =E14 -> 2 | U14: =F14 -> 0 | V14: =O14 -> 29 | W14: 0.125 | X14: =M14 -> 29 | Y14: =N14 -> 0 | AA14: Peak | AB14: =VLOOKUP($AC$13,$S$11:$U$34,2,FALSE) -> 28 | AC14: =VLOOKUP($AC$13,$S$11:$U$34,3,FALSE) -> 2 | AG14: Peak | AH14: =VLOOKUP($AI$13,$W$11:$Y$34,2,FALSE) -> 44 | AI14: =VLOOKUP($AI$13,$W$11:$Y$34,3,FALSE) -> 1
C15: 4.00 - 5.00 | E15: =Origine!H109 -> 5 | F15: =Origine!I109 -> 0 | G15: =SUM(E15:F15) -> 5 | K15: 4.00 - 5.00 | M15: =Origine!H565 -> 0 | N15: =Origine!I565 -> 0 | O15: =SUM(M15:N15) -> 0 | R15: =G15 -> 5 | S15: 0.16666667 | T15: =E15 -> 5 | U15: =F15 -> 0 | V15: =O15 -> 0 | W15: 0.16666667 | X15: =M15 -> 0 | Y15: =N15 -> 0
C16: 5.00 - 6.00 | E16: =Origine!H110 -> 12 | F16: =Origine!I110 -> 0 | G16: =SUM(E16:F16) -> 12 | K16: 5.00 - 6.00 | M16: =Origine!H566 -> 0 | N16: =Origine!I566 -> 0 | O16: =SUM(M16:N16) -> 0 | R16: =G16 -> 12 | S16: 0.20833333 | T16: =E16 -> 12 | U16: =F16 -> 0 | V16: =O16 -> 0 | W16: 0.20833333 | X16: =M16 -> 0 | Y16: =N16 -> 0
C17: 6.00 - 7.00 | E17: =Origine!H111 -> 17 | F17: =Origine!I111 -> 2 | G17: =SUM(E17:F17) -> 19 | K17: 6.00 - 7.00 | M17: =Origine!H567 -> 0 | N17: =Origine!I567 -> 0 | O17: =SUM(M17:N17) -> 0 | R17: =G17 -> 19 | S17: 0.25 | T17: =E17 -> 17 | U17: =F17 -> 2 | V17: =O17 -> 0 | W17: 0.25 | X17: =M17 -> 0 | Y17: =N17 -> 0
C18: 7.00 - 8.00 | E18: =Origine!H112 -> 26 | F18: =Origine!I112 -> 2 | G18: =SUM(E18:F18) -> 28 | K18: 7.00 - 8.00 | M18: =Origine!H568 -> 44 | N18: =Origine!I568 -> 0 | O18: =SUM(M18:N18) -> 44 | R18: =G18 -> 28 | S18: 0.29166667 | T18: =E18 -> 26 | U18: =F18 -> 2 | V18: =O18 -> 44 | W18: 0.29166667 | X18: =M18 -> 44 | Y18: =N18 -> 0
C19: 8.00 - 9.00 | E19: =Origine!H113 -> 25 | F19: =Origine!I113 -> 2 | G19: =SUM(E19:F19) -> 27 | K19: 8.00 - 9.00 | M19: =Origine!H569 -> 73 | N19: =Origine!I569 -> 2 | O19: =SUM(M19:N19) -> 75 | R19: =G19 -> 27 | S19: 0.33333333 | T19: =E19 -> 25 | U19: =F19 -> 2 | V19: =O19 -> 75 | W19: 0.33333333 | X19: =M19 -> 73 | Y19: =N19 -> 2
C20: 9.00 - 10.00 | E20: =Origine!H114 -> 26 | F20: =Origine!I114 -> 5 | G20: =SUM(E20:F20) -> 31 | K20: 9.00 - 10.00 | M20: =Origine!H570 -> 73 | N20: =Origine!I570 -> 3 | O20: =SUM(M20:N20) -> 76 | R20: =G20 -> 31 | S20: 0.375 | T20: =E20 -> 26 | U20: =F20 -> 5 | V20: =O20 -> 76 | W20: 0.375 | X20: =M20 -> 73 | Y20: =N20 -> 3
C21: 10.00 - 11.00 | E21: =Origine!H115 -> 20 | F21: =Origine!I115 -> 1 | G21: =SUM(E21:F21) -> 21 | K21: 10.00 - 11.00 | M21: =Origine!H571 -> 15 | N21: =Origine!I571 -> 2 | O21: =SUM(M21:N21) -> 17 | R21: =G21 -> 21 | S21: 0.41666667 | T21: =E21 -> 20 | U21: =F21 -> 1 | V21: =O21 -> 17 | W21: 0.41666667 | X21: =M21 -> 15 | Y21: =N21 -> 2
C22: 11.00 - 12.00 | E22: =Origine!H116 -> 24 | F22: =Origine!I116 -> 4 | G22: =SUM(E22:F22) -> 28 | K22: 11.00 - 12.00 | M22: =Origine!H572 -> 58 | N22: =Origine!I572 -> 3 | O22: =SUM(M22:N22) -> 61 | R22: =G22 -> 28 | S22: 0.45833333 | T22: =E22 -> 24 | U22: =F22 -> 4 | V22: =O22 -> 61 | W22: 0.45833333 | X22: =M22 -> 58 | Y22: =N22 -> 3
C23: 12.00 - 13.00 | E23: =Origine!H117 -> 26 | F23: =Origine!I117 -> 1 | G23: =SUM(E23:F23) -> 27 | K23: 12.00 - 13.00 | M23: =Origine!H573 -> 29 | N23: =Origine!I573 -> 2 | O23: =SUM(M23:N23) -> 31 | R23: =G23 -> 27 | S23: 0.5 | T23: =E23 -> 26 | U23: =F23 -> 1 | V23: =O23 -> 31 | W23: 0.5 | X23: =M23 -> 29 | Y23: =N23 -> 2
C24: 13.00 - 14.00 | E24: =Origine!H118 -> 19 | F24: =Origine!I118 -> 2 | G24: =SUM(E24:F24) -> 21 | K24: 13.00 - 14.00 | M24: =Origine!H574 -> 0 | N24: =Origine!I574 -> 1 | O24: =SUM(M24:N24) -> 1 | R24: =G24 -> 21 | S24: 0.54166667 | T24: =E24 -> 19 | U24: =F24 -> 2 | V24: =O24 -> 1 | W24: 0.54166667 | X24: =M24 -> 0 | Y24: =N24 -> 1
C25: 14.00 - 15.00 | E25: =Origine!H119 -> 10 | F25: =Origine!I119 -> 4 | G25: =SUM(E25:F25) -> 14 | K25: 14.00 - 15.00 | M25: =Origine!H575 -> 15 | N25: =Origine!I575 -> 1 | O25: =SUM(M25:N25) -> 16 | R25: =G25 -> 14 | S25: 0.58333333 | T25: =E25 -> 10 | U25: =F25 -> 4 | V25: =O25 -> 16 | W25: 0.58333333 | X25: =M25 -> 15 | Y25: =N25 -> 1
C26: 15.00 - 16.00 | E26: =Origine!H120 -> 25 | F26: =Origine!I120 -> 2 | G26: =SUM(E26:F26) -> 27 | K26: 15.00 - 16.00 | M26: =Origine!H576 -> 0 | N26: =Origine!I576 -> 1 | O26: =SUM(M26:N26) -> 1 | R26: =G26 -> 27 | S26: 0.625 | T26: =E26 -> 25 | U26: =F26 -> 2 | V26: =O26 -> 1 | W26: 0.625 | X26: =M26 -> 0 | Y26: =N26 -> 1
... C34: 23.00 - 24.00 | E34: =Origine!H128 -> 7 | F34: =Origine!I128 -> 0 | G34: =SUM(E34:F34) -> 7 | K34: 23.00 - 24.00 | M34: =Origine!H584 -> 0 | N34: =Origine!I584 -> 0 | O34: =SUM(M34:N34) -> 0 | R34: =G34 -> 7 | S34: 0.95833333 | T34: =E34 -> 7 | U34: =F34 -> 0 | V34: =O34 -> 0 | W34: 0.95833333 | X34: =M34 -> 0 | Y34: =N34 -> 0
C35: Totale | E35: =SUM(E11:E34) -> 407 | F35: =SUM(F11:F34) -> 37 | G35: =SUM(G11:G34) -> 444 | K35: Totale | M35: =SUM(M11:M34) -> 528 | N35: =SUM(N11:N34) -> 24 | O35: =SUM(O11:O34) -> 552
C38: Intervallo Orario | E38: Volumi | G38: Totale | K38: Intervallo Orario | M38: Volumi | O38: Totale
E39: Leggeri | F39: Pesanti | M39: Leggeri | N39: Pesanti
C40: Diurno | E40: =SUM(E18:E29) -> 274 | F40: =SUM(F18:F29) -> 30 | G40: =SUM(E40:F41) -> 304 | K40: Diurno | M40: =SUM(M18:M29) -> 322 | N40: =SUM(N18:N29) -> 19 | O40: =SUM(M40:N41) -> 341
C42: Notturno | E42: =SUM(E11:E17,E30:E34) -> 133 | F42: =SUM(F11:F17,F30:F34) -> 7 | G42: =SUM(E42:F43) -> 140 | K42: Notturno | M42: =SUM(M11:M17,M30:M34) -> 206 | N42: =SUM(N11:N17,N30:N34) -> 5 | O42: =SUM(M42:N43) -> 211
C44: Totale | E44: =SUM(E40:E43) -> 407 | F44: =SUM(F40:F43) -> 37 | G44: =SUM(E44:F45) -> 444 | K44: Totale | M44: =SUM(M40:M43) -> 528 | N44: =SUM(N40:N43) -> 24 | O44: =SUM(M44:N45) -> 552
C47: Ore di punta | K47: Ore di punta
C49: Intervallo Orario | E49: Volumi | G49: Totale | K49: Intervallo Orario | M49: Volumi | O49: Totale
E50: Leggeri | F50: Pesanti | M50: Leggeri | N50: Pesanti
C51: =CONCATENATE((AE10),".00"," - ",(AF10),".00") -> 9.00 - 10.00 | E51: =AB11 -> 26 | F51: =AC11 -> 5 | G51: =SUM(E51:F51) -> 31 | K51: =CONCATENATE((AK10),".00"," - ",(AL10),".00") -> 9.00 - 10.00 | M51: =AH11 -> 73 | N51: =AI11 -> 3 | O51: =SUM(M51:N51) -> 76
C52: =CONCATENATE((AE13),".00"," - ",(AF13),".00") -> 18.00 - 19.00 | E52: =AB14 -> 28 | F52: =AC14 -> 2 | G52: =SUM(E52:F52) -> 30 | K52: =CONCATENATE((AK13),".00"," - ",(AL13),".00") -> 20.00 - 21.00 | M52: =AH14 -> 44 | N52: =AI14 -> 1 | O52: =SUM(M52:N52) -> 45

Sheet GG6
B1: =+CONCATENATE("Comune di ",Origine!C3) -> Comune di Civitavecchia
B2: Monitoraggio del traffico
C4: Sezione: | D4: =+Origine!C4 -> Calata Principe Tommaso | K4: Data: | L4: =+Origine!B129 -> 45698
C7: =CONCATENATE("Direzione: ",Origine!D9) -> Direzione: Nord | K7: =CONCATENATE("Direzione: ",Origine!D469) -> Direzione: Sud
C9: Intervallo orario | E9: Volumi | G9: Totale | K9: Intervallo orario | M9: Volumi | O9: Totale | R9: =C7 -> Direzione: Nord | V9: =K7 -> Direzione: Sud
E10: Leggeri | F10: Pesanti | M10: Leggeri | N10: Pesanti | R10: Totale Veicoli | S10: HH | T10: Classe 1 | U10: Classe 2 | V10: Totale Veicoli | W10: HH | X10: Classe 1 | Y10: Classe 2 | AA10: Am | AB10: =MAX(R11:R23) -> 193 | AC10: =VLOOKUP(AB10,R11:S23,2,FALSE) -> 0.375 | AD10: =AC10+S12 -> 0.41666667 | AE10: =HOUR(AC10) -> 9 | AF10: =HOUR(AD10) -> 10 | AG10: Am | AH10: =MAX(V11:V23) -> 174 | AI10: =VLOOKUP(AH10,V11:W23,2,FALSE) -> 0.33333333 | AJ10: =AI10+W12 -> 0.375 | AK10: =HOUR(AI10) -> 8 | AL10: =HOUR(AJ10) -> 9
C11: 0.00 - 1.00 | E11: =Origine!H129 -> 5 | F11: =Origine!I129 -> 1 | G11: =SUM(E11:F11) -> 6 | K11: 0.00 - 1.00 | M11: =Origine!H585 -> 15 | N11: =Origine!I585 -> 1 | O11: =SUM(M11:N11) -> 16 | R11: =G11 -> 6 | S11: 0 | T11: =E11 -> 5 | U11: =F11 -> 1 | V11: =O11 -> 16 | W11: 0 | X11: =M11 -> 15 | Y11: =N11 -> 1 | AA11: Peak | AB11: =VLOOKUP($AC$10,$S$11:$U$34,2,FALSE) -> 167 | AC11: =VLOOKUP($AC$10,$S$11:$U$34,3,FALSE) -> 26 | AG11: Peak | AH11: =VLOOKUP($AI$10,$W$11:$Y$34,2,FALSE) -> 160 | AI11: =VLOOKUP($AI$10,$W$11:$Y$34,3,FALSE) -> 14
C12: 1.00 - 2.00 | E12: =Origine!H130 -> 4 | F12: =Origine!I130 -> 0 | G12: =SUM(E12:F12) -> 4 | K12: 1.00 - 2.00 | M12: =Origine!H586 -> 29 | N12: =Origine!I586 -> 0 | O12: =SUM(M12:N12) -> 29 | R12: =G12 -> 4 | S12: 0.041666667 | T12: =E12 -> 4 | U12: =F12 -> 0 | V12: =O12 -> 29 | W12: 0.041666667 | X12: =M12 -> 29 | Y12: =N12 -> 0
